BEGIN:VCALENDAR
VERSION:2.0
PRODID:-//Leura Golf Club - ECPv6.13.2.1//NONSGML v1.0//EN
CALSCALE:GREGORIAN
METHOD:PUBLISH
X-WR-CALNAME:Leura Golf Club
X-ORIGINAL-URL:https://www.leuragolfclub.com.au
X-WR-CALDESC:Events for Leura Golf Club
REFRESH-INTERVAL;VALUE=DURATION:PT1H
X-Robots-Tag:noindex
X-PUBLISHED-TTL:PT1H
BEGIN:VTIMEZONE
TZID:Australia/Melbourne
BEGIN:STANDARD
TZOFFSETFROM:+1100
TZOFFSETTO:+1000
TZNAME:AEST
DTSTART:20240406T160000
END:STANDARD
BEGIN:DAYLIGHT
TZOFFSETFROM:+1000
TZOFFSETTO:+1100
TZNAME:AEDT
DTSTART:20241005T160000
END:DAYLIGHT
END:VTIMEZONE
BEGIN:VTIMEZONE
TZID:Australia/Sydney
BEGIN:STANDARD
TZOFFSETFROM:+1100
TZOFFSETTO:+1000
TZNAME:AEST
DTSTART:20240406T160000
END:STANDARD
BEGIN:DAYLIGHT
TZOFFSETFROM:+1000
TZOFFSETTO:+1100
TZNAME:AEDT
DTSTART:20241005T160000
END:DAYLIGHT
END:VTIMEZONE
BEGIN:VEVENT
DTSTART;VALUE=DATE:20240928
DTEND;VALUE=DATE:20241014
DTSTAMP:20260422T082355
CREATED:20231220T011905Z
LAST-MODIFIED:20231220T012328Z
UID:10003627-1727481600-1728863999@www.leuragolfclub.com.au
SUMMARY:School Holidays
DESCRIPTION:
URL:https://www.leuragolfclub.com.au/event/school-holidays-17/
CATEGORIES:Holidays
END:VEVENT
BEGIN:VEVENT
DTSTART;VALUE=DATE:20241001
DTEND;VALUE=DATE:20241002
DTSTAMP:20260422T082355
CREATED:20231221T224017Z
LAST-MODIFIED:20231221T224017Z
UID:10003810-1727740800-1727827199@www.leuragolfclub.com.au
SUMMARY:9 Hole Comp
DESCRIPTION:Women’s 9 hole comp in the morning and social play at other times.
URL:https://www.leuragolfclub.com.au/event/9-hole-comp-2/2024-10-01/
CATEGORIES:Tuesday Comp
END:VEVENT
BEGIN:VEVENT
DTSTART;TZID=Australia/Sydney:20241001T100000
DTEND;TZID=Australia/Sydney:20241001T120000
DTSTAMP:20260422T082355
CREATED:20240413T005232Z
LAST-MODIFIED:20240413T005955Z
UID:10004168-1727776800-1727784000@www.leuragolfclub.com.au
SUMMARY:Junior Clinic
DESCRIPTION:Our School Holiday Junior Clinics are tailored for children aged 5 to 16\, offering a dynamic and engaging environment to learn and improve. Under Natasha’s expert guidance\, participants will delve into the essentials of golf\, from the precision of putting and the art of chipping to the power and technique behind a full swing. It’s more than just practice; it’s about building confidence\, discipline\, and friendships\, all while enjoying the great outdoors. https://www.leuragolfclub.com.au/school-holiday-clinics/
URL:https://www.leuragolfclub.com.au/event/junior-clinic/2024-10-01/
CATEGORIES:LGC Function
END:VEVENT
END:VCALENDAR