BEGIN:VCALENDAR
VERSION:2.0
PRODID:-//Leura Golf Club - ECPv6.13.2.1//NONSGML v1.0//EN
CALSCALE:GREGORIAN
METHOD:PUBLISH
X-WR-CALNAME:Leura Golf Club
X-ORIGINAL-URL:https://www.leuragolfclub.com.au
X-WR-CALDESC:Events for Leura Golf Club
REFRESH-INTERVAL;VALUE=DURATION:PT1H
X-Robots-Tag:noindex
X-PUBLISHED-TTL:PT1H
BEGIN:VTIMEZONE
TZID:Australia/Melbourne
BEGIN:STANDARD
TZOFFSETFROM:+1100
TZOFFSETTO:+1000
TZNAME:AEST
DTSTART:20240406T160000
END:STANDARD
BEGIN:DAYLIGHT
TZOFFSETFROM:+1000
TZOFFSETTO:+1100
TZNAME:AEDT
DTSTART:20241005T160000
END:DAYLIGHT
BEGIN:STANDARD
TZOFFSETFROM:+1100
TZOFFSETTO:+1000
TZNAME:AEST
DTSTART:20250405T160000
END:STANDARD
BEGIN:DAYLIGHT
TZOFFSETFROM:+1000
TZOFFSETTO:+1100
TZNAME:AEDT
DTSTART:20251004T160000
END:DAYLIGHT
END:VTIMEZONE
BEGIN:VEVENT
DTSTART;VALUE=DATE:20241219
DTEND;VALUE=DATE:20250206
DTSTAMP:20260422T055955
CREATED:20231220T012022Z
LAST-MODIFIED:20241105T004701Z
UID:10003628-1734566400-1738799999@www.leuragolfclub.com.au
SUMMARY:School Holidays
DESCRIPTION:
URL:https://www.leuragolfclub.com.au/event/school-holidays-18/
CATEGORIES:Holidays
END:VEVENT
BEGIN:VEVENT
DTSTART;VALUE=DATE:20241221
DTEND;VALUE=DATE:20241222
DTSTAMP:20260422T055955
CREATED:20231221T225843Z
LAST-MODIFIED:20241114T044747Z
UID:10003877-1734739200-1734825599@www.leuragolfclub.com.au
SUMMARY:Captain's v President's 2 Player Ambrose (Anniversary Cup)
DESCRIPTION:Play  \n\n2 Player Ambrose annual comp\nNormal comp price $20\nNearest the pins on all par threes\nPlayers gather at 10am for team allocation\, coffee/beer\n11am shotgun start\nChristmas hams as prizes\n\nPresentation  \n\nCocktails\, nibbles and awards from 4pm\nWinning team leader gets huge kudos and trophy\nLoser drinks a shoey from a small gumboot bought for the occasion\nGold Medal awards also presented
URL:https://www.leuragolfclub.com.au/event/captains-v-presidents-2-player-ambrose-anniversary-cup/
CATEGORIES:LGC Major Events
END:VEVENT
END:VCALENDAR