BEGIN:VCALENDAR
VERSION:2.0
PRODID:-//Leura Golf Club - ECPv6.13.2.1//NONSGML v1.0//EN
CALSCALE:GREGORIAN
METHOD:PUBLISH
X-WR-CALNAME:Leura Golf Club
X-ORIGINAL-URL:https://www.leuragolfclub.com.au
X-WR-CALDESC:Events for Leura Golf Club
REFRESH-INTERVAL;VALUE=DURATION:PT1H
X-Robots-Tag:noindex
X-PUBLISHED-TTL:PT1H
BEGIN:VTIMEZONE
TZID:Australia/Sydney
BEGIN:STANDARD
TZOFFSETFROM:+1100
TZOFFSETTO:+1000
TZNAME:AEST
DTSTART:20250405T160000
END:STANDARD
BEGIN:DAYLIGHT
TZOFFSETFROM:+1000
TZOFFSETTO:+1100
TZNAME:AEDT
DTSTART:20251004T160000
END:DAYLIGHT
END:VTIMEZONE
BEGIN:VEVENT
DTSTART;VALUE=DATE:20250412
DTEND;VALUE=DATE:20250429
DTSTAMP:20260421T135525
CREATED:20241105T005005Z
LAST-MODIFIED:20241105T005116Z
UID:10004275-1744416000-1745884799@www.leuragolfclub.com.au
SUMMARY:School Holidays
DESCRIPTION:
URL:https://www.leuragolfclub.com.au/event/school-holidays-19/
CATEGORIES:Holidays
END:VEVENT
BEGIN:VEVENT
DTSTART;VALUE=DATE:20250415
DTEND;VALUE=DATE:20250416
DTSTAMP:20260421T135525
CREATED:20241116T010621Z
LAST-MODIFIED:20241116T010831Z
UID:10004539-1744675200-1744761599@www.leuragolfclub.com.au
SUMMARY:Women's 9 Hole Stableford
DESCRIPTION:
URL:https://www.leuragolfclub.com.au/event/womens-9-hole-stableford-2/2025-04-15/
CATEGORIES:Tuesday Comp
END:VEVENT
BEGIN:VEVENT
DTSTART;TZID=Australia/Sydney:20250415T100000
DTEND;TZID=Australia/Sydney:20250415T120000
DTSTAMP:20260421T135525
CREATED:20250325T063704Z
LAST-MODIFIED:20250325T063844Z
UID:10004655-1744711200-1744718400@www.leuragolfclub.com.au
SUMMARY:Junior Golf Clinic
DESCRIPTION:
URL:https://www.leuragolfclub.com.au/event/junior-golf-clinic-3/2025-04-15/
CATEGORIES:Other
END:VEVENT
END:VCALENDAR