BEGIN:VCALENDAR
VERSION:2.0
PRODID:-//Leura Golf Club - ECPv6.13.2.1//NONSGML v1.0//EN
CALSCALE:GREGORIAN
METHOD:PUBLISH
X-WR-CALNAME:Leura Golf Club
X-ORIGINAL-URL:https://www.leuragolfclub.com.au
X-WR-CALDESC:Events for Leura Golf Club
REFRESH-INTERVAL;VALUE=DURATION:PT1H
X-Robots-Tag:noindex
X-PUBLISHED-TTL:PT1H
BEGIN:VTIMEZONE
TZID:Australia/Melbourne
BEGIN:STANDARD
TZOFFSETFROM:+1100
TZOFFSETTO:+1000
TZNAME:AEST
DTSTART:20250405T160000
END:STANDARD
BEGIN:DAYLIGHT
TZOFFSETFROM:+1000
TZOFFSETTO:+1100
TZNAME:AEDT
DTSTART:20251004T160000
END:DAYLIGHT
END:VTIMEZONE
BEGIN:VTIMEZONE
TZID:Australia/Sydney
BEGIN:STANDARD
TZOFFSETFROM:+1100
TZOFFSETTO:+1000
TZNAME:AEST
DTSTART:20250405T160000
END:STANDARD
BEGIN:DAYLIGHT
TZOFFSETFROM:+1000
TZOFFSETTO:+1100
TZNAME:AEDT
DTSTART:20251004T160000
END:DAYLIGHT
END:VTIMEZONE
BEGIN:VEVENT
DTSTART;VALUE=DATE:20250609
DTEND;VALUE=DATE:20250610
DTSTAMP:20260421T103557
CREATED:20231221T212146Z
LAST-MODIFIED:20240101T012503Z
UID:10003662-1749427200-1749513599@www.leuragolfclub.com.au
SUMMARY:King's Birthday
DESCRIPTION:
URL:https://www.leuragolfclub.com.au/event/kings-birthday/2025-06-09/
CATEGORIES:Holidays
END:VEVENT
BEGIN:VEVENT
DTSTART;TZID=Australia/Sydney:20250609T073000
DTEND;TZID=Australia/Sydney:20250609T095400
DTSTAMP:20260421T103557
CREATED:20250603T231902Z
LAST-MODIFIED:20250603T232017Z
UID:10004658-1749454200-1749462840@www.leuragolfclub.com.au
SUMMARY:Stableford Singles + 2BBB
DESCRIPTION:Tee times – 7.30 to 9.54
URL:https://www.leuragolfclub.com.au/event/stableford-singles-2bbb-17/
CATEGORIES:LGC other comp
END:VEVENT
END:VCALENDAR