BEGIN:VCALENDAR
VERSION:2.0
PRODID:-//Leura Golf Club - ECPv6.13.2.1//NONSGML v1.0//EN
CALSCALE:GREGORIAN
METHOD:PUBLISH
X-ORIGINAL-URL:https://www.leuragolfclub.com.au
X-WR-CALDESC:Events for Leura Golf Club
REFRESH-INTERVAL;VALUE=DURATION:PT1H
X-Robots-Tag:noindex
X-PUBLISHED-TTL:PT1H
BEGIN:VTIMEZONE
TZID:Australia/Sydney
BEGIN:STANDARD
TZOFFSETFROM:+1100
TZOFFSETTO:+1000
TZNAME:AEST
DTSTART:20250405T160000
END:STANDARD
BEGIN:DAYLIGHT
TZOFFSETFROM:+1000
TZOFFSETTO:+1100
TZNAME:AEDT
DTSTART:20251004T160000
END:DAYLIGHT
END:VTIMEZONE
BEGIN:VEVENT
DTSTART;VALUE=DATE:20250927
DTEND;VALUE=DATE:20251014
DTSTAMP:20260421T054907
CREATED:20241105T005548Z
LAST-MODIFIED:20241105T005548Z
UID:10004277-1758931200-1760399999@www.leuragolfclub.com.au
SUMMARY:School Holidays
DESCRIPTION:
URL:https://www.leuragolfclub.com.au/event/school-holidays-21/
CATEGORIES:Holidays
END:VEVENT
BEGIN:VEVENT
DTSTART;VALUE=DATE:20250930
DTEND;VALUE=DATE:20251001
DTSTAMP:20260421T054907
CREATED:20241116T011018Z
LAST-MODIFIED:20241116T011401Z
UID:10004559-1759219200-1759251600@www.leuragolfclub.com.au
SUMMARY:Women's 9 Hole Par/Ambrose
DESCRIPTION:
URL:https://www.leuragolfclub.com.au/event/womens-9-hole-par-ambrose/2025-09-30/
CATEGORIES:Tuesday Comp
END:VEVENT
BEGIN:VEVENT
DTSTART;TZID=Australia/Sydney:20250930T100000
DTEND;TZID=Australia/Sydney:20250930T120000
DTSTAMP:20260421T054907
CREATED:20250814T041439Z
LAST-MODIFIED:20250814T041549Z
UID:10004796-1759226400-1759233600@www.leuragolfclub.com.au
SUMMARY:Junior Golf Clinic
DESCRIPTION:Natasha Hemms school holiday golf clinic – $50 per person.
URL:https://www.leuragolfclub.com.au/event/junior-golf-clinic-4/2025-09-30/
END:VEVENT
BEGIN:VEVENT
DTSTART;TZID=Australia/Sydney:20250930T140000
DTEND;TZID=Australia/Sydney:20250930T150000
DTSTAMP:20260421T054907
CREATED:20250809T052047Z
LAST-MODIFIED:20250809T052521Z
UID:10004742-1759240800-1759244400@www.leuragolfclub.com.au
SUMMARY:Women's Beginner Golf Clinic
DESCRIPTION:
URL:https://www.leuragolfclub.com.au/event/womens-beginner-golf-clinic/2025-09-30/
END:VEVENT
END:VCALENDAR