BEGIN:VCALENDAR
VERSION:2.0
PRODID:-//Leura Golf Club - ECPv6.13.2.1//NONSGML v1.0//EN
CALSCALE:GREGORIAN
METHOD:PUBLISH
X-ORIGINAL-URL:https://www.leuragolfclub.com.au
X-WR-CALDESC:Events for Leura Golf Club
REFRESH-INTERVAL;VALUE=DURATION:PT1H
X-Robots-Tag:noindex
X-PUBLISHED-TTL:PT1H
BEGIN:VTIMEZONE
TZID:Australia/Sydney
BEGIN:STANDARD
TZOFFSETFROM:+1100
TZOFFSETTO:+1000
TZNAME:AEST
DTSTART:20250405T160000
END:STANDARD
BEGIN:DAYLIGHT
TZOFFSETFROM:+1000
TZOFFSETTO:+1100
TZNAME:AEDT
DTSTART:20251004T160000
END:DAYLIGHT
END:VTIMEZONE
BEGIN:VEVENT
DTSTART;VALUE=DATE:20250927
DTEND;VALUE=DATE:20251014
DTSTAMP:20260421T005307
CREATED:20241105T005548Z
LAST-MODIFIED:20241105T005548Z
UID:10004277-1758931200-1760399999@www.leuragolfclub.com.au
SUMMARY:School Holidays
DESCRIPTION:
URL:https://www.leuragolfclub.com.au/event/school-holidays-21/
CATEGORIES:Holidays
END:VEVENT
BEGIN:VEVENT
DTSTART;VALUE=DATE:20251004
DTEND;VALUE=DATE:20251005
DTSTAMP:20260421T005307
CREATED:20241112T044012Z
LAST-MODIFIED:20250108T003816Z
UID:10004587-1759536000-1759622399@www.leuragolfclub.com.au
SUMMARY:Men's Monthly Medal + Medley Stroke
DESCRIPTION:
URL:https://www.leuragolfclub.com.au/event/mens-monthly-medal-medley-stroke-10/2025-10-04/
CATEGORIES:Saturday Medley Comp
END:VEVENT
BEGIN:VEVENT
DTSTART;VALUE=DATE:20251004
DTEND;VALUE=DATE:20251005
DTSTAMP:20260421T005307
CREATED:20241115T020137Z
LAST-MODIFIED:20250108T021016Z
UID:10004406-1759536000-1759622399@www.leuragolfclub.com.au
SUMMARY:Haig & Haig Shield Rd 1
DESCRIPTION:The Haig and Haig Shield  is a men’s stroke event over 2 weeks with the winner being the person with the best aggregate nett score for the two rounds from across all grades. \nVisitors are welcome\, can win the day competition but are not eligible to win the Shield.
URL:https://www.leuragolfclub.com.au/event/haig-haig-shield-rd-1-8/
CATEGORIES:LGC Major Events
END:VEVENT
BEGIN:VEVENT
DTSTART;VALUE=DATE:20251004
DTEND;VALUE=DATE:20251005
DTSTAMP:20260421T005307
CREATED:20250108T003718Z
LAST-MODIFIED:20250108T003718Z
UID:10004577-1759536000-1759622399@www.leuragolfclub.com.au
SUMMARY:Stableford Singles - white tees
DESCRIPTION:
URL:https://www.leuragolfclub.com.au/event/stableford-singles-white-tees-4/2025-10-04/
CATEGORIES:Saturday Medley Comp
END:VEVENT
END:VCALENDAR