BEGIN:VCALENDAR
VERSION:2.0
PRODID:-//Leura Golf Club - ECPv6.13.2.1//NONSGML v1.0//EN
CALSCALE:GREGORIAN
METHOD:PUBLISH
X-ORIGINAL-URL:https://www.leuragolfclub.com.au
X-WR-CALDESC:Events for Leura Golf Club
REFRESH-INTERVAL;VALUE=DURATION:PT1H
X-Robots-Tag:noindex
X-PUBLISHED-TTL:PT1H
BEGIN:VTIMEZONE
TZID:Australia/Sydney
BEGIN:STANDARD
TZOFFSETFROM:+1100
TZOFFSETTO:+1000
TZNAME:AEST
DTSTART:20250405T160000
END:STANDARD
BEGIN:DAYLIGHT
TZOFFSETFROM:+1000
TZOFFSETTO:+1100
TZNAME:AEDT
DTSTART:20251004T160000
END:DAYLIGHT
END:VTIMEZONE
BEGIN:VEVENT
DTSTART;VALUE=DATE:20250927
DTEND;VALUE=DATE:20251014
DTSTAMP:20260421T054909
CREATED:20241105T005548Z
LAST-MODIFIED:20241105T005548Z
UID:10004277-1758931200-1760399999@www.leuragolfclub.com.au
SUMMARY:School Holidays
DESCRIPTION:
URL:https://www.leuragolfclub.com.au/event/school-holidays-21/
CATEGORIES:Holidays
END:VEVENT
BEGIN:VEVENT
DTSTART;VALUE=DATE:20251007
DTEND;VALUE=DATE:20251008
DTSTAMP:20260421T054909
CREATED:20241116T010239Z
LAST-MODIFIED:20241116T010239Z
UID:10004515-1759795200-1759881599@www.leuragolfclub.com.au
SUMMARY:Women's Monthly Medal - 18 hole stroke
DESCRIPTION:
URL:https://www.leuragolfclub.com.au/event/womens-monthly-medal-18-hole-stroke/2025-10-07/
CATEGORIES:Tuesday Comp
END:VEVENT
BEGIN:VEVENT
DTSTART;TZID=Australia/Sydney:20251007T100000
DTEND;TZID=Australia/Sydney:20251007T120000
DTSTAMP:20260421T054909
CREATED:20250814T041439Z
LAST-MODIFIED:20250814T041549Z
UID:10004797-1759831200-1759838400@www.leuragolfclub.com.au
SUMMARY:Junior Golf Clinic
DESCRIPTION:Natasha Hemms school holiday golf clinic – $50 per person.
URL:https://www.leuragolfclub.com.au/event/junior-golf-clinic-4/2025-10-07/
END:VEVENT
END:VCALENDAR