BEGIN:VCALENDAR
VERSION:2.0
PRODID:-//Leura Golf Club - ECPv6.13.2.1//NONSGML v1.0//EN
CALSCALE:GREGORIAN
METHOD:PUBLISH
X-ORIGINAL-URL:https://www.leuragolfclub.com.au
X-WR-CALDESC:Events for Leura Golf Club
REFRESH-INTERVAL;VALUE=DURATION:PT1H
X-Robots-Tag:noindex
X-PUBLISHED-TTL:PT1H
BEGIN:VTIMEZONE
TZID:Australia/Sydney
BEGIN:STANDARD
TZOFFSETFROM:+1100
TZOFFSETTO:+1000
TZNAME:AEST
DTSTART:20260404T160000
END:STANDARD
BEGIN:DAYLIGHT
TZOFFSETFROM:+1000
TZOFFSETTO:+1100
TZNAME:AEDT
DTSTART:20261003T160000
END:DAYLIGHT
END:VTIMEZONE
BEGIN:VEVENT
DTSTART;VALUE=DATE:20260926
DTEND;VALUE=DATE:20261013
DTSTAMP:20260420T233612
CREATED:20251226T040954Z
LAST-MODIFIED:20251226T040954Z
UID:10005242-1790380800-1791849599@www.leuragolfclub.com.au
SUMMARY:School Holidays
DESCRIPTION:
URL:https://www.leuragolfclub.com.au/event/school-holidays-25/
CATEGORIES:Holidays
END:VEVENT
BEGIN:VEVENT
DTSTART;VALUE=DATE:20261004
DTEND;VALUE=DATE:20261005
DTSTAMP:20260420T233612
CREATED:20251228T053331Z
LAST-MODIFIED:20251228T053628Z
UID:10005310-1791072000-1791158399@www.leuragolfclub.com.au
SUMMARY:Daylight Savings @ 2am
DESCRIPTION:
URL:https://www.leuragolfclub.com.au/event/daylight-savings-starts/
CATEGORIES:Other
END:VEVENT
BEGIN:VEVENT
DTSTART;VALUE=DATE:20261004
DTEND;VALUE=DATE:20261005
DTSTAMP:20260420T233612
CREATED:20260102T235908Z
LAST-MODIFIED:20260103T003247Z
UID:10005388-1791072000-1791158399@www.leuragolfclub.com.au
SUMMARY:Wentworth Falls Open
DESCRIPTION:
URL:https://www.leuragolfclub.com.au/event/wentworth-falls-open-6/
END:VEVENT
END:VCALENDAR