BEGIN:VCALENDAR
VERSION:2.0
PRODID:-//Leura Golf Club - ECPv6.13.2.1//NONSGML v1.0//EN
CALSCALE:GREGORIAN
METHOD:PUBLISH
X-ORIGINAL-URL:https://www.leuragolfclub.com.au
X-WR-CALDESC:Events for Leura Golf Club
REFRESH-INTERVAL;VALUE=DURATION:PT1H
X-Robots-Tag:noindex
X-PUBLISHED-TTL:PT1H
BEGIN:VTIMEZONE
TZID:Australia/Melbourne
BEGIN:STANDARD
TZOFFSETFROM:+1100
TZOFFSETTO:+1000
TZNAME:AEST
DTSTART:20240406T160000
END:STANDARD
BEGIN:DAYLIGHT
TZOFFSETFROM:+1000
TZOFFSETTO:+1100
TZNAME:AEDT
DTSTART:20241005T160000
END:DAYLIGHT
END:VTIMEZONE
BEGIN:VTIMEZONE
TZID:Australia/Sydney
BEGIN:STANDARD
TZOFFSETFROM:+1100
TZOFFSETTO:+1000
TZNAME:AEST
DTSTART:20240406T160000
END:STANDARD
BEGIN:DAYLIGHT
TZOFFSETFROM:+1000
TZOFFSETTO:+1100
TZNAME:AEDT
DTSTART:20241005T160000
END:DAYLIGHT
END:VTIMEZONE
BEGIN:VEVENT
DTSTART;VALUE=DATE:20240817
DTEND;VALUE=DATE:20240818
DTSTAMP:20260422T013602
CREATED:20240101T230430Z
LAST-MODIFIED:20240101T230515Z
UID:10004161-1723852800-1723939199@www.leuragolfclub.com.au
SUMMARY:Medley Stableford Singles - white tees
DESCRIPTION:
URL:https://www.leuragolfclub.com.au/event/medley-stableford-singles-white-tees-10/2024-08-17/
CATEGORIES:Saturday Medley Comp
END:VEVENT
BEGIN:VEVENT
DTSTART;VALUE=DATE:20240810
DTEND;VALUE=DATE:20240811
DTSTAMP:20260422T013602
CREATED:20240703T060451Z
LAST-MODIFIED:20240703T060451Z
UID:10003729-1723248000-1723334399@www.leuragolfclub.com.au
SUMMARY:Men’s Monthly Medal + Medley Stroke
DESCRIPTION:Visitors welcome. Visitors can win the competition but not the Medal.
URL:https://www.leuragolfclub.com.au/event/mens-monthly-medal-medley-stroke-8-2023-02-04-2-2/2024-08-10/
CATEGORIES:Saturday Medley Comp
END:VEVENT
BEGIN:VEVENT
DTSTART;VALUE=DATE:20240810
DTEND;VALUE=DATE:20240811
DTSTAMP:20260422T013602
CREATED:20240101T230430Z
LAST-MODIFIED:20240101T230515Z
UID:10004160-1723248000-1723334399@www.leuragolfclub.com.au
SUMMARY:Medley Stableford Singles - white tees
DESCRIPTION:
URL:https://www.leuragolfclub.com.au/event/medley-stableford-singles-white-tees-10/2024-08-10/
CATEGORIES:Saturday Medley Comp
END:VEVENT
BEGIN:VEVENT
DTSTART;VALUE=DATE:20240803
DTEND;VALUE=DATE:20240804
DTSTAMP:20260422T013602
CREATED:20240703T061249Z
LAST-MODIFIED:20240730T070831Z
UID:10004176-1722643200-1722729599@www.leuragolfclub.com.au
SUMMARY:Medley Stableford Singles + 2BBB
DESCRIPTION:
URL:https://www.leuragolfclub.com.au/event/medley-stableford-2bbb-5/
CATEGORIES:Saturday Medley Comp
END:VEVENT
BEGIN:VEVENT
DTSTART;VALUE=DATE:20240727
DTEND;VALUE=DATE:20240728
DTSTAMP:20260422T013602
CREATED:20240101T014730Z
LAST-MODIFIED:20240703T065815Z
UID:10004112-1722067200-1722099600@www.leuragolfclub.com.au
SUMMARY:Medley Stableford Singles - white tees
DESCRIPTION:
URL:https://www.leuragolfclub.com.au/event/medley-stableford-singles-11/2024-07-27/
CATEGORIES:Saturday Medley Comp
END:VEVENT
BEGIN:VEVENT
DTSTART;VALUE=DATE:20240720
DTEND;VALUE=DATE:20240721
DTSTAMP:20260422T013602
CREATED:20240101T014730Z
LAST-MODIFIED:20240703T065815Z
UID:10004111-1721462400-1721494800@www.leuragolfclub.com.au
SUMMARY:Medley Stableford Singles - white tees
DESCRIPTION:
URL:https://www.leuragolfclub.com.au/event/medley-stableford-singles-11/2024-07-20/
CATEGORIES:Saturday Medley Comp
END:VEVENT
BEGIN:VEVENT
DTSTART;VALUE=DATE:20240713
DTEND;VALUE=DATE:20240714
DTSTAMP:20260422T013602
CREATED:20240101T014730Z
LAST-MODIFIED:20240703T065815Z
UID:10004188-1720857600-1720890000@www.leuragolfclub.com.au
SUMMARY:Medley Stableford Singles - white tees
DESCRIPTION:
URL:https://www.leuragolfclub.com.au/event/medley-stableford-singles-11/2024-07-13/
CATEGORIES:Saturday Medley Comp
END:VEVENT
BEGIN:VEVENT
DTSTART;VALUE=DATE:20240706
DTEND;VALUE=DATE:20240707
DTSTAMP:20260422T013602
CREATED:20240703T060707Z
LAST-MODIFIED:20240703T060707Z
UID:10004175-1720224000-1720310399@www.leuragolfclub.com.au
SUMMARY:Men’s Monthly Medal + Medley Stroke
DESCRIPTION:
URL:https://www.leuragolfclub.com.au/event/mens-monthly-medal-medley-stroke-8/
CATEGORIES:Saturday Medley Comp
END:VEVENT
BEGIN:VEVENT
DTSTART;VALUE=DATE:20240706
DTEND;VALUE=DATE:20240707
DTSTAMP:20260422T013602
CREATED:20240101T014730Z
LAST-MODIFIED:20240703T065815Z
UID:10004187-1720224000-1720310399@www.leuragolfclub.com.au
SUMMARY:Medley Stableford Singles - white tees
DESCRIPTION:
URL:https://www.leuragolfclub.com.au/event/medley-stableford-singles-11/2024-07-06/
CATEGORIES:Saturday Medley Comp
END:VEVENT
BEGIN:VEVENT
DTSTART;VALUE=DATE:20240629
DTEND;VALUE=DATE:20240630
DTSTAMP:20260422T013602
CREATED:20240101T013530Z
LAST-MODIFIED:20240101T013530Z
UID:10004100-1719619200-1719705599@www.leuragolfclub.com.au
SUMMARY:Medley Stableford + 2BBB
DESCRIPTION:
URL:https://www.leuragolfclub.com.au/event/medley-stableford-2bbb/
CATEGORIES:Saturday Medley Comp
END:VEVENT
BEGIN:VEVENT
DTSTART;VALUE=DATE:20240622
DTEND;VALUE=DATE:20240623
DTSTAMP:20260422T013602
CREATED:20240101T012807Z
LAST-MODIFIED:20240101T012843Z
UID:10004096-1719043200-1719075600@www.leuragolfclub.com.au
SUMMARY:Medley Stableford Singles
DESCRIPTION:
URL:https://www.leuragolfclub.com.au/event/stableford-singles/2024-06-22/
CATEGORIES:Saturday Medley Comp
END:VEVENT
BEGIN:VEVENT
DTSTART;VALUE=DATE:20240615
DTEND;VALUE=DATE:20240616
DTSTAMP:20260422T013602
CREATED:20240101T012807Z
LAST-MODIFIED:20240101T012843Z
UID:10004095-1718409600-1718495999@www.leuragolfclub.com.au
SUMMARY:Medley Stableford Singles
DESCRIPTION:
URL:https://www.leuragolfclub.com.au/event/stableford-singles/2024-06-15/
CATEGORIES:Saturday Medley Comp
END:VEVENT
BEGIN:VEVENT
DTSTART;VALUE=DATE:20240608
DTEND;VALUE=DATE:20240609
DTSTAMP:20260422T013602
CREATED:20240101T012644Z
LAST-MODIFIED:20240101T012700Z
UID:10004094-1717804800-1717891199@www.leuragolfclub.com.au
SUMMARY:Medley Par +2BBB
DESCRIPTION:
URL:https://www.leuragolfclub.com.au/event/medley-par-2bbb/
CATEGORIES:Saturday Medley Comp
END:VEVENT
BEGIN:VEVENT
DTSTART;VALUE=DATE:20240601
DTEND;VALUE=DATE:20240602
DTSTAMP:20260422T013602
CREATED:20231221T222906Z
LAST-MODIFIED:20240101T023839Z
UID:10003728-1717200000-1717286399@www.leuragolfclub.com.au
SUMMARY:Men’s Monthly Medal + Medley Stroke
DESCRIPTION:Visitors welcome. Visitors can win the competition but not the Medal.
URL:https://www.leuragolfclub.com.au/event/mens-monthly-medal-medley-stroke-8-2023-02-04-2/2024-06-01/
CATEGORIES:Saturday Medley Comp
END:VEVENT
BEGIN:VEVENT
DTSTART;VALUE=DATE:20240525
DTEND;VALUE=DATE:20240526
DTSTAMP:20260422T013602
CREATED:20240101T004028Z
LAST-MODIFIED:20240101T012429Z
UID:10004093-1716624000-1716656400@www.leuragolfclub.com.au
SUMMARY:Medley Stableford Singles - white tees
DESCRIPTION:
URL:https://www.leuragolfclub.com.au/event/medley-stableford-singles-white-tees-7/2024-05-25/
CATEGORIES:Saturday Medley Comp
END:VEVENT
BEGIN:VEVENT
DTSTART;VALUE=DATE:20240518
DTEND;VALUE=DATE:20240519
DTSTAMP:20260422T013602
CREATED:20240101T004028Z
LAST-MODIFIED:20240101T012429Z
UID:10004092-1715990400-1716076799@www.leuragolfclub.com.au
SUMMARY:Medley Stableford Singles - white tees
DESCRIPTION:
URL:https://www.leuragolfclub.com.au/event/medley-stableford-singles-white-tees-7/2024-05-18/
CATEGORIES:Saturday Medley Comp
END:VEVENT
BEGIN:VEVENT
DTSTART;VALUE=DATE:20240511
DTEND;VALUE=DATE:20240512
DTSTAMP:20260422T013602
CREATED:20240101T003810Z
LAST-MODIFIED:20240101T003810Z
UID:10004091-1715385600-1715471999@www.leuragolfclub.com.au
SUMMARY:Medley Stableford Singles + 2BBB
DESCRIPTION:
URL:https://www.leuragolfclub.com.au/event/medley-stableford-singles-2bbb-27/
CATEGORIES:Saturday Medley Comp
END:VEVENT
BEGIN:VEVENT
DTSTART;VALUE=DATE:20240504
DTEND;VALUE=DATE:20240505
DTSTAMP:20260422T013602
CREATED:20231221T222906Z
LAST-MODIFIED:20240101T023839Z
UID:10003727-1714780800-1714867199@www.leuragolfclub.com.au
SUMMARY:Men’s Monthly Medal + Medley Stroke
DESCRIPTION:Visitors welcome. Visitors can win the competition but not the Medal.
URL:https://www.leuragolfclub.com.au/event/mens-monthly-medal-medley-stroke-8-2023-02-04-2/2024-05-04/
CATEGORIES:Saturday Medley Comp
END:VEVENT
BEGIN:VEVENT
DTSTART;VALUE=DATE:20240427
DTEND;VALUE=DATE:20240428
DTSTAMP:20260422T013602
CREATED:20240101T001415Z
LAST-MODIFIED:20240101T001415Z
UID:10004001-1714204800-1714237200@www.leuragolfclub.com.au
SUMMARY:Par Singles
DESCRIPTION:
URL:https://www.leuragolfclub.com.au/event/par-singles/2024-04-27/
CATEGORIES:Saturday Medley Comp
END:VEVENT
BEGIN:VEVENT
DTSTART;VALUE=DATE:20240420
DTEND;VALUE=DATE:20240421
DTSTAMP:20260422T013602
CREATED:20240101T000903Z
LAST-MODIFIED:20240101T000903Z
UID:10003995-1713600000-1713632400@www.leuragolfclub.com.au
SUMMARY:Stableford Singles + 2BBB
DESCRIPTION:
URL:https://www.leuragolfclub.com.au/event/stableford-singles-2bbb-3/2024-04-20/
CATEGORIES:Saturday Medley Comp
END:VEVENT
BEGIN:VEVENT
DTSTART;VALUE=DATE:20240413
DTEND;VALUE=DATE:20240414
DTSTAMP:20260422T013602
CREATED:20240101T000903Z
LAST-MODIFIED:20240101T000903Z
UID:10003994-1712995200-1713027600@www.leuragolfclub.com.au
SUMMARY:Stableford Singles + 2BBB
DESCRIPTION:
URL:https://www.leuragolfclub.com.au/event/stableford-singles-2bbb-3/2024-04-13/
CATEGORIES:Saturday Medley Comp
END:VEVENT
BEGIN:VEVENT
DTSTART;VALUE=DATE:20240406
DTEND;VALUE=DATE:20240407
DTSTAMP:20260422T013602
CREATED:20231221T222906Z
LAST-MODIFIED:20240101T023839Z
UID:10003726-1712361600-1712447999@www.leuragolfclub.com.au
SUMMARY:Men’s Monthly Medal + Medley Stroke
DESCRIPTION:Visitors welcome. Visitors can win the competition but not the Medal.
URL:https://www.leuragolfclub.com.au/event/mens-monthly-medal-medley-stroke-8-2023-02-04-2/2024-04-06/
CATEGORIES:Saturday Medley Comp
END:VEVENT
BEGIN:VEVENT
DTSTART;VALUE=DATE:20240323
DTEND;VALUE=DATE:20240324
DTSTAMP:20260422T013602
CREATED:20240101T000903Z
LAST-MODIFIED:20240101T000903Z
UID:10003993-1711180800-1711213200@www.leuragolfclub.com.au
SUMMARY:Stableford Singles + 2BBB
DESCRIPTION:
URL:https://www.leuragolfclub.com.au/event/stableford-singles-2bbb-3/2024-03-23/
CATEGORIES:Saturday Medley Comp
END:VEVENT
BEGIN:VEVENT
DTSTART;VALUE=DATE:20240316
DTEND;VALUE=DATE:20240317
DTSTAMP:20260422T013602
CREATED:20240101T001415Z
LAST-MODIFIED:20240101T001415Z
UID:10004000-1710547200-1710633599@www.leuragolfclub.com.au
SUMMARY:Par Singles
DESCRIPTION:
URL:https://www.leuragolfclub.com.au/event/par-singles/2024-03-16/
CATEGORIES:Saturday Medley Comp
END:VEVENT
BEGIN:VEVENT
DTSTART;VALUE=DATE:20240309
DTEND;VALUE=DATE:20240310
DTSTAMP:20260422T013602
CREATED:20240101T000903Z
LAST-MODIFIED:20240101T000903Z
UID:10003992-1709942400-1710028799@www.leuragolfclub.com.au
SUMMARY:Stableford Singles + 2BBB
DESCRIPTION:
URL:https://www.leuragolfclub.com.au/event/stableford-singles-2bbb-3/2024-03-09/
CATEGORIES:Saturday Medley Comp
END:VEVENT
BEGIN:VEVENT
DTSTART;VALUE=DATE:20240302
DTEND;VALUE=DATE:20240303
DTSTAMP:20260422T013602
CREATED:20231221T222906Z
LAST-MODIFIED:20240101T023839Z
UID:10003725-1709337600-1709423999@www.leuragolfclub.com.au
SUMMARY:Men’s Monthly Medal + Medley Stroke
DESCRIPTION:Visitors welcome. Visitors can win the competition but not the Medal.
URL:https://www.leuragolfclub.com.au/event/mens-monthly-medal-medley-stroke-8-2023-02-04-2/2024-03-02/
CATEGORIES:Saturday Medley Comp
END:VEVENT
BEGIN:VEVENT
DTSTART;VALUE=DATE:20240224
DTEND;VALUE=DATE:20240225
DTSTAMP:20260422T013602
CREATED:20231221T221648Z
LAST-MODIFIED:20231221T221648Z
UID:10003704-1708761600-1708794000@www.leuragolfclub.com.au
SUMMARY:Medley Par
DESCRIPTION:
URL:https://www.leuragolfclub.com.au/event/medley-par-2/2024-02-24/
CATEGORIES:Saturday Medley Comp
END:VEVENT
BEGIN:VEVENT
DTSTART;VALUE=DATE:20240217
DTEND;VALUE=DATE:20240218
DTSTAMP:20260422T013602
CREATED:20231221T221537Z
LAST-MODIFIED:20231221T222046Z
UID:10003702-1708156800-1708189200@www.leuragolfclub.com.au
SUMMARY:Medley Stableford Singles + 2BBB
DESCRIPTION:
URL:https://www.leuragolfclub.com.au/event/medley-single-stableford-2bbb/2024-02-17/
CATEGORIES:Saturday Medley Comp
END:VEVENT
BEGIN:VEVENT
DTSTART;VALUE=DATE:20240210
DTEND;VALUE=DATE:20240211
DTSTAMP:20260422T013602
CREATED:20231221T221902Z
LAST-MODIFIED:20231221T221902Z
UID:10003705-1707523200-1707609599@www.leuragolfclub.com.au
SUMMARY:Medley Stableford Singles
DESCRIPTION:
URL:https://www.leuragolfclub.com.au/event/medley-stableford-singles-8/
CATEGORIES:Saturday Medley Comp
END:VEVENT
BEGIN:VEVENT
DTSTART;VALUE=DATE:20240203
DTEND;VALUE=DATE:20240204
DTSTAMP:20260422T013602
CREATED:20231221T222906Z
LAST-MODIFIED:20240101T023839Z
UID:10003724-1706918400-1707004799@www.leuragolfclub.com.au
SUMMARY:Men’s Monthly Medal + Medley Stroke
DESCRIPTION:Visitors welcome. Visitors can win the competition but not the Medal.
URL:https://www.leuragolfclub.com.au/event/mens-monthly-medal-medley-stroke-8-2023-02-04-2/2024-02-03/
CATEGORIES:Saturday Medley Comp
END:VEVENT
END:VCALENDAR