BEGIN:VCALENDAR
VERSION:2.0
PRODID:-//Leura Golf Club - ECPv6.13.2.1//NONSGML v1.0//EN
CALSCALE:GREGORIAN
METHOD:PUBLISH
X-ORIGINAL-URL:https://www.leuragolfclub.com.au
X-WR-CALDESC:Events for Leura Golf Club
REFRESH-INTERVAL;VALUE=DURATION:PT1H
X-Robots-Tag:noindex
X-PUBLISHED-TTL:PT1H
BEGIN:VTIMEZONE
TZID:Australia/Sydney
BEGIN:STANDARD
TZOFFSETFROM:+1100
TZOFFSETTO:+1000
TZNAME:AEST
DTSTART:20250405T160000
END:STANDARD
BEGIN:DAYLIGHT
TZOFFSETFROM:+1000
TZOFFSETTO:+1100
TZNAME:AEDT
DTSTART:20251004T160000
END:DAYLIGHT
BEGIN:STANDARD
TZOFFSETFROM:+1100
TZOFFSETTO:+1000
TZNAME:AEST
DTSTART:20260404T160000
END:STANDARD
BEGIN:DAYLIGHT
TZOFFSETFROM:+1000
TZOFFSETTO:+1100
TZNAME:AEDT
DTSTART:20261003T160000
END:DAYLIGHT
END:VTIMEZONE
BEGIN:VTIMEZONE
TZID:Australia/Melbourne
BEGIN:STANDARD
TZOFFSETFROM:+1100
TZOFFSETTO:+1000
TZNAME:AEST
DTSTART:20250405T160000
END:STANDARD
BEGIN:DAYLIGHT
TZOFFSETFROM:+1000
TZOFFSETTO:+1100
TZNAME:AEDT
DTSTART:20251004T160000
END:DAYLIGHT
BEGIN:STANDARD
TZOFFSETFROM:+1100
TZOFFSETTO:+1000
TZNAME:AEST
DTSTART:20260404T160000
END:STANDARD
BEGIN:DAYLIGHT
TZOFFSETFROM:+1000
TZOFFSETTO:+1100
TZNAME:AEDT
DTSTART:20261003T160000
END:DAYLIGHT
END:VTIMEZONE
BEGIN:VEVENT
DTSTART;VALUE=DATE:20251129
DTEND;VALUE=DATE:20251130
DTSTAMP:20260421T023700
CREATED:20250810T100137Z
LAST-MODIFIED:20250810T100202Z
UID:10004795-1764374400-1764460799@www.leuragolfclub.com.au
SUMMARY:How Charity day backup
DESCRIPTION:
URL:https://www.leuragolfclub.com.au/event/how-charity-day-backup/
END:VEVENT
BEGIN:VEVENT
DTSTART;VALUE=DATE:20251129
DTEND;VALUE=DATE:20251130
DTSTAMP:20260421T023700
CREATED:20241115T042119Z
LAST-MODIFIED:20241115T042119Z
UID:10004498-1764374400-1764460799@www.leuragolfclub.com.au
SUMMARY:Stableford Singles + 2BBB
DESCRIPTION:
URL:https://www.leuragolfclub.com.au/event/stableford-singles-2bbb-13/
CATEGORIES:Saturday Medley Comp
END:VEVENT
BEGIN:VEVENT
DTSTART;VALUE=DATE:20251203
DTEND;VALUE=DATE:20251204
DTSTAMP:20260421T023700
CREATED:20241114T041757Z
LAST-MODIFIED:20241114T041757Z
UID:10004377-1764720000-1764806399@www.leuragolfclub.com.au
SUMMARY:Stableford Singles + 2BBB
DESCRIPTION:
URL:https://www.leuragolfclub.com.au/event/stableford-singles-2bbb-6/2025-12-03/
CATEGORIES:Wednesday Medley Comp
END:VEVENT
BEGIN:VEVENT
DTSTART;VALUE=DATE:20251204
DTEND;VALUE=DATE:20251205
DTSTAMP:20260421T023700
CREATED:20250110T000319Z
LAST-MODIFIED:20250110T000422Z
UID:10004644-1764806400-1764892799@www.leuragolfclub.com.au
SUMMARY:Trivia @ 7pm
DESCRIPTION:When: Every Thursday\, questions begin at 7 pm\nEntry Fee: Only $2 per player\nPrizes: Get ready to win delightful prizes including wine\, club vouchers\, and delicious chocolates.\n\nDon’t miss out on the action! Our bistro opens at 5:30 pm\, perfect for grabbing a bite before the trivia starts. Create your own table with friends and family\, and make it a night to remember. Whether you’re a trivia buff or just looking for a lively evening out\, there’s something for everyone.
URL:https://www.leuragolfclub.com.au/event/trivia-7pm-3/2025-12-04/
CATEGORIES:LGC Function
END:VEVENT
BEGIN:VEVENT
DTSTART;VALUE=DATE:20251206
DTEND;VALUE=DATE:20251207
DTSTAMP:20260421T023700
CREATED:20241112T044012Z
LAST-MODIFIED:20250108T003816Z
UID:10004589-1764979200-1765065599@www.leuragolfclub.com.au
SUMMARY:Men's Monthly Medal + Medley Stroke
DESCRIPTION:
URL:https://www.leuragolfclub.com.au/event/mens-monthly-medal-medley-stroke-10/2025-12-06/
CATEGORIES:Saturday Medley Comp
END:VEVENT
BEGIN:VEVENT
DTSTART;VALUE=DATE:20251206
DTEND;VALUE=DATE:20251207
DTSTAMP:20260421T023700
CREATED:20241112T044402Z
LAST-MODIFIED:20250809T042636Z
UID:10004353-1764979200-1765065599@www.leuragolfclub.com.au
SUMMARY:Men's Medal of Medals
DESCRIPTION:
URL:https://www.leuragolfclub.com.au/event/mens-medal-of-medals-2/
CATEGORIES:LGC Major Events
END:VEVENT
BEGIN:VEVENT
DTSTART;VALUE=DATE:20251206
DTEND;VALUE=DATE:20251207
DTSTAMP:20260421T023700
CREATED:20241115T043007Z
LAST-MODIFIED:20250809T042717Z
UID:10004502-1764979200-1765065599@www.leuragolfclub.com.au
SUMMARY:Stableford Singles - white tees
DESCRIPTION:
URL:https://www.leuragolfclub.com.au/event/stableford-singles-white-tees-10/
CATEGORIES:Saturday Medley Comp
END:VEVENT
BEGIN:VEVENT
DTSTART;VALUE=DATE:20251210
DTEND;VALUE=DATE:20251211
DTSTAMP:20260421T023700
CREATED:20241114T042434Z
LAST-MODIFIED:20241114T042434Z
UID:10004389-1765324800-1765411199@www.leuragolfclub.com.au
SUMMARY:Stableford Singles + 2BBB
DESCRIPTION:
URL:https://www.leuragolfclub.com.au/event/stableford-singles-2bbb-7/2025-12-10/
CATEGORIES:Wednesday Medley Comp
END:VEVENT
BEGIN:VEVENT
DTSTART;VALUE=DATE:20251211
DTEND;VALUE=DATE:20251212
DTSTAMP:20260421T023700
CREATED:20250110T000319Z
LAST-MODIFIED:20250110T000422Z
UID:10004645-1765411200-1765497599@www.leuragolfclub.com.au
SUMMARY:Trivia @ 7pm
DESCRIPTION:When: Every Thursday\, questions begin at 7 pm\nEntry Fee: Only $2 per player\nPrizes: Get ready to win delightful prizes including wine\, club vouchers\, and delicious chocolates.\n\nDon’t miss out on the action! Our bistro opens at 5:30 pm\, perfect for grabbing a bite before the trivia starts. Create your own table with friends and family\, and make it a night to remember. Whether you’re a trivia buff or just looking for a lively evening out\, there’s something for everyone.
URL:https://www.leuragolfclub.com.au/event/trivia-7pm-3/2025-12-11/
CATEGORIES:LGC Function
END:VEVENT
BEGIN:VEVENT
DTSTART;VALUE=DATE:20251213
DTEND;VALUE=DATE:20251214
DTSTAMP:20260421T023700
CREATED:20241114T044614Z
LAST-MODIFIED:20251204T102443Z
UID:10004405-1765584000-1765670399@www.leuragolfclub.com.au
SUMMARY:Captain’s v President’s 2 Player Ambrose (Anniversary Cup)
DESCRIPTION:Play  \n\n2 Player Ambrose annual comp\nNormal comp price $20\nNearest the pins on all par threes\nPlayers gather at 8.30 am for team allocation\, coffee/beer\n9 am shotgun start\nChristmas hams as prizes\n\nPresentation  \n\nCocktails\, nibbles and awards after\nWinning team leader gets huge kudos and trophy\nLoser drinks a shoey from a small gumboot bought for the occasion\nGold Medal awards also presented
URL:https://www.leuragolfclub.com.au/event/captains-v-presidents-2-player-ambrose-anniversary-cup-2/
CATEGORIES:LGC Major Events
END:VEVENT
BEGIN:VEVENT
DTSTART;VALUE=DATE:20251217
DTEND;VALUE=DATE:20251218
DTSTAMP:20260421T023700
CREATED:20241114T044000Z
LAST-MODIFIED:20241114T044000Z
UID:10004404-1765929600-1766015999@www.leuragolfclub.com.au
SUMMARY:Stableford Singles + 2BBB
DESCRIPTION:
URL:https://www.leuragolfclub.com.au/event/stableford-singles-2bbb-8/2025-12-17/
CATEGORIES:Wednesday Medley Comp
END:VEVENT
BEGIN:VEVENT
DTSTART;VALUE=DATE:20251218
DTEND;VALUE=DATE:20251219
DTSTAMP:20260421T023700
CREATED:20250110T000319Z
LAST-MODIFIED:20250110T000422Z
UID:10004646-1766016000-1766102399@www.leuragolfclub.com.au
SUMMARY:Trivia @ 7pm
DESCRIPTION:When: Every Thursday\, questions begin at 7 pm\nEntry Fee: Only $2 per player\nPrizes: Get ready to win delightful prizes including wine\, club vouchers\, and delicious chocolates.\n\nDon’t miss out on the action! Our bistro opens at 5:30 pm\, perfect for grabbing a bite before the trivia starts. Create your own table with friends and family\, and make it a night to remember. Whether you’re a trivia buff or just looking for a lively evening out\, there’s something for everyone.
URL:https://www.leuragolfclub.com.au/event/trivia-7pm-3/2025-12-18/
CATEGORIES:LGC Function
END:VEVENT
BEGIN:VEVENT
DTSTART;VALUE=DATE:20251220
DTEND;VALUE=DATE:20251221
DTSTAMP:20260421T023700
CREATED:20241115T042256Z
LAST-MODIFIED:20241115T042256Z
UID:10004499-1766188800-1766275199@www.leuragolfclub.com.au
SUMMARY:Par Singles + 2BBB
DESCRIPTION:
URL:https://www.leuragolfclub.com.au/event/par-singles-2bbb-7/
CATEGORIES:Saturday Medley Comp
END:VEVENT
BEGIN:VEVENT
DTSTART;VALUE=DATE:20251220
DTEND;VALUE=DATE:20260202
DTSTAMP:20260421T023700
CREATED:20241105T005742Z
LAST-MODIFIED:20241105T005911Z
UID:10004278-1766188800-1769990399@www.leuragolfclub.com.au
SUMMARY:School Holidays
DESCRIPTION:
URL:https://www.leuragolfclub.com.au/event/school-holidays-22/
CATEGORIES:Holidays
END:VEVENT
BEGIN:VEVENT
DTSTART;VALUE=DATE:20251224
DTEND;VALUE=DATE:20251225
DTSTAMP:20260421T023700
CREATED:20241115T031019Z
LAST-MODIFIED:20241115T031339Z
UID:10004472-1766534400-1766620799@www.leuragolfclub.com.au
SUMMARY:Stableford Singles + 2BBB
DESCRIPTION:
URL:https://www.leuragolfclub.com.au/event/stableford-singles-2bbb-11/2025-12-24/
CATEGORIES:Wednesday Medley Comp
END:VEVENT
BEGIN:VEVENT
DTSTART;VALUE=DATE:20251225
DTEND;VALUE=DATE:20251226
DTSTAMP:20260421T023700
CREATED:20231221T210622Z
LAST-MODIFIED:20240101T021611Z
UID:10003639-1766620800-1766707199@www.leuragolfclub.com.au
SUMMARY:Christmas Day
DESCRIPTION:
URL:https://www.leuragolfclub.com.au/event/christmas-day-2/2025-12-25/
CATEGORIES:Holidays
END:VEVENT
BEGIN:VEVENT
DTSTART;VALUE=DATE:20251226
DTEND;VALUE=DATE:20251227
DTSTAMP:20260421T023700
CREATED:20231221T210702Z
LAST-MODIFIED:20240101T021535Z
UID:10003644-1766707200-1766793599@www.leuragolfclub.com.au
SUMMARY:Boxing Day
DESCRIPTION:
URL:https://www.leuragolfclub.com.au/event/boxing-day-2/2025-12-26/
CATEGORIES:Holidays
END:VEVENT
BEGIN:VEVENT
DTSTART;VALUE=DATE:20251227
DTEND;VALUE=DATE:20251228
DTSTAMP:20260421T023700
CREATED:20241115T025420Z
LAST-MODIFIED:20241115T025932Z
UID:10004462-1766793600-1766879999@www.leuragolfclub.com.au
SUMMARY:Stableford Singles + 2BBB
DESCRIPTION:
URL:https://www.leuragolfclub.com.au/event/stableford-singles-2bbb-10/2025-12-27/
CATEGORIES:Saturday Medley Comp
END:VEVENT
BEGIN:VEVENT
DTSTART;VALUE=DATE:20251231
DTEND;VALUE=DATE:20260101
DTSTAMP:20260421T023700
CREATED:20241115T042352Z
LAST-MODIFIED:20241115T042352Z
UID:10004500-1767139200-1767225599@www.leuragolfclub.com.au
SUMMARY:2 Player Ambrose
DESCRIPTION:
URL:https://www.leuragolfclub.com.au/event/2-player-ambrose-7/
CATEGORIES:Wednesday Medley Comp
END:VEVENT
BEGIN:VEVENT
DTSTART;VALUE=DATE:20260101
DTEND;VALUE=DATE:20260102
DTSTAMP:20260421T023700
CREATED:20231221T210919Z
LAST-MODIFIED:20231227T034851Z
UID:10003649-1767225600-1767311999@www.leuragolfclub.com.au
SUMMARY:New Years Day
DESCRIPTION:
URL:https://www.leuragolfclub.com.au/event/new-years-day/2026-01-01/
CATEGORIES:Holidays
END:VEVENT
BEGIN:VEVENT
DTSTART;VALUE=DATE:20260103
DTEND;VALUE=DATE:20260104
DTSTAMP:20260421T023700
CREATED:20251226T023440Z
LAST-MODIFIED:20251226T030344Z
UID:10004808-1767398400-1767484799@www.leuragolfclub.com.au
SUMMARY:Medley Stroke (Inc. Men's MM)
DESCRIPTION:Visitors welcome\, can win the daily event but not the medal. Medal is for male members.
URL:https://www.leuragolfclub.com.au/event/medley-stroke-mens-mm/2026-01-03/
CATEGORIES:Saturday Medley Comp
END:VEVENT
BEGIN:VEVENT
DTSTART;VALUE=DATE:20260103
DTEND;VALUE=DATE:20260104
DTSTAMP:20260421T023700
CREATED:20251226T023832Z
LAST-MODIFIED:20251226T023832Z
UID:10004820-1767398400-1767484799@www.leuragolfclub.com.au
SUMMARY:Stableford Singles - white tees
DESCRIPTION:
URL:https://www.leuragolfclub.com.au/event/stableford-singles-white-tees-14/2026-01-03/
CATEGORIES:Saturday Medley Comp
END:VEVENT
BEGIN:VEVENT
DTSTART;TZID=Australia/Sydney:20260106T100000
DTEND;TZID=Australia/Sydney:20260106T120000
DTSTAMP:20260421T023700
CREATED:20251122T010621Z
LAST-MODIFIED:20251122T010621Z
UID:10004805-1767693600-1767700800@www.leuragolfclub.com.au
SUMMARY:Junior Golf Clinic
DESCRIPTION:
URL:https://www.leuragolfclub.com.au/event/junior-golf-clinic-5/2026-01-06/
END:VEVENT
BEGIN:VEVENT
DTSTART;VALUE=DATE:20260107
DTEND;VALUE=DATE:20260108
DTSTAMP:20260421T023700
CREATED:20251226T055100Z
LAST-MODIFIED:20251226T055100Z
UID:10005270-1767744000-1767830399@www.leuragolfclub.com.au
SUMMARY:Stableford Singles + 2BBB
DESCRIPTION:
URL:https://www.leuragolfclub.com.au/event/stableford-singles-2bbb-21/2026-01-07/
CATEGORIES:Wednesday Medley Comp
END:VEVENT
BEGIN:VEVENT
DTSTART;VALUE=DATE:20260110
DTEND;VALUE=DATE:20260111
DTSTAMP:20260421T023700
CREATED:20251226T031302Z
LAST-MODIFIED:20251226T051621Z
UID:10004833-1768003200-1768089599@www.leuragolfclub.com.au
SUMMARY:Stableford Singles + 2BBB
DESCRIPTION:
URL:https://www.leuragolfclub.com.au/event/stableford-singles-2bbb-20/2026-01-10/
CATEGORIES:Saturday Medley Comp
END:VEVENT
BEGIN:VEVENT
DTSTART;TZID=Australia/Sydney:20260113T100000
DTEND;TZID=Australia/Sydney:20260113T120000
DTSTAMP:20260421T023700
CREATED:20251122T010621Z
LAST-MODIFIED:20251122T010621Z
UID:10004806-1768298400-1768305600@www.leuragolfclub.com.au
SUMMARY:Junior Golf Clinic
DESCRIPTION:
URL:https://www.leuragolfclub.com.au/event/junior-golf-clinic-5/2026-01-13/
END:VEVENT
BEGIN:VEVENT
DTSTART;VALUE=DATE:20260114
DTEND;VALUE=DATE:20260115
DTSTAMP:20260421T023700
CREATED:20251226T054744Z
LAST-MODIFIED:20251226T054744Z
UID:10005263-1768348800-1768435199@www.leuragolfclub.com.au
SUMMARY:Par Singles + 2BBB
DESCRIPTION:
URL:https://www.leuragolfclub.com.au/event/par-singles-2bbb-10/2026-01-14/
CATEGORIES:Wednesday Medley Comp
END:VEVENT
BEGIN:VEVENT
DTSTART;VALUE=DATE:20260117
DTEND;VALUE=DATE:20260118
DTSTAMP:20260421T023700
CREATED:20251226T052645Z
LAST-MODIFIED:20251226T052645Z
UID:10005250-1768608000-1768694399@www.leuragolfclub.com.au
SUMMARY:Stableford Singles + 2B Multiplier
DESCRIPTION:
URL:https://www.leuragolfclub.com.au/event/stableford-singles-2b-multiplier/2026-01-17/
CATEGORIES:Saturday Medley Comp
END:VEVENT
BEGIN:VEVENT
DTSTART;TZID=Australia/Sydney:20260120T100000
DTEND;TZID=Australia/Sydney:20260120T120000
DTSTAMP:20260421T023700
CREATED:20251122T010621Z
LAST-MODIFIED:20251122T010621Z
UID:10004807-1768903200-1768910400@www.leuragolfclub.com.au
SUMMARY:Junior Golf Clinic
DESCRIPTION:
URL:https://www.leuragolfclub.com.au/event/junior-golf-clinic-5/2026-01-20/
END:VEVENT
BEGIN:VEVENT
DTSTART;VALUE=DATE:20260121
DTEND;VALUE=DATE:20260122
DTSTAMP:20260421T023700
CREATED:20251226T060400Z
LAST-MODIFIED:20251226T060754Z
UID:10005283-1768953600-1769039999@www.leuragolfclub.com.au
SUMMARY:Stableford Singles + 2B Aggregate
DESCRIPTION:
URL:https://www.leuragolfclub.com.au/event/stableford-singles-2b-aggregate-3/2026-01-21/
CATEGORIES:Wednesday Medley Comp
END:VEVENT
END:VCALENDAR