BEGIN:VCALENDAR
VERSION:2.0
PRODID:-//Leura Golf Club - ECPv6.13.2.1//NONSGML v1.0//EN
CALSCALE:GREGORIAN
METHOD:PUBLISH
X-ORIGINAL-URL:https://www.leuragolfclub.com.au
X-WR-CALDESC:Events for Leura Golf Club
REFRESH-INTERVAL;VALUE=DURATION:PT1H
X-Robots-Tag:noindex
X-PUBLISHED-TTL:PT1H
BEGIN:VTIMEZONE
TZID:Australia/Sydney
BEGIN:STANDARD
TZOFFSETFROM:+1100
TZOFFSETTO:+1000
TZNAME:AEST
DTSTART:20260404T160000
END:STANDARD
BEGIN:DAYLIGHT
TZOFFSETFROM:+1000
TZOFFSETTO:+1100
TZNAME:AEDT
DTSTART:20261003T160000
END:DAYLIGHT
END:VTIMEZONE
BEGIN:VTIMEZONE
TZID:Australia/Melbourne
BEGIN:STANDARD
TZOFFSETFROM:+1100
TZOFFSETTO:+1000
TZNAME:AEST
DTSTART:20260404T160000
END:STANDARD
BEGIN:DAYLIGHT
TZOFFSETFROM:+1000
TZOFFSETTO:+1100
TZNAME:AEDT
DTSTART:20261003T160000
END:DAYLIGHT
END:VTIMEZONE
BEGIN:VEVENT
DTSTART;VALUE=DATE:20260314
DTEND;VALUE=DATE:20260315
DTSTAMP:20260420T052935
CREATED:20251226T031302Z
LAST-MODIFIED:20251226T051621Z
UID:10004835-1773446400-1773532799@www.leuragolfclub.com.au
SUMMARY:Stableford Singles + 2BBB
DESCRIPTION:
URL:https://www.leuragolfclub.com.au/event/stableford-singles-2bbb-20/2026-03-14/
CATEGORIES:Saturday Medley Comp
END:VEVENT
BEGIN:VEVENT
DTSTART;VALUE=DATE:20260318
DTEND;VALUE=DATE:20260319
DTSTAMP:20260420T052935
CREATED:20251226T060400Z
LAST-MODIFIED:20251226T060754Z
UID:10005284-1773792000-1773878399@www.leuragolfclub.com.au
SUMMARY:Stableford Singles + 2B Aggregate
DESCRIPTION:
URL:https://www.leuragolfclub.com.au/event/stableford-singles-2b-aggregate-3/2026-03-18/
CATEGORIES:Wednesday Medley Comp
END:VEVENT
BEGIN:VEVENT
DTSTART;VALUE=DATE:20260319
DTEND;VALUE=DATE:20260320
DTSTAMP:20260420T052935
CREATED:20260102T050607Z
LAST-MODIFIED:20260102T050932Z
UID:10005340-1773878400-1773964799@www.leuragolfclub.com.au
SUMMARY:Trivia @ 7pm
DESCRIPTION:When: Every Thursday\, questions begin at 7 pm\nEntry Fee: Only $2 per player\nPrizes: Get ready to win delightful prizes including wine\, club vouchers\, and delicious chocolates.\n\nDon’t miss out on the action! Our bistro opens at 5:30 pm\, perfect for grabbing a bite before the trivia starts. Create your own table with friends and family\, and make it a night to remember. Whether you’re a trivia buff or just looking for a lively evening out\, there’s something for everyone.
URL:https://www.leuragolfclub.com.au/event/trivia-7pm-4/2026-03-19/
CATEGORIES:LGC Function
END:VEVENT
BEGIN:VEVENT
DTSTART;VALUE=DATE:20260321
DTEND;VALUE=DATE:20260322
DTSTAMP:20260420T052935
CREATED:20251226T052645Z
LAST-MODIFIED:20251226T052645Z
UID:10005251-1774051200-1774137599@www.leuragolfclub.com.au
SUMMARY:Stableford Singles + 2B Multiplier
DESCRIPTION:
URL:https://www.leuragolfclub.com.au/event/stableford-singles-2b-multiplier/2026-03-21/
CATEGORIES:Saturday Medley Comp
END:VEVENT
BEGIN:VEVENT
DTSTART;VALUE=DATE:20260322
DTEND;VALUE=DATE:20260323
DTSTAMP:20260420T052935
CREATED:20260106T041039Z
LAST-MODIFIED:20260106T041039Z
UID:10005405-1774137600-1774223999@www.leuragolfclub.com.au
SUMMARY:Future Golf Shotgun
DESCRIPTION:
URL:https://www.leuragolfclub.com.au/event/future-golf-shotgun/
CATEGORIES:Other
END:VEVENT
BEGIN:VEVENT
DTSTART;VALUE=DATE:20260325
DTEND;VALUE=DATE:20260326
DTSTAMP:20260420T052935
CREATED:20251226T061202Z
LAST-MODIFIED:20251226T061202Z
UID:10005298-1774396800-1774483199@www.leuragolfclub.com.au
SUMMARY:Stableford Singles + 2BBB
DESCRIPTION:
URL:https://www.leuragolfclub.com.au/event/stableford-singles-2bbb-22/2026-03-25/
CATEGORIES:Wednesday Medley Comp
END:VEVENT
BEGIN:VEVENT
DTSTART;VALUE=DATE:20260326
DTEND;VALUE=DATE:20260327
DTSTAMP:20260420T052935
CREATED:20260102T050607Z
LAST-MODIFIED:20260102T050932Z
UID:10005341-1774483200-1774569599@www.leuragolfclub.com.au
SUMMARY:Trivia @ 7pm
DESCRIPTION:When: Every Thursday\, questions begin at 7 pm\nEntry Fee: Only $2 per player\nPrizes: Get ready to win delightful prizes including wine\, club vouchers\, and delicious chocolates.\n\nDon’t miss out on the action! Our bistro opens at 5:30 pm\, perfect for grabbing a bite before the trivia starts. Create your own table with friends and family\, and make it a night to remember. Whether you’re a trivia buff or just looking for a lively evening out\, there’s something for everyone.
URL:https://www.leuragolfclub.com.au/event/trivia-7pm-4/2026-03-26/
CATEGORIES:LGC Function
END:VEVENT
BEGIN:VEVENT
DTSTART;VALUE=DATE:20260326
DTEND;VALUE=DATE:20260327
DTSTAMP:20260420T052935
CREATED:20260226T022940Z
LAST-MODIFIED:20260226T023106Z
UID:10005410-1774483200-1774569599@www.leuragolfclub.com.au
SUMMARY:BM Seniors Open
DESCRIPTION:Download Registration Form
URL:https://www.leuragolfclub.com.au/event/soom-event/
CATEGORIES:BM District Event
END:VEVENT
BEGIN:VEVENT
DTSTART;VALUE=DATE:20260328
DTEND;VALUE=DATE:20260329
DTSTAMP:20260420T052935
CREATED:20251226T035718Z
LAST-MODIFIED:20251226T041610Z
UID:10004848-1774656000-1774742399@www.leuragolfclub.com.au
SUMMARY:Par Singles + 2BBB
DESCRIPTION:
URL:https://www.leuragolfclub.com.au/event/par-singles-2bbb-9/2026-03-28/
CATEGORIES:Saturday Medley Comp
END:VEVENT
BEGIN:VEVENT
DTSTART;VALUE=DATE:20260401
DTEND;VALUE=DATE:20260402
DTSTAMP:20260420T052935
CREATED:20251226T055100Z
LAST-MODIFIED:20251226T055100Z
UID:10005273-1775001600-1775087999@www.leuragolfclub.com.au
SUMMARY:Stableford Singles + 2BBB
DESCRIPTION:
URL:https://www.leuragolfclub.com.au/event/stableford-singles-2bbb-21/2026-04-01/
CATEGORIES:Wednesday Medley Comp
END:VEVENT
BEGIN:VEVENT
DTSTART;VALUE=DATE:20260402
DTEND;VALUE=DATE:20260403
DTSTAMP:20260420T052935
CREATED:20260102T050607Z
LAST-MODIFIED:20260102T050932Z
UID:10005342-1775088000-1775174399@www.leuragolfclub.com.au
SUMMARY:Trivia @ 7pm
DESCRIPTION:When: Every Thursday\, questions begin at 7 pm\nEntry Fee: Only $2 per player\nPrizes: Get ready to win delightful prizes including wine\, club vouchers\, and delicious chocolates.\n\nDon’t miss out on the action! Our bistro opens at 5:30 pm\, perfect for grabbing a bite before the trivia starts. Create your own table with friends and family\, and make it a night to remember. Whether you’re a trivia buff or just looking for a lively evening out\, there’s something for everyone.
URL:https://www.leuragolfclub.com.au/event/trivia-7pm-4/2026-04-02/
CATEGORIES:LGC Function
END:VEVENT
BEGIN:VEVENT
DTSTART;VALUE=DATE:20260403
DTEND;VALUE=DATE:20260404
DTSTAMP:20260420T052935
CREATED:20251226T042510Z
LAST-MODIFIED:20251226T042510Z
UID:10005246-1775174400-1775260799@www.leuragolfclub.com.au
SUMMARY:Good Friday
DESCRIPTION:
URL:https://www.leuragolfclub.com.au/event/good-friday-7/
CATEGORIES:Holidays
END:VEVENT
BEGIN:VEVENT
DTSTART;VALUE=DATE:20260403
DTEND;VALUE=DATE:20260422
DTSTAMP:20260420T052935
CREATED:20251226T040503Z
LAST-MODIFIED:20251226T040618Z
UID:10004857-1775174400-1776815999@www.leuragolfclub.com.au
SUMMARY:School Holidays
DESCRIPTION:
URL:https://www.leuragolfclub.com.au/event/school-holidays-23/
CATEGORIES:Holidays
END:VEVENT
BEGIN:VEVENT
DTSTART;VALUE=DATE:20260404
DTEND;VALUE=DATE:20260405
DTSTAMP:20260420T052935
CREATED:20251226T042956Z
LAST-MODIFIED:20251226T042956Z
UID:10005248-1775260800-1775347199@www.leuragolfclub.com.au
SUMMARY:Wallace Cup (2BBB) + Stableford Singles
DESCRIPTION:Wallace Cup is a Medley Stableford 2BBB competition. It is an open event.
URL:https://www.leuragolfclub.com.au/event/wallace-cup-2bbb-stableford-singles/
CATEGORIES:LGC Major Events
END:VEVENT
BEGIN:VEVENT
DTSTART;VALUE=DATE:20260405
DTEND;VALUE=DATE:20260406
DTSTAMP:20260420T052935
CREATED:20251226T042552Z
LAST-MODIFIED:20251226T042552Z
UID:10005247-1775347200-1775433599@www.leuragolfclub.com.au
SUMMARY:Easter Sunday
DESCRIPTION:
URL:https://www.leuragolfclub.com.au/event/easter-sunday-5/
CATEGORIES:Holidays
END:VEVENT
BEGIN:VEVENT
DTSTART;VALUE=DATE:20260405
DTEND;VALUE=DATE:20260406
DTSTAMP:20260420T052935
CREATED:20251226T043159Z
LAST-MODIFIED:20251226T043159Z
UID:10005249-1775347200-1775433599@www.leuragolfclub.com.au
SUMMARY:Relton Cup (Mixed Stableford 2BBB)
DESCRIPTION:Relton Cup is a Stableford 2BBB event. It is an open event with teams consisting of one female and one male.
URL:https://www.leuragolfclub.com.au/event/relton-cup-mixed-stableford-2bbb-3/
CATEGORIES:LGC Major Events
END:VEVENT
BEGIN:VEVENT
DTSTART;TZID=Australia/Sydney:20260405T030000
DTEND;TZID=Australia/Sydney:20260405T030000
DTSTAMP:20260420T052935
CREATED:20251228T052935Z
LAST-MODIFIED:20251228T053143Z
UID:10005309-1775358000-1775358000@www.leuragolfclub.com.au
SUMMARY:Daylight Savings ends
DESCRIPTION:
URL:https://www.leuragolfclub.com.au/event/daylight-savings-ends-2/
CATEGORIES:Other
END:VEVENT
BEGIN:VEVENT
DTSTART;VALUE=DATE:20260408
DTEND;VALUE=DATE:20260409
DTSTAMP:20260420T052935
CREATED:20260101T044901Z
LAST-MODIFIED:20260101T044901Z
UID:10005312-1775606400-1775692799@www.leuragolfclub.com.au
SUMMARY:Stableford Singles + 2BBB
DESCRIPTION:
URL:https://www.leuragolfclub.com.au/event/stableford-singles-2bbb-23/2026-04-08/
CATEGORIES:Wednesday Medley Comp
END:VEVENT
BEGIN:VEVENT
DTSTART;VALUE=DATE:20260409
DTEND;VALUE=DATE:20260410
DTSTAMP:20260420T052935
CREATED:20260102T050607Z
LAST-MODIFIED:20260102T050932Z
UID:10005343-1775692800-1775779199@www.leuragolfclub.com.au
SUMMARY:Trivia @ 7pm
DESCRIPTION:When: Every Thursday\, questions begin at 7 pm\nEntry Fee: Only $2 per player\nPrizes: Get ready to win delightful prizes including wine\, club vouchers\, and delicious chocolates.\n\nDon’t miss out on the action! Our bistro opens at 5:30 pm\, perfect for grabbing a bite before the trivia starts. Create your own table with friends and family\, and make it a night to remember. Whether you’re a trivia buff or just looking for a lively evening out\, there’s something for everyone.
URL:https://www.leuragolfclub.com.au/event/trivia-7pm-4/2026-04-09/
CATEGORIES:LGC Function
END:VEVENT
BEGIN:VEVENT
DTSTART;VALUE=DATE:20260411
DTEND;VALUE=DATE:20260412
DTSTAMP:20260420T052935
CREATED:20251226T051715Z
LAST-MODIFIED:20251226T051739Z
UID:10004811-1775865600-1775951999@www.leuragolfclub.com.au
SUMMARY:Medley Stroke (Inc. Men's MM)
DESCRIPTION:Visitors welcome\, can win the daily event but not the medal. Medal is for male members.
URL:https://www.leuragolfclub.com.au/event/medley-stroke-inc-mens-mm/
CATEGORIES:Saturday Medley Comp
END:VEVENT
BEGIN:VEVENT
DTSTART;VALUE=DATE:20260411
DTEND;VALUE=DATE:20260412
DTSTAMP:20260420T052935
CREATED:20251226T051852Z
LAST-MODIFIED:20251226T051903Z
UID:10004823-1775865600-1775951999@www.leuragolfclub.com.au
SUMMARY:Stableford Singles - white tees
DESCRIPTION:
URL:https://www.leuragolfclub.com.au/event/stableford-singles-white-tees-15/
CATEGORIES:Saturday Medley Comp
END:VEVENT
BEGIN:VEVENT
DTSTART;VALUE=DATE:20260415
DTEND;VALUE=DATE:20260416
DTSTAMP:20260420T052935
CREATED:20251226T060525Z
LAST-MODIFIED:20251226T060525Z
UID:10005291-1776211200-1776297599@www.leuragolfclub.com.au
SUMMARY:Stableford Singles + 2B Multiplier
DESCRIPTION:
URL:https://www.leuragolfclub.com.au/event/stableford-singles-2b-multiplier-2/2026-04-15/
CATEGORIES:Wednesday Medley Comp
END:VEVENT
BEGIN:VEVENT
DTSTART;VALUE=DATE:20260416
DTEND;VALUE=DATE:20260417
DTSTAMP:20260420T052935
CREATED:20260102T050607Z
LAST-MODIFIED:20260102T050932Z
UID:10005344-1776297600-1776383999@www.leuragolfclub.com.au
SUMMARY:Trivia @ 7pm
DESCRIPTION:When: Every Thursday\, questions begin at 7 pm\nEntry Fee: Only $2 per player\nPrizes: Get ready to win delightful prizes including wine\, club vouchers\, and delicious chocolates.\n\nDon’t miss out on the action! Our bistro opens at 5:30 pm\, perfect for grabbing a bite before the trivia starts. Create your own table with friends and family\, and make it a night to remember. Whether you’re a trivia buff or just looking for a lively evening out\, there’s something for everyone.
URL:https://www.leuragolfclub.com.au/event/trivia-7pm-4/2026-04-16/
CATEGORIES:LGC Function
END:VEVENT
BEGIN:VEVENT
DTSTART;VALUE=DATE:20260417
DTEND;VALUE=DATE:20260418
DTSTAMP:20260420T052935
CREATED:20260101T045055Z
LAST-MODIFIED:20260101T045055Z
UID:10005317-1776384000-1776470399@www.leuragolfclub.com.au
SUMMARY:Blue Mountains Masters @ B/heath
DESCRIPTION:
URL:https://www.leuragolfclub.com.au/event/blue-mountains-masters-b-heath/
CATEGORIES:BM District Event
END:VEVENT
BEGIN:VEVENT
DTSTART;VALUE=DATE:20260418
DTEND;VALUE=DATE:20260419
DTSTAMP:20260420T052935
CREATED:20251226T052907Z
LAST-MODIFIED:20251226T052907Z
UID:10005258-1776470400-1776556799@www.leuragolfclub.com.au
SUMMARY:Stableford Singles + 2B Aggregate
DESCRIPTION:
URL:https://www.leuragolfclub.com.au/event/stableford-singles-2b-aggregate-2/2026-04-18/
CATEGORIES:Saturday Medley Comp
END:VEVENT
BEGIN:VEVENT
DTSTART;VALUE=DATE:20260418
DTEND;VALUE=DATE:20260419
DTSTAMP:20260420T052935
CREATED:20260101T045236Z
LAST-MODIFIED:20260101T045236Z
UID:10005318-1776470400-1776556799@www.leuragolfclub.com.au
SUMMARY:Blue Mountains Masters @ Leura
DESCRIPTION:
URL:https://www.leuragolfclub.com.au/event/blue-mountains-masters-leura/
CATEGORIES:BM District Event
END:VEVENT
BEGIN:VEVENT
DTSTART;VALUE=DATE:20260419
DTEND;VALUE=DATE:20260420
DTSTAMP:20260420T052935
CREATED:20260101T045347Z
LAST-MODIFIED:20260101T045347Z
UID:10005319-1776556800-1776643199@www.leuragolfclub.com.au
SUMMARY:Blue Mountains Masters @ W/Falls
DESCRIPTION:
URL:https://www.leuragolfclub.com.au/event/blue-mountains-masters-w-falls/
CATEGORIES:BM District Event
END:VEVENT
BEGIN:VEVENT
DTSTART;VALUE=DATE:20260422
DTEND;VALUE=DATE:20260423
DTSTAMP:20260420T052935
CREATED:20251226T061202Z
LAST-MODIFIED:20251226T061202Z
UID:10005299-1776816000-1776902399@www.leuragolfclub.com.au
SUMMARY:Stableford Singles + 2BBB
DESCRIPTION:
URL:https://www.leuragolfclub.com.au/event/stableford-singles-2bbb-22/2026-04-22/
CATEGORIES:Wednesday Medley Comp
END:VEVENT
BEGIN:VEVENT
DTSTART;VALUE=DATE:20260423
DTEND;VALUE=DATE:20260424
DTSTAMP:20260420T052935
CREATED:20260102T050607Z
LAST-MODIFIED:20260102T050932Z
UID:10005345-1776902400-1776988799@www.leuragolfclub.com.au
SUMMARY:Trivia @ 7pm
DESCRIPTION:When: Every Thursday\, questions begin at 7 pm\nEntry Fee: Only $2 per player\nPrizes: Get ready to win delightful prizes including wine\, club vouchers\, and delicious chocolates.\n\nDon’t miss out on the action! Our bistro opens at 5:30 pm\, perfect for grabbing a bite before the trivia starts. Create your own table with friends and family\, and make it a night to remember. Whether you’re a trivia buff or just looking for a lively evening out\, there’s something for everyone.
URL:https://www.leuragolfclub.com.au/event/trivia-7pm-4/2026-04-23/
CATEGORIES:LGC Function
END:VEVENT
BEGIN:VEVENT
DTSTART;VALUE=DATE:20260425
DTEND;VALUE=DATE:20260426
DTSTAMP:20260420T052935
CREATED:20241105T004209Z
LAST-MODIFIED:20241105T004210Z
UID:10004271-1777075200-1777161599@www.leuragolfclub.com.au
SUMMARY:Anzac Day
DESCRIPTION:
URL:https://www.leuragolfclub.com.au/event/anzac-day-2-2/2026-04-25/
CATEGORIES:Holidays
END:VEVENT
END:VCALENDAR