BEGIN:VCALENDAR
VERSION:2.0
PRODID:-//Leura Golf Club - ECPv6.13.2.1//NONSGML v1.0//EN
CALSCALE:GREGORIAN
METHOD:PUBLISH
X-WR-CALNAME:Leura Golf Club
X-ORIGINAL-URL:https://www.leuragolfclub.com.au
X-WR-CALDESC:Events for Leura Golf Club
REFRESH-INTERVAL;VALUE=DURATION:PT1H
X-Robots-Tag:noindex
X-PUBLISHED-TTL:PT1H
BEGIN:VTIMEZONE
TZID:Australia/Melbourne
BEGIN:STANDARD
TZOFFSETFROM:+1100
TZOFFSETTO:+1000
TZNAME:AEST
DTSTART:20220402T160000
END:STANDARD
BEGIN:DAYLIGHT
TZOFFSETFROM:+1000
TZOFFSETTO:+1100
TZNAME:AEDT
DTSTART:20221001T160000
END:DAYLIGHT
END:VTIMEZONE
BEGIN:VEVENT
DTSTART;VALUE=DATE:20220515
DTEND;VALUE=DATE:20220516
DTSTAMP:20260423T152104
CREATED:20220123T021108Z
LAST-MODIFIED:20220203T220101Z
UID:10003371-1652572800-1652659199@www.leuragolfclub.com.au
SUMMARY:Mixed Foursomes Championships
DESCRIPTION:MIXED FOURSOMES CHAMPIONSHIPS\nCONDITIONS OF PLAY – RULES OF GOLF APPLY.\n18 HOLE COMPETITION – $20 PER PLAYER. \n\nBoth partners must be members of Leura Golf Club. This is a championship event so By-law 7 applies – see below. For the purposes of these Conditions of Play “Club Championships” where used in the by-law shall mean “Mixed Foursomes Championships”.\nIt will be decided closer to\, or on the day\, whether the ball will be played as it lies or whether preferred lies will apply.\nAggregate handicap of partners is halved i.e. (10 + 26)/2 = 18 handicap.\nMen tee off on all odd numbered holes i.e. 1st\, 3rd etc.\nWomen tee off on all even numbered holes i.e. 2nd 4th etc.\nAfter teeing off the shot is then alternated between partners until the ball is in the hole.\nMen play off blue markers – Women from red.\nIf an air shot occurs then partner must play next shot.\nAbnormal Course Conditions – relief is allowed in accordance with Rule 16.\nStaked Trees – see No Play Zones Local Rule.\nIf your partner hits a ball out of bounds then the alternate player must hit another from the same spot adding a one shot penalty.\nNo relief from tyre tracks – it is not a local rule.\n\nNote – this is a stroke event (alternating shots by partners) – trophies for scratch winner and runner-up\, also trophies for net winner and runner-up. \nMatch Committee – June 2019 \nBy-Law 7 – Club Championship Eligibility:\nTo be eligible to play in the Club Championships\, a member shall have completed at least 2 monthly medal rounds or at least 5 competition rounds at Leura Golf Club in the 12 months immediately preceding the Club Championships. \nLOCAL RULES – FOURSOMES CHAMPIONSHPS – 2022\n\nREFERENCE – RULES OF GOLF – 2019 \nThe Local Rules apply to the Championships except as noted\, expanded and/or clarified below. \nIMMOVABLE OBSTRUCTIONS – Rule 16 \nIncludes the artificial surfaces and sides of roads and paths including gravel paths. \nIMMOVABLE OBSTRUCTIONS CLOSE TO PUTTING GREEN  \nSPRINKLER HEADS \nRelief may be taken under Rule 16.1b if a sprinkler head or other immovable obstruction is on the line of play and is within two club lengths of the putting green\, and within two club lengths of the ball provided that there will be no relief if the line of play is clearly unreasonable. \n12TH HOLE \nThe 12th hole local rule which is applicable to C graders only shall NOT apply for the purposes of the Foursomes Championships. \nDROP ZONE \nThere is a clearly defined drop zone alongside\, and for play to\, the 6th green (left hand side) for relief from the nearby designated hedge area. \nSLOW PLAY – Rule 5.6 \nSlow play penalties will be imposed. General penalty for breach of Local Rules – 2 strokes. \nFOR AND ON BEHALF OF MATCH COMMITTEE
URL:https://www.leuragolfclub.com.au/event/mixed-foursomes-championships-4/
CATEGORIES:LGC Major Events
END:VEVENT
BEGIN:VEVENT
DTSTART;VALUE=DATE:20220514
DTEND;VALUE=DATE:20220515
DTSTAMP:20260423T152104
CREATED:20220123T011417Z
LAST-MODIFIED:20220123T011417Z
UID:10003344-1652486400-1652572799@www.leuragolfclub.com.au
SUMMARY:Medley Stableford Singles + 2BBB
DESCRIPTION:
URL:https://www.leuragolfclub.com.au/event/medley-stableford-singles-2bbb-20/2022-05-14/
CATEGORIES:Saturday Medley Comp
END:VEVENT
BEGIN:VEVENT
DTSTART;TZID=Australia/Melbourne:20220512T190000
DTEND;TZID=Australia/Melbourne:20220512T210000
DTSTAMP:20260423T152104
CREATED:20220306T042102Z
LAST-MODIFIED:20220306T042102Z
UID:10003398-1652382000-1652389200@www.leuragolfclub.com.au
SUMMARY:Trivia @ the Club
DESCRIPTION:Bistro open at 5pm.
URL:https://www.leuragolfclub.com.au/event/trivia-the-club/2022-05-12/
CATEGORIES:LGC Function
END:VEVENT
BEGIN:VEVENT
DTSTART;VALUE=DATE:20220511
DTEND;VALUE=DATE:20220512
DTSTAMP:20260423T152104
CREATED:20220123T003059Z
LAST-MODIFIED:20230304T012242Z
UID:10003305-1652227200-1652313599@www.leuragolfclub.com.au
SUMMARY:Medley Par Singles + 2BBB
DESCRIPTION:
URL:https://www.leuragolfclub.com.au/event/medley-par-singles-2bbb-3/2022-05-11/
CATEGORIES:Wednesday Medley Comp
END:VEVENT
BEGIN:VEVENT
DTSTART;VALUE=DATE:20220507
DTEND;VALUE=DATE:20220508
DTSTAMP:20260423T152104
CREATED:20220123T004658Z
LAST-MODIFIED:20220123T004658Z
UID:10003332-1651881600-1651967999@www.leuragolfclub.com.au
SUMMARY:Men’s Monthly Medal + Medley Stroke
DESCRIPTION:Visitors welcome. Visitors can win the competition but not the Medal.
URL:https://www.leuragolfclub.com.au/event/mens-monthly-medal-medley-stroke-4/2022-05-07/
CATEGORIES:Saturday Medley Comp
END:VEVENT
BEGIN:VEVENT
DTSTART;TZID=Australia/Melbourne:20220505T190000
DTEND;TZID=Australia/Melbourne:20220505T210000
DTSTAMP:20260423T152104
CREATED:20220306T042102Z
LAST-MODIFIED:20220306T042102Z
UID:10003397-1651777200-1651784400@www.leuragolfclub.com.au
SUMMARY:Trivia @ the Club
DESCRIPTION:Bistro open at 5pm.
URL:https://www.leuragolfclub.com.au/event/trivia-the-club/2022-05-05/
CATEGORIES:LGC Function
END:VEVENT
BEGIN:VEVENT
DTSTART;VALUE=DATE:20220504
DTEND;VALUE=DATE:20220505
DTSTAMP:20260423T152104
CREATED:20211115T234200Z
LAST-MODIFIED:20221212T041308Z
UID:10003242-1651622400-1651708799@www.leuragolfclub.com.au
SUMMARY:Medley Stableford Singles + 2BBB
DESCRIPTION:
URL:https://www.leuragolfclub.com.au/event/medley-stableford-singles-2bbb-19/2022-05-04/
CATEGORIES:Wednesday Medley Comp
END:VEVENT
BEGIN:VEVENT
DTSTART;VALUE=DATE:20220430
DTEND;VALUE=DATE:20220501
DTSTAMP:20260423T152104
CREATED:20220123T015842Z
LAST-MODIFIED:20220202T013202Z
UID:10002961-1651276800-1651363199@www.leuragolfclub.com.au
SUMMARY:Medley 2 Person Ambrose
DESCRIPTION:
URL:https://www.leuragolfclub.com.au/event/4-person-ambrose-3/
CATEGORIES:Saturday Medley Comp
END:VEVENT
BEGIN:VEVENT
DTSTART;TZID=Australia/Melbourne:20220428T190000
DTEND;TZID=Australia/Melbourne:20220428T210000
DTSTAMP:20260423T152104
CREATED:20220306T042102Z
LAST-MODIFIED:20220306T042102Z
UID:10003396-1651172400-1651179600@www.leuragolfclub.com.au
SUMMARY:Trivia @ the Club
DESCRIPTION:Bistro open at 5pm.
URL:https://www.leuragolfclub.com.au/event/trivia-the-club/2022-04-28/
CATEGORIES:LGC Function
END:VEVENT
BEGIN:VEVENT
DTSTART;VALUE=DATE:20220424
DTEND;VALUE=DATE:20220425
DTSTAMP:20260423T152104
CREATED:20211231T040334Z
LAST-MODIFIED:20211231T040334Z
UID:10003288-1650758400-1650844799@www.leuragolfclub.com.au
SUMMARY:School Holidays
DESCRIPTION:
URL:https://www.leuragolfclub.com.au/event/school-holidays-8/2022-04-24/
END:VEVENT
BEGIN:VEVENT
DTSTART;VALUE=DATE:20220423
DTEND;VALUE=DATE:20220424
DTSTAMP:20260423T152104
CREATED:20220123T012125Z
LAST-MODIFIED:20220123T012125Z
UID:10002933-1650672000-1650758399@www.leuragolfclub.com.au
SUMMARY:Medley Stableford Singles + 2BBB
DESCRIPTION:
URL:https://www.leuragolfclub.com.au/event/medley-stableford-singles-2bbb-21/2022-04-23/
CATEGORIES:Saturday Medley Comp
END:VEVENT
BEGIN:VEVENT
DTSTART;VALUE=DATE:20220423
DTEND;VALUE=DATE:20220424
DTSTAMP:20260423T152104
CREATED:20211231T040334Z
LAST-MODIFIED:20211231T040334Z
UID:10003287-1650672000-1650758399@www.leuragolfclub.com.au
SUMMARY:School Holidays
DESCRIPTION:
URL:https://www.leuragolfclub.com.au/event/school-holidays-8/2022-04-23/
END:VEVENT
BEGIN:VEVENT
DTSTART;VALUE=DATE:20220422
DTEND;VALUE=DATE:20220423
DTSTAMP:20260423T152104
CREATED:20211231T040334Z
LAST-MODIFIED:20211231T040334Z
UID:10003286-1650585600-1650671999@www.leuragolfclub.com.au
SUMMARY:School Holidays
DESCRIPTION:
URL:https://www.leuragolfclub.com.au/event/school-holidays-8/2022-04-22/
END:VEVENT
BEGIN:VEVENT
DTSTART;TZID=Australia/Melbourne:20220421T190000
DTEND;TZID=Australia/Melbourne:20220421T210000
DTSTAMP:20260423T152104
CREATED:20220306T042102Z
LAST-MODIFIED:20220306T042102Z
UID:10003395-1650567600-1650574800@www.leuragolfclub.com.au
SUMMARY:Trivia @ the Club
DESCRIPTION:Bistro open at 5pm.
URL:https://www.leuragolfclub.com.au/event/trivia-the-club/2022-04-21/
CATEGORIES:LGC Function
END:VEVENT
BEGIN:VEVENT
DTSTART;VALUE=DATE:20220421
DTEND;VALUE=DATE:20220422
DTSTAMP:20260423T152104
CREATED:20211231T040334Z
LAST-MODIFIED:20211231T040334Z
UID:10003285-1650499200-1650585599@www.leuragolfclub.com.au
SUMMARY:School Holidays
DESCRIPTION:
URL:https://www.leuragolfclub.com.au/event/school-holidays-8/2022-04-21/
END:VEVENT
BEGIN:VEVENT
DTSTART;VALUE=DATE:20220420
DTEND;VALUE=DATE:20220421
DTSTAMP:20260423T152104
CREATED:20220123T002851Z
LAST-MODIFIED:20221230T022033Z
UID:10003290-1650412800-1650499199@www.leuragolfclub.com.au
SUMMARY:Medley Stableford Singles + 2B Multiplier
DESCRIPTION:
URL:https://www.leuragolfclub.com.au/event/medley-stableford-singles-2b-multiplier-4/2022-04-20/
CATEGORIES:Wednesday Medley Comp
END:VEVENT
BEGIN:VEVENT
DTSTART;VALUE=DATE:20220420
DTEND;VALUE=DATE:20220421
DTSTAMP:20260423T152104
CREATED:20211231T040334Z
LAST-MODIFIED:20211231T040334Z
UID:10003284-1650412800-1650499199@www.leuragolfclub.com.au
SUMMARY:School Holidays
DESCRIPTION:
URL:https://www.leuragolfclub.com.au/event/school-holidays-8/2022-04-20/
END:VEVENT
BEGIN:VEVENT
DTSTART;VALUE=DATE:20220419
DTEND;VALUE=DATE:20220420
DTSTAMP:20260423T152104
CREATED:20211231T040334Z
LAST-MODIFIED:20211231T040334Z
UID:10003283-1650326400-1650412799@www.leuragolfclub.com.au
SUMMARY:School Holidays
DESCRIPTION:
URL:https://www.leuragolfclub.com.au/event/school-holidays-8/2022-04-19/
END:VEVENT
BEGIN:VEVENT
DTSTART;VALUE=DATE:20220418
DTEND;VALUE=DATE:20220419
DTSTAMP:20260423T152104
CREATED:20211231T040334Z
LAST-MODIFIED:20211231T040334Z
UID:10003282-1650240000-1650326399@www.leuragolfclub.com.au
SUMMARY:School Holidays
DESCRIPTION:
URL:https://www.leuragolfclub.com.au/event/school-holidays-8/2022-04-18/
END:VEVENT
BEGIN:VEVENT
DTSTART;VALUE=DATE:20220417
DTEND;VALUE=DATE:20220418
DTSTAMP:20260423T152104
CREATED:20220202T025637Z
LAST-MODIFIED:20220202T025704Z
UID:10003386-1650153600-1650239999@www.leuragolfclub.com.au
SUMMARY:Relton Shield (Mixed Stableford 2BBB)
DESCRIPTION:Relton Shield is a Stableford 2BBB event. It is an open event with teams consisting of one female and one male.
URL:https://www.leuragolfclub.com.au/event/relton-shield-mixed-stableford-2bbb-2/
CATEGORIES:LGC Major Events
END:VEVENT
BEGIN:VEVENT
DTSTART;VALUE=DATE:20220417
DTEND;VALUE=DATE:20220418
DTSTAMP:20260423T152104
CREATED:20220202T025429Z
LAST-MODIFIED:20220202T025453Z
UID:10003388-1650153600-1650239999@www.leuragolfclub.com.au
SUMMARY:School Holidays
DESCRIPTION:
URL:https://www.leuragolfclub.com.au/event/school-holidays-9/
END:VEVENT
BEGIN:VEVENT
DTSTART;VALUE=DATE:20220417
DTEND;VALUE=DATE:20220418
DTSTAMP:20260423T152104
CREATED:20211202T025011Z
LAST-MODIFIED:20220202T025306Z
UID:10003264-1650153600-1650239999@www.leuragolfclub.com.au
SUMMARY:Easter Sunday
DESCRIPTION:
URL:https://www.leuragolfclub.com.au/event/easter-sunday/
END:VEVENT
BEGIN:VEVENT
DTSTART;VALUE=DATE:20220416
DTEND;VALUE=DATE:20220417
DTSTAMP:20260423T152104
CREATED:20220202T024241Z
LAST-MODIFIED:20220202T024241Z
UID:10003387-1650067200-1650153599@www.leuragolfclub.com.au
SUMMARY:Medley Stableford Singles
DESCRIPTION:
URL:https://www.leuragolfclub.com.au/event/medley-stableford-singles-5/
CATEGORIES:Saturday Medley Comp
END:VEVENT
BEGIN:VEVENT
DTSTART;VALUE=DATE:20220416
DTEND;VALUE=DATE:20220417
DTSTAMP:20260423T152104
CREATED:20220123T011733Z
LAST-MODIFIED:20220202T024202Z
UID:10003365-1650067200-1650153599@www.leuragolfclub.com.au
SUMMARY:Wallace Cup (Medley Stableford 2BBB)
DESCRIPTION:Wallace Cup is a Medley Stableford 2BBB competition. It is an open event.
URL:https://www.leuragolfclub.com.au/event/medley-stableford-singles-2b-aggregate-5-2022-04-16/
CATEGORIES:LGC Major Events
END:VEVENT
BEGIN:VEVENT
DTSTART;VALUE=DATE:20220416
DTEND;VALUE=DATE:20220417
DTSTAMP:20260423T152104
CREATED:20211231T040334Z
LAST-MODIFIED:20211231T040334Z
UID:10003281-1650067200-1650153599@www.leuragolfclub.com.au
SUMMARY:School Holidays
DESCRIPTION:
URL:https://www.leuragolfclub.com.au/event/school-holidays-8/2022-04-16/
END:VEVENT
BEGIN:VEVENT
DTSTART;VALUE=DATE:20220416
DTEND;VALUE=DATE:20220417
DTSTAMP:20260423T152104
CREATED:20180626T023936Z
LAST-MODIFIED:20180626T023936Z
UID:10002641-1650067200-1650153599@www.leuragolfclub.com.au
SUMMARY:Stableford + 2B Aggregate
DESCRIPTION:Medley competition – visitors welcome. \nComp closes at 4pm so please ensure that your tee time will allow you to finish in time.
URL:https://www.leuragolfclub.com.au/event/stableford-2b-aggregate/2022-04-16/
CATEGORIES:Saturday Medley Comp
END:VEVENT
BEGIN:VEVENT
DTSTART;VALUE=DATE:20220415
DTEND;VALUE=DATE:20220416
DTSTAMP:20260423T152104
CREATED:20211231T040334Z
LAST-MODIFIED:20211231T040334Z
UID:10003280-1649980800-1650067199@www.leuragolfclub.com.au
SUMMARY:School Holidays
DESCRIPTION:
URL:https://www.leuragolfclub.com.au/event/school-holidays-8/2022-04-15/
END:VEVENT
BEGIN:VEVENT
DTSTART;VALUE=DATE:20220415
DTEND;VALUE=DATE:20220416
DTSTAMP:20260423T152104
CREATED:20211231T035949Z
LAST-MODIFIED:20211231T040124Z
UID:10003273-1649980800-1650067199@www.leuragolfclub.com.au
SUMMARY:Good Friday
DESCRIPTION:
URL:https://www.leuragolfclub.com.au/event/good-friday-3/
END:VEVENT
BEGIN:VEVENT
DTSTART;TZID=Australia/Melbourne:20220414T190000
DTEND;TZID=Australia/Melbourne:20220414T210000
DTSTAMP:20260423T152104
CREATED:20220306T042102Z
LAST-MODIFIED:20220306T042102Z
UID:10003394-1649962800-1649970000@www.leuragolfclub.com.au
SUMMARY:Trivia @ the Club
DESCRIPTION:Bistro open at 5pm.
URL:https://www.leuragolfclub.com.au/event/trivia-the-club/2022-04-14/
CATEGORIES:LGC Function
END:VEVENT
BEGIN:VEVENT
DTSTART;VALUE=DATE:20220414
DTEND;VALUE=DATE:20220415
DTSTAMP:20260423T152104
CREATED:20211231T040334Z
LAST-MODIFIED:20211231T040334Z
UID:10003279-1649894400-1649980799@www.leuragolfclub.com.au
SUMMARY:School Holidays
DESCRIPTION:
URL:https://www.leuragolfclub.com.au/event/school-holidays-8/2022-04-14/
END:VEVENT
END:VCALENDAR