BEGIN:VCALENDAR
VERSION:2.0
PRODID:-//Leura Golf Club - ECPv6.13.2.1//NONSGML v1.0//EN
CALSCALE:GREGORIAN
METHOD:PUBLISH
X-WR-CALNAME:Leura Golf Club
X-ORIGINAL-URL:https://www.leuragolfclub.com.au
X-WR-CALDESC:Events for Leura Golf Club
REFRESH-INTERVAL;VALUE=DURATION:PT1H
X-Robots-Tag:noindex
X-PUBLISHED-TTL:PT1H
BEGIN:VTIMEZONE
TZID:Australia/Melbourne
BEGIN:STANDARD
TZOFFSETFROM:+1100
TZOFFSETTO:+1000
TZNAME:AEST
DTSTART:20210403T160000
END:STANDARD
BEGIN:DAYLIGHT
TZOFFSETFROM:+1000
TZOFFSETTO:+1100
TZNAME:AEDT
DTSTART:20211002T160000
END:DAYLIGHT
BEGIN:STANDARD
TZOFFSETFROM:+1100
TZOFFSETTO:+1000
TZNAME:AEST
DTSTART:20220402T160000
END:STANDARD
BEGIN:DAYLIGHT
TZOFFSETFROM:+1000
TZOFFSETTO:+1100
TZNAME:AEDT
DTSTART:20221001T160000
END:DAYLIGHT
END:VTIMEZONE
BEGIN:VEVENT
DTSTART;VALUE=DATE:20211218
DTEND;VALUE=DATE:20220131
DTSTAMP:20260423T182656
CREATED:20201226T021012Z
LAST-MODIFIED:20201226T021110Z
UID:10002969-1639785600-1643587199@www.leuragolfclub.com.au
SUMMARY:School Holidays
DESCRIPTION:27 & 28 Jan are Staff Dev Days
URL:https://www.leuragolfclub.com.au/event/school-holidays-7/
END:VEVENT
BEGIN:VEVENT
DTSTART;VALUE=DATE:20211218
DTEND;VALUE=DATE:20211219
DTSTAMP:20260423T182656
CREATED:20201226T034556Z
LAST-MODIFIED:20211115T233708Z
UID:10003005-1639785600-1639871999@www.leuragolfclub.com.au
SUMMARY:Medley Par Singles + 2BBB
DESCRIPTION:Christmas Prizes – hams and other goodies
URL:https://www.leuragolfclub.com.au/event/medley-par-singles-2bbb-2021-12-18/
CATEGORIES:Saturday Medley Comp
END:VEVENT
BEGIN:VEVENT
DTSTART;VALUE=DATE:20211218
DTEND;VALUE=DATE:20211219
DTSTAMP:20260423T182656
CREATED:20180626T023936Z
LAST-MODIFIED:20180626T023936Z
UID:10002637-1639785600-1639871999@www.leuragolfclub.com.au
SUMMARY:Stableford + 2B Aggregate
DESCRIPTION:Medley competition – visitors welcome. \nComp closes at 4pm so please ensure that your tee time will allow you to finish in time.
URL:https://www.leuragolfclub.com.au/event/stableford-2b-aggregate/2021-12-18/
CATEGORIES:Saturday Medley Comp
END:VEVENT
BEGIN:VEVENT
DTSTART;VALUE=DATE:20211215
DTEND;VALUE=DATE:20211216
DTSTAMP:20260423T182656
CREATED:20201226T054341Z
LAST-MODIFIED:20201226T054403Z
UID:10003103-1639526400-1639612799@www.leuragolfclub.com.au
SUMMARY:Medley Stroke
DESCRIPTION:
URL:https://www.leuragolfclub.com.au/event/medley-stroke/2021-12-15/
CATEGORIES:Wednesday Medley Comp
END:VEVENT
BEGIN:VEVENT
DTSTART;VALUE=DATE:20211213
DTEND;VALUE=DATE:20211214
DTSTAMP:20260423T182656
CREATED:20211115T233308Z
LAST-MODIFIED:20211117T222649Z
UID:10003233-1639353600-1639439999@www.leuragolfclub.com.au
SUMMARY:Cancer Council Charity event - Longest Day
DESCRIPTION:Contact Pro Shop for details
URL:https://www.leuragolfclub.com.au/event/cancer-council-charity-event-longest-day/
CATEGORIES:LGC other comp
END:VEVENT
BEGIN:VEVENT
DTSTART;VALUE=DATE:20211212
DTEND;VALUE=DATE:20211213
DTSTAMP:20260423T182656
CREATED:20201227T041118Z
LAST-MODIFIED:20201227T041119Z
UID:10003169-1639267200-1639353599@www.leuragolfclub.com.au
SUMMARY:Lithgow Open
DESCRIPTION:
URL:https://www.leuragolfclub.com.au/event/lithgow-open-4/
END:VEVENT
BEGIN:VEVENT
DTSTART;VALUE=DATE:20211211
DTEND;VALUE=DATE:20211212
DTSTAMP:20260423T182656
CREATED:20201226T034050Z
LAST-MODIFIED:20201227T033424Z
UID:10002996-1639180800-1639267199@www.leuragolfclub.com.au
SUMMARY:President's v Captain's Medley Stableford 2BBB + Singles
DESCRIPTION:
URL:https://www.leuragolfclub.com.au/event/medley-stableford-singles-2bbb-6-2021-12-11/
CATEGORIES:LGC Major Events
END:VEVENT
BEGIN:VEVENT
DTSTART;VALUE=DATE:20211208
DTEND;VALUE=DATE:20211209
DTSTAMP:20260423T182656
CREATED:20201226T052214Z
LAST-MODIFIED:20210226T232817Z
UID:10003082-1638921600-1639007999@www.leuragolfclub.com.au
SUMMARY:Medley Stableford Singles+ 2BBB
DESCRIPTION:
URL:https://www.leuragolfclub.com.au/event/medley-stableford-singles-2bbb-8-2021-03-10/2021-12-08/
CATEGORIES:Wednesday Medley Comp
END:VEVENT
BEGIN:VEVENT
DTSTART;TZID=Australia/Melbourne:20211205T100000
DTEND;TZID=Australia/Melbourne:20211205T110000
DTSTAMP:20260423T182656
CREATED:20210913T040859Z
LAST-MODIFIED:20211022T013402Z
UID:10003231-1638698400-1638702000@www.leuragolfclub.com.au
SUMMARY:2021 Annual General Meeting - 10am
DESCRIPTION:
URL:https://www.leuragolfclub.com.au/event/2021-annual-general-meeting/
CATEGORIES:LGC Function
END:VEVENT
BEGIN:VEVENT
DTSTART;VALUE=DATE:20211204
DTEND;VALUE=DATE:20211205
DTSTAMP:20260423T182656
CREATED:20201227T021830Z
LAST-MODIFIED:20211022T011947Z
UID:10003124-1638576000-1638662399@www.leuragolfclub.com.au
SUMMARY:Haig & Haig Shield - Rd 2
DESCRIPTION:The Haig and Haig Shield  is a stroke event over 2 weeks with the winner being the person with the best aggregate nett score for the two rounds from across all grades. \nVisitors are not eligible to win the Shield.
URL:https://www.leuragolfclub.com.au/event/haig-haig-shield-rd-2-4/
CATEGORIES:LGC Major Events
END:VEVENT
BEGIN:VEVENT
DTSTART;VALUE=DATE:20211204
DTEND;VALUE=DATE:20211205
DTSTAMP:20260423T182656
CREATED:20191026T022316Z
LAST-MODIFIED:20201125T042537Z
UID:10002901-1638576000-1638662399@www.leuragolfclub.com.au
SUMMARY:Men's Medal of Medals (Gold Medal) + Men's Monthly Medal + Medley Stroke
DESCRIPTION:The Men’s Medal of Medals (Gold Medal) is held each December\, in conjunction with the December Monthly Medal. \nThe winners of the Monthly Medals in each grade during the past year compete for the three Gold Medals. Those who have qualified play in the grade applicable to their Daily Handicap on the Gold Medal day.
URL:https://www.leuragolfclub.com.au/event/monthly-medal-mens-gold-medal-mens-medley-stroke/2021-12-04/
CATEGORIES:LGC Major Events
END:VEVENT
BEGIN:VEVENT
DTSTART;VALUE=DATE:20211201
DTEND;VALUE=DATE:20211202
DTSTAMP:20260423T182656
CREATED:20201226T052109Z
LAST-MODIFIED:20201226T053932Z
UID:10003047-1638316800-1638403199@www.leuragolfclub.com.au
SUMMARY:Medley Stableford Singles + 2BBB
DESCRIPTION:
URL:https://www.leuragolfclub.com.au/event/medley-stableford-singles-2bbb-7/2021-12-01/
CATEGORIES:Wednesday Medley Comp
END:VEVENT
BEGIN:VEVENT
DTSTART;VALUE=DATE:20211128
DTEND;VALUE=DATE:20211129
DTSTAMP:20260423T182656
CREATED:20201227T041031Z
LAST-MODIFIED:20201227T041031Z
UID:10003168-1638057600-1638143999@www.leuragolfclub.com.au
SUMMARY:Oberon Open
DESCRIPTION:
URL:https://www.leuragolfclub.com.au/event/oberon-open-4/
END:VEVENT
BEGIN:VEVENT
DTSTART;VALUE=DATE:20211127
DTEND;VALUE=DATE:20211128
DTSTAMP:20260423T182656
CREATED:20201226T032611Z
LAST-MODIFIED:20211105T045516Z
UID:10002986-1637971200-1638057599@www.leuragolfclub.com.au
SUMMARY:Men's Monthly Medal + Medley Stroke
DESCRIPTION:Men’s Medal event. Visitors and women are welcome\, can win the event but not the medal.
URL:https://www.leuragolfclub.com.au/event/mens-monthly-medal-medley-stroke-2021-11-06/
CATEGORIES:Saturday Medley Comp
END:VEVENT
BEGIN:VEVENT
DTSTART;VALUE=DATE:20211127
DTEND;VALUE=DATE:20211128
DTSTAMP:20260423T182656
CREATED:20191026T021935Z
LAST-MODIFIED:20211105T045418Z
UID:10002898-1637971200-1638057599@www.leuragolfclub.com.au
SUMMARY:Haig & Haig Shield - Rd 1
DESCRIPTION:The Haig and Haig Shield  is a men’s stroke event over 2 weeks with the winner being the person with the best aggregate nett score for the two rounds from across all grades. \nVisitors are welcome\, can win the day but are not eligible to win the Shield.
URL:https://www.leuragolfclub.com.au/event/haig-haig-shield-rd-1-3/
CATEGORIES:LGC Major Events
END:VEVENT
BEGIN:VEVENT
DTSTART;VALUE=DATE:20211124
DTEND;VALUE=DATE:20211125
DTSTAMP:20260423T182656
CREATED:20201226T052938Z
LAST-MODIFIED:20201226T055112Z
UID:10003089-1637712000-1637798399@www.leuragolfclub.com.au
SUMMARY:Medley Stableford Singles + 2B Multiplier
DESCRIPTION:
URL:https://www.leuragolfclub.com.au/event/medley-stableford-singles-2b-multiplier-3/2021-11-24/
CATEGORIES:Wednesday Medley Comp
END:VEVENT
BEGIN:VEVENT
DTSTART;VALUE=DATE:20211121
DTEND;VALUE=DATE:20211122
DTSTAMP:20260423T182656
CREATED:20201227T040958Z
LAST-MODIFIED:20201227T040958Z
UID:10003167-1637452800-1637539199@www.leuragolfclub.com.au
SUMMARY:Blackheath Open
DESCRIPTION:
URL:https://www.leuragolfclub.com.au/event/blackheath-open-4/
END:VEVENT
BEGIN:VEVENT
DTSTART;VALUE=DATE:20211120
DTEND;VALUE=DATE:20211121
DTSTAMP:20260423T182656
CREATED:20201226T034556Z
LAST-MODIFIED:20201226T034556Z
UID:10003004-1637366400-1637452799@www.leuragolfclub.com.au
SUMMARY:Medley Par Singles + 2BBB
DESCRIPTION:
URL:https://www.leuragolfclub.com.au/event/medley-par-singles-2bbb/2021-11-20/
CATEGORIES:Saturday Medley Comp
END:VEVENT
BEGIN:VEVENT
DTSTART;VALUE=DATE:20211120
DTEND;VALUE=DATE:20211121
DTSTAMP:20260423T182656
CREATED:20180626T023936Z
LAST-MODIFIED:20180626T023936Z
UID:10002636-1637366400-1637452799@www.leuragolfclub.com.au
SUMMARY:Stableford + 2B Aggregate
DESCRIPTION:Medley competition – visitors welcome. \nComp closes at 4pm so please ensure that your tee time will allow you to finish in time.
URL:https://www.leuragolfclub.com.au/event/stableford-2b-aggregate/2021-11-20/
CATEGORIES:Saturday Medley Comp
END:VEVENT
BEGIN:VEVENT
DTSTART;VALUE=DATE:20211117
DTEND;VALUE=DATE:20211118
DTSTAMP:20260423T182656
CREATED:20201226T054341Z
LAST-MODIFIED:20201226T054403Z
UID:10003102-1637107200-1637193599@www.leuragolfclub.com.au
SUMMARY:Medley Stroke
DESCRIPTION:
URL:https://www.leuragolfclub.com.au/event/medley-stroke/2021-11-17/
CATEGORIES:Wednesday Medley Comp
END:VEVENT
BEGIN:VEVENT
DTSTART;VALUE=DATE:20211113
DTEND;VALUE=DATE:20211114
DTSTAMP:20260423T182656
CREATED:20211022T012621Z
LAST-MODIFIED:20211022T012621Z
UID:10003232-1636761600-1636847999@www.leuragolfclub.com.au
SUMMARY:Medley Stableford Singles + 2BBB
DESCRIPTION:
URL:https://www.leuragolfclub.com.au/event/medley-stableford-singles-2bbb-17/
CATEGORIES:Saturday Medley Comp
END:VEVENT
BEGIN:VEVENT
DTSTART;VALUE=DATE:20211110
DTEND;VALUE=DATE:20211111
DTSTAMP:20260423T182656
CREATED:20201226T052214Z
LAST-MODIFIED:20210226T232817Z
UID:10003081-1636502400-1636588799@www.leuragolfclub.com.au
SUMMARY:Medley Stableford Singles+ 2BBB
DESCRIPTION:
URL:https://www.leuragolfclub.com.au/event/medley-stableford-singles-2bbb-8-2021-03-10/2021-11-10/
CATEGORIES:Wednesday Medley Comp
END:VEVENT
BEGIN:VEVENT
DTSTART;VALUE=DATE:20211107
DTEND;VALUE=DATE:20211108
DTSTAMP:20260423T182656
CREATED:20201227T040617Z
LAST-MODIFIED:20210913T041124Z
UID:10003165-1636243200-1636329599@www.leuragolfclub.com.au
SUMMARY:Country Championships @ Forbes
DESCRIPTION:
URL:https://www.leuragolfclub.com.au/event/country-championships-bathurst-2/2021-11-07/
END:VEVENT
BEGIN:VEVENT
DTSTART;VALUE=DATE:20211106
DTEND;VALUE=DATE:20211107
DTSTAMP:20260423T182656
CREATED:20201227T040617Z
LAST-MODIFIED:20210913T041124Z
UID:10003164-1636156800-1636243199@www.leuragolfclub.com.au
SUMMARY:Country Championships @ Forbes
DESCRIPTION:
URL:https://www.leuragolfclub.com.au/event/country-championships-bathurst-2/2021-11-06/
END:VEVENT
BEGIN:VEVENT
DTSTART;VALUE=DATE:20211106
DTEND;VALUE=DATE:20211107
DTSTAMP:20260423T182656
CREATED:20201226T034741Z
LAST-MODIFIED:20211105T045621Z
UID:10003011-1636156800-1636243199@www.leuragolfclub.com.au
SUMMARY:Medley Stableford Singles + 2BBB
DESCRIPTION:
URL:https://www.leuragolfclub.com.au/event/medley-stableford-singles-2b-aggregate-2-2021-11-27/
CATEGORIES:Saturday Medley Comp
END:VEVENT
BEGIN:VEVENT
DTSTART;VALUE=DATE:20211103
DTEND;VALUE=DATE:20211104
DTSTAMP:20260423T182656
CREATED:20201226T052109Z
LAST-MODIFIED:20201226T053932Z
UID:10003046-1635897600-1635983999@www.leuragolfclub.com.au
SUMMARY:Medley Stableford Singles + 2BBB
DESCRIPTION:
URL:https://www.leuragolfclub.com.au/event/medley-stableford-singles-2bbb-7/2021-11-03/
CATEGORIES:Wednesday Medley Comp
END:VEVENT
BEGIN:VEVENT
DTSTART;VALUE=DATE:20211030
DTEND;VALUE=DATE:20211031
DTSTAMP:20260423T182656
CREATED:20201227T033121Z
LAST-MODIFIED:20201227T033121Z
UID:10003127-1635552000-1635638399@www.leuragolfclub.com.au
SUMMARY:Medley Stableford Singles + 2BBB
DESCRIPTION:
URL:https://www.leuragolfclub.com.au/event/medley-stableford-singles-2bbb-12/
CATEGORIES:Saturday Medley Comp
END:VEVENT
BEGIN:VEVENT
DTSTART;VALUE=DATE:20211027
DTEND;VALUE=DATE:20211028
DTSTAMP:20260423T182656
CREATED:20201226T054544Z
LAST-MODIFIED:20201226T054544Z
UID:10003113-1635292800-1635379199@www.leuragolfclub.com.au
SUMMARY:Medley Stableford Singles + 2B Aggregate
DESCRIPTION:
URL:https://www.leuragolfclub.com.au/event/medley-stableford-singles-2b-aggregate-3/2021-10-27/
CATEGORIES:Wednesday Medley Comp
END:VEVENT
BEGIN:VEVENT
DTSTART;VALUE=DATE:20211024
DTEND;VALUE=DATE:20211025
DTSTAMP:20260423T182656
CREATED:20201227T040924Z
LAST-MODIFIED:20201227T040924Z
UID:10003166-1635033600-1635119999@www.leuragolfclub.com.au
SUMMARY:Wentworth Falls Open
DESCRIPTION:
URL:https://www.leuragolfclub.com.au/event/wentworth-falls-open-4/
END:VEVENT
BEGIN:VEVENT
DTSTART;VALUE=DATE:20211023
DTEND;VALUE=DATE:20211024
DTSTAMP:20260423T182656
CREATED:20201226T040836Z
LAST-MODIFIED:20201226T040836Z
UID:10003021-1634947200-1635033599@www.leuragolfclub.com.au
SUMMARY:Medley Stableford Singles + 2B Multiplier
DESCRIPTION:
URL:https://www.leuragolfclub.com.au/event/medley-stableford-singles-2b-multiplier-2/2021-10-23/
CATEGORIES:Saturday Medley Comp
END:VEVENT
END:VCALENDAR