BEGIN:VCALENDAR
VERSION:2.0
PRODID:-//Leura Golf Club - ECPv6.13.2.1//NONSGML v1.0//EN
CALSCALE:GREGORIAN
METHOD:PUBLISH
X-WR-CALNAME:Leura Golf Club
X-ORIGINAL-URL:https://www.leuragolfclub.com.au
X-WR-CALDESC:Events for Leura Golf Club
REFRESH-INTERVAL;VALUE=DURATION:PT1H
X-Robots-Tag:noindex
X-PUBLISHED-TTL:PT1H
BEGIN:VTIMEZONE
TZID:Australia/Melbourne
BEGIN:STANDARD
TZOFFSETFROM:+1100
TZOFFSETTO:+1000
TZNAME:AEST
DTSTART:20210403T160000
END:STANDARD
BEGIN:DAYLIGHT
TZOFFSETFROM:+1000
TZOFFSETTO:+1100
TZNAME:AEDT
DTSTART:20211002T160000
END:DAYLIGHT
END:VTIMEZONE
BEGIN:VEVENT
DTSTART;VALUE=DATE:20211013
DTEND;VALUE=DATE:20211014
DTSTAMP:20260423T142059
CREATED:20201226T052214Z
LAST-MODIFIED:20210226T232817Z
UID:10003080-1634083200-1634169599@www.leuragolfclub.com.au
SUMMARY:Medley Stableford Singles+ 2BBB
DESCRIPTION:
URL:https://www.leuragolfclub.com.au/event/medley-stableford-singles-2bbb-8-2021-03-10/2021-10-13/
CATEGORIES:Wednesday Medley Comp
END:VEVENT
BEGIN:VEVENT
DTSTART;VALUE=DATE:20211009
DTEND;VALUE=DATE:20211010
DTSTAMP:20260423T142059
CREATED:20201226T034050Z
LAST-MODIFIED:20201226T034050Z
UID:10002995-1633737600-1633823999@www.leuragolfclub.com.au
SUMMARY:Medley Stableford Singles + 2BBB
DESCRIPTION:
URL:https://www.leuragolfclub.com.au/event/medley-stableford-singles-2bbb-6/2021-10-09/
CATEGORIES:Saturday Medley Comp
END:VEVENT
BEGIN:VEVENT
DTSTART;VALUE=DATE:20211006
DTEND;VALUE=DATE:20211007
DTSTAMP:20260423T142059
CREATED:20201226T052109Z
LAST-MODIFIED:20201226T053932Z
UID:10003045-1633478400-1633564799@www.leuragolfclub.com.au
SUMMARY:Medley Stableford Singles + 2BBB
DESCRIPTION:
URL:https://www.leuragolfclub.com.au/event/medley-stableford-singles-2bbb-7/2021-10-06/
CATEGORIES:Wednesday Medley Comp
END:VEVENT
BEGIN:VEVENT
DTSTART;VALUE=DATE:20211004
DTEND;VALUE=DATE:20211005
DTSTAMP:20260423T142059
CREATED:20201226T022809Z
LAST-MODIFIED:20201226T022809Z
UID:10002972-1633305600-1633391999@www.leuragolfclub.com.au
SUMMARY:Labour Day
DESCRIPTION:
URL:https://www.leuragolfclub.com.au/event/labour-day/
END:VEVENT
BEGIN:VEVENT
DTSTART;VALUE=DATE:20211002
DTEND;VALUE=DATE:20211003
DTSTAMP:20260423T142059
CREATED:20201226T032611Z
LAST-MODIFIED:20201226T032611Z
UID:10002984-1633132800-1633219199@www.leuragolfclub.com.au
SUMMARY:Men's Monthly Medal + Medley Stroke
DESCRIPTION:Men’s Medal event. Visitors and women are welcome\, can win the event but not the medal.
URL:https://www.leuragolfclub.com.au/event/mens-monthly-medal-medley-stroke/2021-10-02/
CATEGORIES:Saturday Medley Comp
END:VEVENT
BEGIN:VEVENT
DTSTART;VALUE=DATE:20210929
DTEND;VALUE=DATE:20210930
DTSTAMP:20260423T142059
CREATED:20201227T005510Z
LAST-MODIFIED:20201227T005510Z
UID:10002824-1632873600-1632959999@www.leuragolfclub.com.au
SUMMARY:Medley 4 Person Ambrose
DESCRIPTION:
URL:https://www.leuragolfclub.com.au/event/medley-4-person-ambrose/
CATEGORIES:Wednesday Medley Comp
END:VEVENT
BEGIN:VEVENT
DTSTART;VALUE=DATE:20210925
DTEND;VALUE=DATE:20210926
DTSTAMP:20260423T142059
CREATED:20201226T034741Z
LAST-MODIFIED:20201226T035341Z
UID:10003010-1632528000-1632614399@www.leuragolfclub.com.au
SUMMARY:Medley Stableford Singles + 2B Aggregate
DESCRIPTION:
URL:https://www.leuragolfclub.com.au/event/medley-stableford-singles-2b-aggregate-2/2021-09-25/
CATEGORIES:Saturday Medley Comp
END:VEVENT
BEGIN:VEVENT
DTSTART;VALUE=DATE:20210922
DTEND;VALUE=DATE:20210923
DTSTAMP:20260423T142059
CREATED:20201226T052938Z
LAST-MODIFIED:20201226T055112Z
UID:10003088-1632268800-1632355199@www.leuragolfclub.com.au
SUMMARY:Medley Stableford Singles + 2B Multiplier
DESCRIPTION:
URL:https://www.leuragolfclub.com.au/event/medley-stableford-singles-2b-multiplier-3/2021-09-22/
CATEGORIES:Wednesday Medley Comp
END:VEVENT
BEGIN:VEVENT
DTSTART;VALUE=DATE:20210918
DTEND;VALUE=DATE:20211004
DTSTAMP:20260423T142059
CREATED:20201226T020759Z
LAST-MODIFIED:20201226T020759Z
UID:10002968-1631923200-1633305599@www.leuragolfclub.com.au
SUMMARY:School Holidays
DESCRIPTION:
URL:https://www.leuragolfclub.com.au/event/school-holidays-6/
END:VEVENT
BEGIN:VEVENT
DTSTART;VALUE=DATE:20210918
DTEND;VALUE=DATE:20210919
DTSTAMP:20260423T142059
CREATED:20201226T034556Z
LAST-MODIFIED:20201226T034556Z
UID:10003002-1631923200-1632009599@www.leuragolfclub.com.au
SUMMARY:Medley Par Singles + 2BBB
DESCRIPTION:
URL:https://www.leuragolfclub.com.au/event/medley-par-singles-2bbb/2021-09-18/
CATEGORIES:Saturday Medley Comp
END:VEVENT
BEGIN:VEVENT
DTSTART;VALUE=DATE:20210918
DTEND;VALUE=DATE:20210919
DTSTAMP:20260423T142059
CREATED:20180626T023936Z
LAST-MODIFIED:20180626T023936Z
UID:10002634-1631923200-1632009599@www.leuragolfclub.com.au
SUMMARY:Stableford + 2B Aggregate
DESCRIPTION:Medley competition – visitors welcome. \nComp closes at 4pm so please ensure that your tee time will allow you to finish in time.
URL:https://www.leuragolfclub.com.au/event/stableford-2b-aggregate/2021-09-18/
CATEGORIES:Saturday Medley Comp
END:VEVENT
BEGIN:VEVENT
DTSTART;VALUE=DATE:20210915
DTEND;VALUE=DATE:20210916
DTSTAMP:20260423T142059
CREATED:20201226T054341Z
LAST-MODIFIED:20201226T054403Z
UID:10003100-1631664000-1631750399@www.leuragolfclub.com.au
SUMMARY:Medley Stroke
DESCRIPTION:
URL:https://www.leuragolfclub.com.au/event/medley-stroke/2021-09-15/
CATEGORIES:Wednesday Medley Comp
END:VEVENT
BEGIN:VEVENT
DTSTART;VALUE=DATE:20210911
DTEND;VALUE=DATE:20210912
DTSTAMP:20260423T142059
CREATED:20201226T034050Z
LAST-MODIFIED:20201226T034050Z
UID:10002994-1631318400-1631404799@www.leuragolfclub.com.au
SUMMARY:Medley Stableford Singles + 2BBB
DESCRIPTION:
URL:https://www.leuragolfclub.com.au/event/medley-stableford-singles-2bbb-6/2021-09-11/
CATEGORIES:Saturday Medley Comp
END:VEVENT
BEGIN:VEVENT
DTSTART;VALUE=DATE:20210908
DTEND;VALUE=DATE:20210909
DTSTAMP:20260423T142059
CREATED:20201226T052214Z
LAST-MODIFIED:20210226T232817Z
UID:10003079-1631059200-1631145599@www.leuragolfclub.com.au
SUMMARY:Medley Stableford Singles+ 2BBB
DESCRIPTION:
URL:https://www.leuragolfclub.com.au/event/medley-stableford-singles-2bbb-8-2021-03-10/2021-09-08/
CATEGORIES:Wednesday Medley Comp
END:VEVENT
BEGIN:VEVENT
DTSTART;VALUE=DATE:20210904
DTEND;VALUE=DATE:20210905
DTSTAMP:20260423T142059
CREATED:20201226T032611Z
LAST-MODIFIED:20201226T032611Z
UID:10002983-1630713600-1630799999@www.leuragolfclub.com.au
SUMMARY:Men's Monthly Medal + Medley Stroke
DESCRIPTION:Men’s Medal event. Visitors and women are welcome\, can win the event but not the medal.
URL:https://www.leuragolfclub.com.au/event/mens-monthly-medal-medley-stroke/2021-09-04/
CATEGORIES:Saturday Medley Comp
END:VEVENT
BEGIN:VEVENT
DTSTART;VALUE=DATE:20210901
DTEND;VALUE=DATE:20210902
DTSTAMP:20260423T142059
CREATED:20201226T052109Z
LAST-MODIFIED:20201226T053932Z
UID:10003044-1630454400-1630540799@www.leuragolfclub.com.au
SUMMARY:Medley Stableford Singles + 2BBB
DESCRIPTION:
URL:https://www.leuragolfclub.com.au/event/medley-stableford-singles-2bbb-7/2021-09-01/
CATEGORIES:Wednesday Medley Comp
END:VEVENT
BEGIN:VEVENT
DTSTART;VALUE=DATE:20210828
DTEND;VALUE=DATE:20210829
DTSTAMP:20260423T142059
CREATED:20201226T040836Z
LAST-MODIFIED:20201226T040836Z
UID:10003020-1630108800-1630195199@www.leuragolfclub.com.au
SUMMARY:Medley Stableford Singles + 2B Multiplier
DESCRIPTION:
URL:https://www.leuragolfclub.com.au/event/medley-stableford-singles-2b-multiplier-2/2021-08-28/
CATEGORIES:Saturday Medley Comp
END:VEVENT
BEGIN:VEVENT
DTSTART;VALUE=DATE:20210825
DTEND;VALUE=DATE:20210826
DTSTAMP:20260423T142059
CREATED:20201226T054544Z
LAST-MODIFIED:20201226T054544Z
UID:10003112-1629849600-1629935999@www.leuragolfclub.com.au
SUMMARY:Medley Stableford Singles + 2B Aggregate
DESCRIPTION:
URL:https://www.leuragolfclub.com.au/event/medley-stableford-singles-2b-aggregate-3/2021-08-25/
CATEGORIES:Wednesday Medley Comp
END:VEVENT
BEGIN:VEVENT
DTSTART;VALUE=DATE:20210821
DTEND;VALUE=DATE:20210822
DTSTAMP:20260423T142059
CREATED:20201226T034556Z
LAST-MODIFIED:20201226T034556Z
UID:10003001-1629504000-1629590399@www.leuragolfclub.com.au
SUMMARY:Medley Par Singles + 2BBB
DESCRIPTION:
URL:https://www.leuragolfclub.com.au/event/medley-par-singles-2bbb/2021-08-21/
CATEGORIES:Saturday Medley Comp
END:VEVENT
BEGIN:VEVENT
DTSTART;VALUE=DATE:20210821
DTEND;VALUE=DATE:20210822
DTSTAMP:20260423T142059
CREATED:20180626T023936Z
LAST-MODIFIED:20180626T023936Z
UID:10002633-1629504000-1629590399@www.leuragolfclub.com.au
SUMMARY:Stableford + 2B Aggregate
DESCRIPTION:Medley competition – visitors welcome. \nComp closes at 4pm so please ensure that your tee time will allow you to finish in time.
URL:https://www.leuragolfclub.com.au/event/stableford-2b-aggregate/2021-08-21/
CATEGORIES:Saturday Medley Comp
END:VEVENT
BEGIN:VEVENT
DTSTART;VALUE=DATE:20210818
DTEND;VALUE=DATE:20210819
DTSTAMP:20260423T142059
CREATED:20201226T054341Z
LAST-MODIFIED:20201226T054403Z
UID:10003099-1629244800-1629331199@www.leuragolfclub.com.au
SUMMARY:Medley Stroke
DESCRIPTION:
URL:https://www.leuragolfclub.com.au/event/medley-stroke/2021-08-18/
CATEGORIES:Wednesday Medley Comp
END:VEVENT
BEGIN:VEVENT
DTSTART;VALUE=DATE:20210814
DTEND;VALUE=DATE:20210815
DTSTAMP:20260423T142059
CREATED:20201227T022117Z
LAST-MODIFIED:20201227T022127Z
UID:10003125-1628899200-1628985599@www.leuragolfclub.com.au
SUMMARY:Medley Stroke
DESCRIPTION:
URL:https://www.leuragolfclub.com.au/event/medley-stroke-2/
CATEGORIES:Saturday Medley Comp
END:VEVENT
BEGIN:VEVENT
DTSTART;VALUE=DATE:20210811
DTEND;VALUE=DATE:20210812
DTSTAMP:20260423T142059
CREATED:20201226T052214Z
LAST-MODIFIED:20210226T232817Z
UID:10003078-1628640000-1628726399@www.leuragolfclub.com.au
SUMMARY:Medley Stableford Singles+ 2BBB
DESCRIPTION:
URL:https://www.leuragolfclub.com.au/event/medley-stableford-singles-2bbb-8-2021-03-10/2021-08-11/
CATEGORIES:Wednesday Medley Comp
END:VEVENT
BEGIN:VEVENT
DTSTART;VALUE=DATE:20210807
DTEND;VALUE=DATE:20210808
DTSTAMP:20260423T142059
CREATED:20201226T032611Z
LAST-MODIFIED:20201226T032611Z
UID:10002982-1628294400-1628380799@www.leuragolfclub.com.au
SUMMARY:Men's Monthly Medal + Medley Stroke
DESCRIPTION:Men’s Medal event. Visitors and women are welcome\, can win the event but not the medal.
URL:https://www.leuragolfclub.com.au/event/mens-monthly-medal-medley-stroke/2021-08-07/
CATEGORIES:Saturday Medley Comp
END:VEVENT
BEGIN:VEVENT
DTSTART;VALUE=DATE:20210804
DTEND;VALUE=DATE:20210805
DTSTAMP:20260423T142059
CREATED:20201226T052109Z
LAST-MODIFIED:20201226T053932Z
UID:10003043-1628035200-1628121599@www.leuragolfclub.com.au
SUMMARY:Medley Stableford Singles + 2BBB
DESCRIPTION:
URL:https://www.leuragolfclub.com.au/event/medley-stableford-singles-2bbb-7/2021-08-04/
CATEGORIES:Wednesday Medley Comp
END:VEVENT
BEGIN:VEVENT
DTSTART;VALUE=DATE:20210803
DTEND;VALUE=DATE:20210804
DTSTAMP:20260423T142059
CREATED:20201227T033826Z
LAST-MODIFIED:20201227T033826Z
UID:10003159-1627948800-1628035199@www.leuragolfclub.com.au
SUMMARY:Tuesday Medley Comp
DESCRIPTION:
URL:https://www.leuragolfclub.com.au/event/tuesday-medley-comp-3/2021-08-03/
END:VEVENT
BEGIN:VEVENT
DTSTART;VALUE=DATE:20210731
DTEND;VALUE=DATE:20210801
DTSTAMP:20260423T142059
CREATED:20201227T022416Z
LAST-MODIFIED:20201227T022423Z
UID:10003126-1627689600-1627775999@www.leuragolfclub.com.au
SUMMARY:Medley Stableford Singles + 2BBB
DESCRIPTION:
URL:https://www.leuragolfclub.com.au/event/medley-stableford-singles-2bbb-11/
CATEGORIES:Saturday Medley Comp
END:VEVENT
BEGIN:VEVENT
DTSTART;VALUE=DATE:20210728
DTEND;VALUE=DATE:20210729
DTSTAMP:20260423T142059
CREATED:20201226T052938Z
LAST-MODIFIED:20201226T055112Z
UID:10003087-1627430400-1627516799@www.leuragolfclub.com.au
SUMMARY:Medley Stableford Singles + 2B Multiplier
DESCRIPTION:
URL:https://www.leuragolfclub.com.au/event/medley-stableford-singles-2b-multiplier-3/2021-07-28/
CATEGORIES:Wednesday Medley Comp
END:VEVENT
BEGIN:VEVENT
DTSTART;VALUE=DATE:20210727
DTEND;VALUE=DATE:20210728
DTSTAMP:20260423T142059
CREATED:20201227T033826Z
LAST-MODIFIED:20201227T033826Z
UID:10003158-1627344000-1627430399@www.leuragolfclub.com.au
SUMMARY:Tuesday Medley Comp
DESCRIPTION:
URL:https://www.leuragolfclub.com.au/event/tuesday-medley-comp-3/2021-07-27/
END:VEVENT
BEGIN:VEVENT
DTSTART;VALUE=DATE:20210724
DTEND;VALUE=DATE:20210725
DTSTAMP:20260423T142059
CREATED:20201226T034741Z
LAST-MODIFIED:20201226T035341Z
UID:10003009-1627084800-1627171199@www.leuragolfclub.com.au
SUMMARY:Medley Stableford Singles + 2B Aggregate
DESCRIPTION:
URL:https://www.leuragolfclub.com.au/event/medley-stableford-singles-2b-aggregate-2/2021-07-24/
CATEGORIES:Saturday Medley Comp
END:VEVENT
END:VCALENDAR