BEGIN:VCALENDAR
VERSION:2.0
PRODID:-//Leura Golf Club - ECPv6.13.2.1//NONSGML v1.0//EN
CALSCALE:GREGORIAN
METHOD:PUBLISH
X-WR-CALNAME:Leura Golf Club
X-ORIGINAL-URL:https://www.leuragolfclub.com.au
X-WR-CALDESC:Events for Leura Golf Club
REFRESH-INTERVAL;VALUE=DURATION:PT1H
X-Robots-Tag:noindex
X-PUBLISHED-TTL:PT1H
BEGIN:VTIMEZONE
TZID:Australia/Melbourne
BEGIN:STANDARD
TZOFFSETFROM:+1100
TZOFFSETTO:+1000
TZNAME:AEST
DTSTART:20220402T160000
END:STANDARD
BEGIN:DAYLIGHT
TZOFFSETFROM:+1000
TZOFFSETTO:+1100
TZNAME:AEDT
DTSTART:20221001T160000
END:DAYLIGHT
END:VTIMEZONE
BEGIN:VEVENT
DTSTART;VALUE=DATE:20220416
DTEND;VALUE=DATE:20220417
DTSTAMP:20260423T080436
CREATED:20220123T011733Z
LAST-MODIFIED:20220202T024202Z
UID:10003365-1650067200-1650153599@www.leuragolfclub.com.au
SUMMARY:Wallace Cup (Medley Stableford 2BBB)
DESCRIPTION:Wallace Cup is a Medley Stableford 2BBB competition. It is an open event.
URL:https://www.leuragolfclub.com.au/event/medley-stableford-singles-2b-aggregate-5-2022-04-16/
CATEGORIES:LGC Major Events
END:VEVENT
BEGIN:VEVENT
DTSTART;VALUE=DATE:20220416
DTEND;VALUE=DATE:20220417
DTSTAMP:20260423T080436
CREATED:20211231T040334Z
LAST-MODIFIED:20211231T040334Z
UID:10003281-1650067200-1650153599@www.leuragolfclub.com.au
SUMMARY:School Holidays
DESCRIPTION:
URL:https://www.leuragolfclub.com.au/event/school-holidays-8/2022-04-16/
END:VEVENT
BEGIN:VEVENT
DTSTART;VALUE=DATE:20220416
DTEND;VALUE=DATE:20220417
DTSTAMP:20260423T080436
CREATED:20180626T023936Z
LAST-MODIFIED:20180626T023936Z
UID:10002641-1650067200-1650153599@www.leuragolfclub.com.au
SUMMARY:Stableford + 2B Aggregate
DESCRIPTION:Medley competition – visitors welcome. \nComp closes at 4pm so please ensure that your tee time will allow you to finish in time.
URL:https://www.leuragolfclub.com.au/event/stableford-2b-aggregate/2022-04-16/
CATEGORIES:Saturday Medley Comp
END:VEVENT
BEGIN:VEVENT
DTSTART;VALUE=DATE:20220415
DTEND;VALUE=DATE:20220416
DTSTAMP:20260423T080436
CREATED:20211231T040334Z
LAST-MODIFIED:20211231T040334Z
UID:10003280-1649980800-1650067199@www.leuragolfclub.com.au
SUMMARY:School Holidays
DESCRIPTION:
URL:https://www.leuragolfclub.com.au/event/school-holidays-8/2022-04-15/
END:VEVENT
BEGIN:VEVENT
DTSTART;VALUE=DATE:20220415
DTEND;VALUE=DATE:20220416
DTSTAMP:20260423T080436
CREATED:20211231T035949Z
LAST-MODIFIED:20211231T040124Z
UID:10003273-1649980800-1650067199@www.leuragolfclub.com.au
SUMMARY:Good Friday
DESCRIPTION:
URL:https://www.leuragolfclub.com.au/event/good-friday-3/
END:VEVENT
BEGIN:VEVENT
DTSTART;TZID=Australia/Melbourne:20220414T190000
DTEND;TZID=Australia/Melbourne:20220414T210000
DTSTAMP:20260423T080436
CREATED:20220306T042102Z
LAST-MODIFIED:20220306T042102Z
UID:10003394-1649962800-1649970000@www.leuragolfclub.com.au
SUMMARY:Trivia @ the Club
DESCRIPTION:Bistro open at 5pm.
URL:https://www.leuragolfclub.com.au/event/trivia-the-club/2022-04-14/
CATEGORIES:LGC Function
END:VEVENT
BEGIN:VEVENT
DTSTART;VALUE=DATE:20220414
DTEND;VALUE=DATE:20220415
DTSTAMP:20260423T080436
CREATED:20211231T040334Z
LAST-MODIFIED:20211231T040334Z
UID:10003279-1649894400-1649980799@www.leuragolfclub.com.au
SUMMARY:School Holidays
DESCRIPTION:
URL:https://www.leuragolfclub.com.au/event/school-holidays-8/2022-04-14/
END:VEVENT
BEGIN:VEVENT
DTSTART;VALUE=DATE:20220413
DTEND;VALUE=DATE:20220414
DTSTAMP:20260423T080436
CREATED:20220123T003059Z
LAST-MODIFIED:20230304T012242Z
UID:10003304-1649808000-1649894399@www.leuragolfclub.com.au
SUMMARY:Medley Par Singles + 2BBB
DESCRIPTION:
URL:https://www.leuragolfclub.com.au/event/medley-par-singles-2bbb-3/2022-04-13/
CATEGORIES:Wednesday Medley Comp
END:VEVENT
BEGIN:VEVENT
DTSTART;VALUE=DATE:20220413
DTEND;VALUE=DATE:20220414
DTSTAMP:20260423T080436
CREATED:20211231T040334Z
LAST-MODIFIED:20211231T040334Z
UID:10003278-1649808000-1649894399@www.leuragolfclub.com.au
SUMMARY:School Holidays
DESCRIPTION:
URL:https://www.leuragolfclub.com.au/event/school-holidays-8/2022-04-13/
END:VEVENT
BEGIN:VEVENT
DTSTART;VALUE=DATE:20220412
DTEND;VALUE=DATE:20220413
DTSTAMP:20260423T080436
CREATED:20211231T040334Z
LAST-MODIFIED:20211231T040334Z
UID:10003277-1649721600-1649807999@www.leuragolfclub.com.au
SUMMARY:School Holidays
DESCRIPTION:
URL:https://www.leuragolfclub.com.au/event/school-holidays-8/2022-04-12/
END:VEVENT
BEGIN:VEVENT
DTSTART;VALUE=DATE:20220411
DTEND;VALUE=DATE:20220412
DTSTAMP:20260423T080436
CREATED:20211231T040334Z
LAST-MODIFIED:20211231T040334Z
UID:10003276-1649635200-1649721599@www.leuragolfclub.com.au
SUMMARY:School Holidays
DESCRIPTION:
URL:https://www.leuragolfclub.com.au/event/school-holidays-8/2022-04-11/
END:VEVENT
BEGIN:VEVENT
DTSTART;VALUE=DATE:20220410
DTEND;VALUE=DATE:20220411
DTSTAMP:20260423T080436
CREATED:20211231T040334Z
LAST-MODIFIED:20211231T040334Z
UID:10003275-1649548800-1649635199@www.leuragolfclub.com.au
SUMMARY:School Holidays
DESCRIPTION:
URL:https://www.leuragolfclub.com.au/event/school-holidays-8/2022-04-10/
END:VEVENT
BEGIN:VEVENT
DTSTART;VALUE=DATE:20220409
DTEND;VALUE=DATE:20220410
DTSTAMP:20260423T080436
CREATED:20220322T055149Z
LAST-MODIFIED:20220322T055149Z
UID:10003409-1649462400-1649548799@www.leuragolfclub.com.au
SUMMARY:Medley Stableford Singles + 2BBB
DESCRIPTION:
URL:https://www.leuragolfclub.com.au/event/medley-stableford-singles-2bbb-22/
CATEGORIES:Saturday Medley Comp
END:VEVENT
BEGIN:VEVENT
DTSTART;VALUE=DATE:20220409
DTEND;VALUE=DATE:20220410
DTSTAMP:20260423T080436
CREATED:20211231T040334Z
LAST-MODIFIED:20211231T040334Z
UID:10003274-1649462400-1649548799@www.leuragolfclub.com.au
SUMMARY:School Holidays
DESCRIPTION:
URL:https://www.leuragolfclub.com.au/event/school-holidays-8/2022-04-09/
END:VEVENT
BEGIN:VEVENT
DTSTART;TZID=Australia/Melbourne:20220407T190000
DTEND;TZID=Australia/Melbourne:20220407T210000
DTSTAMP:20260423T080436
CREATED:20220306T042102Z
LAST-MODIFIED:20220306T042102Z
UID:10003393-1649358000-1649365200@www.leuragolfclub.com.au
SUMMARY:Trivia @ the Club
DESCRIPTION:Bistro open at 5pm.
URL:https://www.leuragolfclub.com.au/event/trivia-the-club/2022-04-07/
CATEGORIES:LGC Function
END:VEVENT
BEGIN:VEVENT
DTSTART;VALUE=DATE:20220406
DTEND;VALUE=DATE:20220407
DTSTAMP:20260423T080436
CREATED:20211115T234200Z
LAST-MODIFIED:20221212T041308Z
UID:10003241-1649203200-1649289599@www.leuragolfclub.com.au
SUMMARY:Medley Stableford Singles + 2BBB
DESCRIPTION:
URL:https://www.leuragolfclub.com.au/event/medley-stableford-singles-2bbb-19/2022-04-06/
CATEGORIES:Wednesday Medley Comp
END:VEVENT
BEGIN:VEVENT
DTSTART;TZID=Australia/Melbourne:20220331T190000
DTEND;TZID=Australia/Melbourne:20220331T210000
DTSTAMP:20260423T080436
CREATED:20220306T042102Z
LAST-MODIFIED:20220306T042102Z
UID:10003392-1648753200-1648760400@www.leuragolfclub.com.au
SUMMARY:Trivia @ the Club
DESCRIPTION:Bistro open at 5pm.
URL:https://www.leuragolfclub.com.au/event/trivia-the-club/2022-03-31/
CATEGORIES:LGC Function
END:VEVENT
BEGIN:VEVENT
DTSTART;VALUE=DATE:20220330
DTEND;VALUE=DATE:20220331
DTSTAMP:20260423T080436
CREATED:20220123T003528Z
LAST-MODIFIED:20220123T003528Z
UID:10003315-1648598400-1648684799@www.leuragolfclub.com.au
SUMMARY:2 Person Ambrose
DESCRIPTION:
URL:https://www.leuragolfclub.com.au/event/2-person-ambrose-4/2022-03-30/
CATEGORIES:Wednesday Medley Comp
END:VEVENT
BEGIN:VEVENT
DTSTART;VALUE=DATE:20220326
DTEND;VALUE=DATE:20220327
DTSTAMP:20260423T080436
CREATED:20220322T054806Z
LAST-MODIFIED:20220322T054806Z
UID:10003408-1648252800-1648339199@www.leuragolfclub.com.au
SUMMARY:Men’s Monthly Medal + Medley Stroke
DESCRIPTION:Visitors welcome. Visitors can win the competition but not the Medal.
URL:https://www.leuragolfclub.com.au/event/mens-monthly-medal-medley-stroke-6/
CATEGORIES:Saturday Medley Comp
END:VEVENT
BEGIN:VEVENT
DTSTART;TZID=Australia/Melbourne:20220324T190000
DTEND;TZID=Australia/Melbourne:20220324T210000
DTSTAMP:20260423T080436
CREATED:20220306T042102Z
LAST-MODIFIED:20220306T042102Z
UID:10003391-1648148400-1648155600@www.leuragolfclub.com.au
SUMMARY:Trivia @ the Club
DESCRIPTION:Bistro open at 5pm.
URL:https://www.leuragolfclub.com.au/event/trivia-the-club/2022-03-24/
CATEGORIES:LGC Function
END:VEVENT
BEGIN:VEVENT
DTSTART;VALUE=DATE:20220319
DTEND;VALUE=DATE:20220320
DTSTAMP:20260423T080436
CREATED:20220123T011733Z
LAST-MODIFIED:20220123T012223Z
UID:10003362-1647648000-1647734399@www.leuragolfclub.com.au
SUMMARY:Medley Stableford Singles + 2B Aggregate
DESCRIPTION:
URL:https://www.leuragolfclub.com.au/event/medley-stableford-singles-2b-aggregate-5/2022-03-19/
CATEGORIES:Saturday Medley Comp
END:VEVENT
BEGIN:VEVENT
DTSTART;VALUE=DATE:20220319
DTEND;VALUE=DATE:20220320
DTSTAMP:20260423T080436
CREATED:20180626T023936Z
LAST-MODIFIED:20180626T023936Z
UID:10002640-1647648000-1647734399@www.leuragolfclub.com.au
SUMMARY:Stableford + 2B Aggregate
DESCRIPTION:Medley competition – visitors welcome. \nComp closes at 4pm so please ensure that your tee time will allow you to finish in time.
URL:https://www.leuragolfclub.com.au/event/stableford-2b-aggregate/2022-03-19/
CATEGORIES:Saturday Medley Comp
END:VEVENT
BEGIN:VEVENT
DTSTART;TZID=Australia/Melbourne:20220317T190000
DTEND;TZID=Australia/Melbourne:20220317T210000
DTSTAMP:20260423T080436
CREATED:20220306T042102Z
LAST-MODIFIED:20220306T042102Z
UID:10003390-1647543600-1647550800@www.leuragolfclub.com.au
SUMMARY:Trivia @ the Club
DESCRIPTION:Bistro open at 5pm.
URL:https://www.leuragolfclub.com.au/event/trivia-the-club/2022-03-17/
CATEGORIES:LGC Function
END:VEVENT
BEGIN:VEVENT
DTSTART;VALUE=DATE:20220316
DTEND;VALUE=DATE:20220317
DTSTAMP:20260423T080436
CREATED:20220123T004010Z
LAST-MODIFIED:20221230T021827Z
UID:10003320-1647388800-1647475199@www.leuragolfclub.com.au
SUMMARY:Medley Stableford Singles + 2B Aggregate
DESCRIPTION:
URL:https://www.leuragolfclub.com.au/event/medley-stableford-singles-2b-aggregate-4/2022-03-16/
CATEGORIES:Wednesday Medley Comp
END:VEVENT
BEGIN:VEVENT
DTSTART;VALUE=DATE:20220313
DTEND;VALUE=DATE:20220314
DTSTAMP:20260423T080436
CREATED:20220310T043755Z
LAST-MODIFIED:20220310T043823Z
UID:10003407-1647129600-1647215999@www.leuragolfclub.com.au
SUMMARY:Kortum Shield Final v Oberon @ Henbury
DESCRIPTION:
URL:https://www.leuragolfclub.com.au/event/kortum-shield-final-v-oberon-henbury/
CATEGORIES:BM District Event
END:VEVENT
BEGIN:VEVENT
DTSTART;VALUE=DATE:20220313
DTEND;VALUE=DATE:20220314
DTSTAMP:20260423T080436
CREATED:20220310T043700Z
LAST-MODIFIED:20220310T043901Z
UID:10003406-1647129600-1647215999@www.leuragolfclub.com.au
SUMMARY:A Reserves Final v Lithgow @ Oberon
DESCRIPTION:
URL:https://www.leuragolfclub.com.au/event/a-reserves-final-v-lithgow-oberon/
CATEGORIES:BM District Event
END:VEVENT
BEGIN:VEVENT
DTSTART;VALUE=DATE:20220313
DTEND;VALUE=DATE:20220314
DTSTAMP:20260423T080436
CREATED:20220310T043503Z
LAST-MODIFIED:20220310T043503Z
UID:10003389-1647129600-1647215999@www.leuragolfclub.com.au
SUMMARY:Pennants
DESCRIPTION:
URL:https://www.leuragolfclub.com.au/event/pennants/
CATEGORIES:BM District Event
END:VEVENT
BEGIN:VEVENT
DTSTART;VALUE=DATE:20220312
DTEND;VALUE=DATE:20220313
DTSTAMP:20260423T080436
CREATED:20220123T011417Z
LAST-MODIFIED:20220123T011417Z
UID:10003343-1647043200-1647129599@www.leuragolfclub.com.au
SUMMARY:Medley Stableford Singles + 2BBB
DESCRIPTION:
URL:https://www.leuragolfclub.com.au/event/medley-stableford-singles-2bbb-20/2022-03-12/
CATEGORIES:Saturday Medley Comp
END:VEVENT
BEGIN:VEVENT
DTSTART;VALUE=DATE:20220309
DTEND;VALUE=DATE:20220310
DTSTAMP:20260423T080436
CREATED:20220123T003059Z
LAST-MODIFIED:20230304T012242Z
UID:10003303-1646784000-1646870399@www.leuragolfclub.com.au
SUMMARY:Medley Par Singles + 2BBB
DESCRIPTION:
URL:https://www.leuragolfclub.com.au/event/medley-par-singles-2bbb-3/2022-03-09/
CATEGORIES:Wednesday Medley Comp
END:VEVENT
BEGIN:VEVENT
DTSTART;VALUE=DATE:20220306
DTEND;VALUE=DATE:20220307
DTSTAMP:20260423T080436
CREATED:20211231T031656Z
LAST-MODIFIED:20220207T221109Z
UID:10003270-1646524800-1646611199@www.leuragolfclub.com.au
SUMMARY:Masters v B/heath One
DESCRIPTION:
URL:https://www.leuragolfclub.com.au/event/masters-v-b-heath-one/
CATEGORIES:BM District Event
END:VEVENT
END:VCALENDAR