BEGIN:VCALENDAR
VERSION:2.0
PRODID:-//Leura Golf Club - ECPv6.13.2.1//NONSGML v1.0//EN
CALSCALE:GREGORIAN
METHOD:PUBLISH
X-WR-CALNAME:Leura Golf Club
X-ORIGINAL-URL:https://www.leuragolfclub.com.au
X-WR-CALDESC:Events for Leura Golf Club
REFRESH-INTERVAL;VALUE=DURATION:PT1H
X-Robots-Tag:noindex
X-PUBLISHED-TTL:PT1H
BEGIN:VTIMEZONE
TZID:Australia/Melbourne
BEGIN:STANDARD
TZOFFSETFROM:+1100
TZOFFSETTO:+1000
TZNAME:AEST
DTSTART:20210403T160000
END:STANDARD
BEGIN:DAYLIGHT
TZOFFSETFROM:+1000
TZOFFSETTO:+1100
TZNAME:AEDT
DTSTART:20211002T160000
END:DAYLIGHT
END:VTIMEZONE
BEGIN:VEVENT
DTSTART;VALUE=DATE:20210619
DTEND;VALUE=DATE:20210620
DTSTAMP:20260423T152014
CREATED:20201227T020050Z
LAST-MODIFIED:20210509T233357Z
UID:10003117-1624060800-1624147199@www.leuragolfclub.com.au
SUMMARY:Men's Foursomes Championships Rd 2
DESCRIPTION:MEN’S FOURSOMES CHAMPIONSHIPS 2021\n\nCONDITIONS OF PLAY – ENTRANCE FEE $20 PER PLAYER \n\nFoursomes: Two players play as partners and use one ball. The players hit off alternately from the tee and thereafter strike the ball alternately during the play of each hole. If either player incurs a penalty stroke it does not alter the rotation of play.\nThe competition will be played according to the ‘Rules of Golf’ and competitors must be members of Leura Golf Club and hold an AGU handicap. Members are reminded that this is a club championship event and members’ attention is directed to By-Law 7  – see below. For the purposes of these Conditions of Play “Club Championships” where used in the by-law means “Men’s Foursome Championships”.\nThe competition will consist of two rounds of 18 holes foursomes stroke play from the blue tees on Saturdays 12 and 19 June 2021. Preferred lies in accordance with the Local Rules will apply.  The 12th hole C graders Local Rule will not apply.\nFor Round 2 the order of play will be reversed from that of Round 1.\nRound 2 tee times shall commence at 8.28 am\, the B graders to hit off first followed by the A graders. Pair groups shall be decided by the Match Committee and if there shall be an odd number of pairs an A grade pair may be grouped with a B grade pair.\nThe handicap of each pair will be one half of their combined daily handicaps applicable at the commencement of Round 1.\nThe competition will be played in two grades\, namely\n\nA grade – pair handicaps of 16 or less\nB grade – pair handicaps of more than 16\, 36 being the maximum handicap.\n\n\nThe championship winners in each grade will be the pair who returns the best aggregate scratch score over the two rounds. There will be net winners in each grade. There will be prizes for the Runners-up.\nIn the event of a tie winners will be determined:\n\nIn the case of the best aggregate scratch score by a sudden death playoff. The tied pairs shall play one extra hole at a time with the pairs still tied moving on to the next hole until a winning pair has been decided. The playoff holes shall be holes 1\, 11\, 12 and 18 repeated as necessary.\nIn all other cases by count backs as applied by Golf Link.\n\n\nAll disputes must be in writing and will be decided by the Match Committee. Decisions will be final.\nIf in the opinion of the Match committee in conjunction with the Greenkeeper the course should be closed due to inclement weather the round affected shall not be played and shall be re-scheduled.\nThere will be no NTP competition for those playing in the foursomes championships.\n\n By-Law 7 – Club Championship Eligibility: \nTo be eligible to play in any Club Championship event\, a member shall have completed at least two (2) monthly medal rounds or at least five (5) competition rounds at Leura Golf Club in the 12 months immediately preceding the Club Championships. (ie the Club Championship event concerned) \nMedley club competition: There will be a singles Stableford competition from the blue (men) and red (women) tees for those who elect not to play in the championships. There will not be a 2 ball competition. There will be at least one NTP. \nMATCH COMMITTEE – LEURA GOLF CLUB \nMay 2021 \nLOCAL RULES – MEN’S FOURSOMES CHAMPIONSHPS – 2021\n\nREFERENCE – RULES OF GOLF – 2019 \nThe Local Rules apply to the Championships except as noted\, expanded and/or clarified below. \nIMMOVABLE OBSTRUCTIONS – Rule 16 \nIncludes the artificial surfaces and sides of roads and paths including gravel paths. \nIMMOVABLE OBSTRUCTIONS CLOSE TO PUTTING GREEN  \nSPRINKLER HEADS \nRelief may be taken under Rule 16.1b if a sprinkler head or other immovable obstruction is on the line of play and is within two club lengths of the putting green\, and within two club lengths of the ball provided that there will be no relief if the line of play is clearly unreasonable. \n12TH HOLE \nThe 12th hole local rule which is applicable to C graders only shall NOT apply for the purposes of the Foursomes Championships. \nDROP ZONE \nThere is a clearly defined drop zone alongside\, and for play to\, the 6th green (left hand side) for relief from the nearby designated hedge area. \nSLOW PLAY – Rule 5.6 \nSlow play penalties will be imposed. General penalty for breach of Local Rules – 2 strokes. \nFOR AND ON BEHALF OF MATCH COMMITTEE\nMay 2021
URL:https://www.leuragolfclub.com.au/event/mens-foursomes-championships-rd-2-2/
CATEGORIES:LGC Major Events
END:VEVENT
BEGIN:VEVENT
DTSTART;VALUE=DATE:20210619
DTEND;VALUE=DATE:20210620
DTSTAMP:20260423T152014
CREATED:20180626T023936Z
LAST-MODIFIED:20180626T023936Z
UID:10002631-1624060800-1624147199@www.leuragolfclub.com.au
SUMMARY:Stableford + 2B Aggregate
DESCRIPTION:Medley competition – visitors welcome. \nComp closes at 4pm so please ensure that your tee time will allow you to finish in time.
URL:https://www.leuragolfclub.com.au/event/stableford-2b-aggregate/2021-06-19/
CATEGORIES:Saturday Medley Comp
END:VEVENT
BEGIN:VEVENT
DTSTART;VALUE=DATE:20210616
DTEND;VALUE=DATE:20210617
DTSTAMP:20260423T152014
CREATED:20201226T054341Z
LAST-MODIFIED:20201226T054403Z
UID:10003097-1623801600-1623887999@www.leuragolfclub.com.au
SUMMARY:Medley Stroke
DESCRIPTION:
URL:https://www.leuragolfclub.com.au/event/medley-stroke/2021-06-16/
CATEGORIES:Wednesday Medley Comp
END:VEVENT
BEGIN:VEVENT
DTSTART;VALUE=DATE:20210615
DTEND;VALUE=DATE:20210616
DTSTAMP:20260423T152014
CREATED:20201227T033826Z
LAST-MODIFIED:20201227T033826Z
UID:10003152-1623715200-1623801599@www.leuragolfclub.com.au
SUMMARY:Tuesday Medley Comp
DESCRIPTION:
URL:https://www.leuragolfclub.com.au/event/tuesday-medley-comp-3/2021-06-15/
END:VEVENT
BEGIN:VEVENT
DTSTART;VALUE=DATE:20210614
DTEND;VALUE=DATE:20210615
DTSTAMP:20260423T152014
CREATED:20201226T022722Z
LAST-MODIFIED:20201226T022722Z
UID:10002971-1623628800-1623715199@www.leuragolfclub.com.au
SUMMARY:Queen's Birthday
DESCRIPTION:
URL:https://www.leuragolfclub.com.au/event/queens-birthday/
END:VEVENT
BEGIN:VEVENT
DTSTART;VALUE=DATE:20210612
DTEND;VALUE=DATE:20210613
DTSTAMP:20260423T152014
CREATED:20201227T020209Z
LAST-MODIFIED:20201227T020209Z
UID:10003118-1623456000-1623542399@www.leuragolfclub.com.au
SUMMARY:Medley Single Stableford
DESCRIPTION:
URL:https://www.leuragolfclub.com.au/event/medley-single-stableford/2021-06-12/
CATEGORIES:Saturday Medley Comp
END:VEVENT
BEGIN:VEVENT
DTSTART;VALUE=DATE:20210612
DTEND;VALUE=DATE:20210613
DTSTAMP:20260423T152014
CREATED:20201227T015942Z
LAST-MODIFIED:20210509T233248Z
UID:10003116-1623456000-1623542399@www.leuragolfclub.com.au
SUMMARY:Men's Foursomes Championships Rd 1
DESCRIPTION:MEN’S FOURSOMES CHAMPIONSHIPS 2021\n\nCONDITIONS OF PLAY – ENTRANCE FEE $20 PER PLAYER \n\nFoursomes: Two players play as partners and use one ball. The players hit off alternately from the tee and thereafter strike the ball alternately during the play of each hole. If either player incurs a penalty stroke it does not alter the rotation of play.\nThe competition will be played according to the ‘Rules of Golf’ and competitors must be members of Leura Golf Club and hold an AGU handicap. Members are reminded that this is a club championship event and members’ attention is directed to By-Law 7  – see below. For the purposes of these Conditions of Play “Club Championships” where used in the by-law means “Men’s Foursome Championships”.\nThe competition will consist of two rounds of 18 holes foursomes stroke play from the blue tees on Saturdays 12 and 19 June 2021. Preferred lies in accordance with the Local Rules will apply.  The 12th hole C graders Local Rule will not apply.\nFor Round 2 the order of play will be reversed from that of Round 1.\nRound 2 tee times shall commence at 8.28 am\, the B graders to hit off first followed by the A graders. Pair groups shall be decided by the Match Committee and if there shall be an odd number of pairs an A grade pair may be grouped with a B grade pair.\nThe handicap of each pair will be one half of their combined daily handicaps applicable at the commencement of Round 1.\nThe competition will be played in two grades\, namely\n\nA grade – pair handicaps of 16 or less\nB grade – pair handicaps of more than 16\, 36 being the maximum handicap.\n\n\nThe championship winners in each grade will be the pair who returns the best aggregate scratch score over the two rounds. There will be net winners in each grade. There will be prizes for the Runners-up.\nIn the event of a tie winners will be determined:\n\nIn the case of the best aggregate scratch score by a sudden death playoff. The tied pairs shall play one extra hole at a time with the pairs still tied moving on to the next hole until a winning pair has been decided. The playoff holes shall be holes 1\, 11\, 12 and 18 repeated as necessary.\nIn all other cases by count backs as applied by Golf Link.\n\n\nAll disputes must be in writing and will be decided by the Match Committee. Decisions will be final.\nIf in the opinion of the Match committee in conjunction with the Greenkeeper the course should be closed due to inclement weather the round affected shall not be played and shall be re-scheduled.\nThere will be no NTP competition for those playing in the foursomes championships.\n\n By-Law 7 – Club Championship Eligibility: \nTo be eligible to play in any Club Championship event\, a member shall have completed at least two (2) monthly medal rounds or at least five (5) competition rounds at Leura Golf Club in the 12 months immediately preceding the Club Championships. (ie the Club Championship event concerned) \nMedley club competition: There will be a singles Stableford competition from the blue (men) and red (women) tees for those who elect not to play in the championships. There will not be a 2 ball competition. There will be at least one NTP. \nMATCH COMMITTEE – LEURA GOLF CLUB \nMay 2021 \nLOCAL RULES – MEN’S FOURSOMES CHAMPIONSHPS – 2021\n\nREFERENCE – RULES OF GOLF – 2019 \nThe Local Rules apply to the Championships except as noted\, expanded and/or clarified below. \nIMMOVABLE OBSTRUCTIONS – Rule 16 \nIncludes the artificial surfaces and sides of roads and paths including gravel paths. \nIMMOVABLE OBSTRUCTIONS CLOSE TO PUTTING GREEN  \nSPRINKLER HEADS \nRelief may be taken under Rule 16.1b if a sprinkler head or other immovable obstruction is on the line of play and is within two club lengths of the putting green\, and within two club lengths of the ball provided that there will be no relief if the line of play is clearly unreasonable. \n12TH HOLE \nThe 12th hole local rule which is applicable to C graders only shall NOT apply for the purposes of the Foursomes Championships. \nDROP ZONE \nThere is a clearly defined drop zone alongside\, and for play to\, the 6th green (left hand side) for relief from the nearby designated hedge area. \nSLOW PLAY – Rule 5.6 \nSlow play penalties will be imposed. General penalty for breach of Local Rules – 2 strokes. \nFOR AND ON BEHALF OF MATCH COMMITTEE\nMay 2021
URL:https://www.leuragolfclub.com.au/event/mens-foursomes-championships-rd-1-2/
CATEGORIES:LGC Major Events
END:VEVENT
BEGIN:VEVENT
DTSTART;VALUE=DATE:20210609
DTEND;VALUE=DATE:20210610
DTSTAMP:20260423T152014
CREATED:20201226T052214Z
LAST-MODIFIED:20210226T232817Z
UID:10003076-1623196800-1623283199@www.leuragolfclub.com.au
SUMMARY:Medley Stableford Singles+ 2BBB
DESCRIPTION:
URL:https://www.leuragolfclub.com.au/event/medley-stableford-singles-2bbb-8-2021-03-10/2021-06-09/
CATEGORIES:Wednesday Medley Comp
END:VEVENT
BEGIN:VEVENT
DTSTART;VALUE=DATE:20210608
DTEND;VALUE=DATE:20210609
DTSTAMP:20260423T152014
CREATED:20201228T012349Z
LAST-MODIFIED:20201228T012349Z
UID:10003227-1623110400-1623196799@www.leuragolfclub.com.au
SUMMARY:NSW Srixon Mid-Amateur C'ship
DESCRIPTION:For more informatio go to https://www.golfnsw.org.au/
URL:https://www.leuragolfclub.com.au/event/nsw-srixon-mid-amateur-cship/2021-06-08/
END:VEVENT
BEGIN:VEVENT
DTSTART;VALUE=DATE:20210608
DTEND;VALUE=DATE:20210609
DTSTAMP:20260423T152015
CREATED:20201227T033826Z
LAST-MODIFIED:20201227T033826Z
UID:10003151-1623110400-1623196799@www.leuragolfclub.com.au
SUMMARY:Tuesday Medley Comp
DESCRIPTION:
URL:https://www.leuragolfclub.com.au/event/tuesday-medley-comp-3/2021-06-08/
END:VEVENT
BEGIN:VEVENT
DTSTART;VALUE=DATE:20210607
DTEND;VALUE=DATE:20210608
DTSTAMP:20260423T152015
CREATED:20201228T012349Z
LAST-MODIFIED:20201228T012349Z
UID:10003226-1623024000-1623110399@www.leuragolfclub.com.au
SUMMARY:NSW Srixon Mid-Amateur C'ship
DESCRIPTION:For more informatio go to https://www.golfnsw.org.au/
URL:https://www.leuragolfclub.com.au/event/nsw-srixon-mid-amateur-cship/2021-06-07/
END:VEVENT
BEGIN:VEVENT
DTSTART;VALUE=DATE:20210606
DTEND;VALUE=DATE:20210607
DTSTAMP:20260423T152015
CREATED:20201228T012349Z
LAST-MODIFIED:20201228T012349Z
UID:10003225-1622937600-1623023999@www.leuragolfclub.com.au
SUMMARY:NSW Srixon Mid-Amateur C'ship
DESCRIPTION:For more informatio go to https://www.golfnsw.org.au/
URL:https://www.leuragolfclub.com.au/event/nsw-srixon-mid-amateur-cship/2021-06-06/
END:VEVENT
BEGIN:VEVENT
DTSTART;VALUE=DATE:20210605
DTEND;VALUE=DATE:20210606
DTSTAMP:20260423T152015
CREATED:20201226T032611Z
LAST-MODIFIED:20201226T032611Z
UID:10002980-1622851200-1622937599@www.leuragolfclub.com.au
SUMMARY:Men's Monthly Medal + Medley Stroke
DESCRIPTION:Men’s Medal event. Visitors and women are welcome\, can win the event but not the medal.
URL:https://www.leuragolfclub.com.au/event/mens-monthly-medal-medley-stroke/2021-06-05/
CATEGORIES:Saturday Medley Comp
END:VEVENT
BEGIN:VEVENT
DTSTART;VALUE=DATE:20210602
DTEND;VALUE=DATE:20210603
DTSTAMP:20260423T152015
CREATED:20201226T052109Z
LAST-MODIFIED:20201226T053932Z
UID:10003041-1622592000-1622678399@www.leuragolfclub.com.au
SUMMARY:Medley Stableford Singles + 2BBB
DESCRIPTION:
URL:https://www.leuragolfclub.com.au/event/medley-stableford-singles-2bbb-7/2021-06-02/
CATEGORIES:Wednesday Medley Comp
END:VEVENT
BEGIN:VEVENT
DTSTART;VALUE=DATE:20210601
DTEND;VALUE=DATE:20210602
DTSTAMP:20260423T152015
CREATED:20201227T033826Z
LAST-MODIFIED:20201227T033826Z
UID:10003150-1622505600-1622591999@www.leuragolfclub.com.au
SUMMARY:Tuesday Medley Comp
DESCRIPTION:
URL:https://www.leuragolfclub.com.au/event/tuesday-medley-comp-3/2021-06-01/
END:VEVENT
BEGIN:VEVENT
DTSTART;VALUE=DATE:20210529
DTEND;VALUE=DATE:20210530
DTSTAMP:20260423T152015
CREATED:20210519T055947Z
LAST-MODIFIED:20210519T055947Z
UID:10003230-1622246400-1622332799@www.leuragolfclub.com.au
SUMMARY:Medley Stableford Singles + 2BBB
DESCRIPTION:
URL:https://www.leuragolfclub.com.au/event/medley-stableford-singles-2bbb-16/
CATEGORIES:Saturday Medley Comp
END:VEVENT
BEGIN:VEVENT
DTSTART;VALUE=DATE:20210526
DTEND;VALUE=DATE:20210527
DTSTAMP:20260423T152015
CREATED:20201226T052938Z
LAST-MODIFIED:20201226T055112Z
UID:10003086-1621987200-1622073599@www.leuragolfclub.com.au
SUMMARY:Medley Stableford Singles + 2B Multiplier
DESCRIPTION:
URL:https://www.leuragolfclub.com.au/event/medley-stableford-singles-2b-multiplier-3/2021-05-26/
CATEGORIES:Wednesday Medley Comp
END:VEVENT
BEGIN:VEVENT
DTSTART;VALUE=DATE:20210525
DTEND;VALUE=DATE:20210526
DTSTAMP:20260423T152015
CREATED:20201227T033826Z
LAST-MODIFIED:20201227T033826Z
UID:10003149-1621900800-1621987199@www.leuragolfclub.com.au
SUMMARY:Tuesday Medley Comp
DESCRIPTION:
URL:https://www.leuragolfclub.com.au/event/tuesday-medley-comp-3/2021-05-25/
END:VEVENT
BEGIN:VEVENT
DTSTART;VALUE=DATE:20210522
DTEND;VALUE=DATE:20210523
DTSTAMP:20260423T152015
CREATED:20201226T034741Z
LAST-MODIFIED:20201226T035341Z
UID:10003008-1621641600-1621727999@www.leuragolfclub.com.au
SUMMARY:Medley Stableford Singles + 2B Aggregate
DESCRIPTION:
URL:https://www.leuragolfclub.com.au/event/medley-stableford-singles-2b-aggregate-2/2021-05-22/
CATEGORIES:Saturday Medley Comp
END:VEVENT
BEGIN:VEVENT
DTSTART;VALUE=DATE:20210519
DTEND;VALUE=DATE:20210520
DTSTAMP:20260423T152015
CREATED:20201226T054341Z
LAST-MODIFIED:20201226T054403Z
UID:10003096-1621382400-1621468799@www.leuragolfclub.com.au
SUMMARY:Medley Stroke
DESCRIPTION:
URL:https://www.leuragolfclub.com.au/event/medley-stroke/2021-05-19/
CATEGORIES:Wednesday Medley Comp
END:VEVENT
BEGIN:VEVENT
DTSTART;VALUE=DATE:20210518
DTEND;VALUE=DATE:20210519
DTSTAMP:20260423T152015
CREATED:20201227T033826Z
LAST-MODIFIED:20201227T033826Z
UID:10003148-1621296000-1621382399@www.leuragolfclub.com.au
SUMMARY:Tuesday Medley Comp
DESCRIPTION:
URL:https://www.leuragolfclub.com.au/event/tuesday-medley-comp-3/2021-05-18/
END:VEVENT
BEGIN:VEVENT
DTSTART;VALUE=DATE:20210516
DTEND;VALUE=DATE:20210517
DTSTAMP:20260423T152015
CREATED:20201227T015250Z
LAST-MODIFIED:20201227T015250Z
UID:10002847-1621123200-1621209599@www.leuragolfclub.com.au
SUMMARY:Mixed Foursomes Championships
DESCRIPTION:MIXED FOURSOMES CHAMPIONSHIPS\nCONDITIONS OF PLAY – RULES OF GOLF APPLY.\n18 HOLE COMPETITION – $20 PER PLAYER. \n\nBoth partners must be members of Leura Golf Club. This is a championship event so By-law 7 applies – see below. For the purposes of these Conditions of Play “Club Championships” where used in the by-law shall mean “Mixed Foursomes Championships”.\nIt will be decided closer to\, or on the day\, whether the ball will be played as it lies or whether preferred lies will apply.\nAggregate handicap of partners is halved i.e. (10 + 26)/2 = 18 handicap.\nMen tee off on all odd numbered holes i.e. 1st\, 3rd etc.\nWomen tee off on all even numbered holes i.e. 2nd 4th etc.\nAfter teeing off the shot is then alternated between partners until the ball is in the hole.\nMen play off blue markers – Women from red.\nIf an air shot occurs then partner must play next shot.\nAbnormal Course Conditions – relief is allowed in accordance with Rule 16.\nStaked Trees – see No Play Zones Local Rule.\nIf your partner hits a ball out of bounds then the alternate player must hit another from the same spot adding a one shot penalty.\nNo relief from tyre tracks – it is not a local rule.\n\nNote – this is a stroke event (alternating shots by partners) – trophies for scratch winner and runner-up\, also trophies for net winner and runner-up. \nMatch Committee – June 2019 \nBy-Law 7 – Club Championship Eligibility:\nTo be eligible to play in the Club Championships\, a member shall have completed at least 2 monthly medal rounds or at least 5 competition rounds at Leura Golf Club in the 12 months immediately preceding the Club Championships.
URL:https://www.leuragolfclub.com.au/event/mixed-foursomes-championships-3/
CATEGORIES:LGC Major Events
END:VEVENT
BEGIN:VEVENT
DTSTART;VALUE=DATE:20210515
DTEND;VALUE=DATE:20210516
DTSTAMP:20260423T152015
CREATED:20201226T034556Z
LAST-MODIFIED:20201226T034556Z
UID:10003000-1621036800-1621123199@www.leuragolfclub.com.au
SUMMARY:Medley Par Singles + 2BBB
DESCRIPTION:
URL:https://www.leuragolfclub.com.au/event/medley-par-singles-2bbb/2021-05-15/
CATEGORIES:Saturday Medley Comp
END:VEVENT
BEGIN:VEVENT
DTSTART;VALUE=DATE:20210515
DTEND;VALUE=DATE:20210516
DTSTAMP:20260423T152015
CREATED:20180626T023936Z
LAST-MODIFIED:20180626T023936Z
UID:10002630-1621036800-1621123199@www.leuragolfclub.com.au
SUMMARY:Stableford + 2B Aggregate
DESCRIPTION:Medley competition – visitors welcome. \nComp closes at 4pm so please ensure that your tee time will allow you to finish in time.
URL:https://www.leuragolfclub.com.au/event/stableford-2b-aggregate/2021-05-15/
CATEGORIES:Saturday Medley Comp
END:VEVENT
BEGIN:VEVENT
DTSTART;VALUE=DATE:20210512
DTEND;VALUE=DATE:20210513
DTSTAMP:20260423T152015
CREATED:20201226T052214Z
LAST-MODIFIED:20210226T232817Z
UID:10003075-1620777600-1620863999@www.leuragolfclub.com.au
SUMMARY:Medley Stableford Singles+ 2BBB
DESCRIPTION:
URL:https://www.leuragolfclub.com.au/event/medley-stableford-singles-2bbb-8-2021-03-10/2021-05-12/
CATEGORIES:Wednesday Medley Comp
END:VEVENT
BEGIN:VEVENT
DTSTART;VALUE=DATE:20210511
DTEND;VALUE=DATE:20210512
DTSTAMP:20260423T152015
CREATED:20201227T033826Z
LAST-MODIFIED:20201227T033826Z
UID:10003147-1620691200-1620777599@www.leuragolfclub.com.au
SUMMARY:Tuesday Medley Comp
DESCRIPTION:
URL:https://www.leuragolfclub.com.au/event/tuesday-medley-comp-3/2021-05-11/
END:VEVENT
BEGIN:VEVENT
DTSTART;VALUE=DATE:20210508
DTEND;VALUE=DATE:20210509
DTSTAMP:20260423T152015
CREATED:20201226T034050Z
LAST-MODIFIED:20201226T034050Z
UID:10002993-1620432000-1620518399@www.leuragolfclub.com.au
SUMMARY:Medley Stableford Singles + 2BBB
DESCRIPTION:
URL:https://www.leuragolfclub.com.au/event/medley-stableford-singles-2bbb-6/2021-05-08/
CATEGORIES:Saturday Medley Comp
END:VEVENT
BEGIN:VEVENT
DTSTART;VALUE=DATE:20210505
DTEND;VALUE=DATE:20210506
DTSTAMP:20260423T152015
CREATED:20201226T052109Z
LAST-MODIFIED:20201226T053932Z
UID:10003040-1620172800-1620259199@www.leuragolfclub.com.au
SUMMARY:Medley Stableford Singles + 2BBB
DESCRIPTION:
URL:https://www.leuragolfclub.com.au/event/medley-stableford-singles-2bbb-7/2021-05-05/
CATEGORIES:Wednesday Medley Comp
END:VEVENT
BEGIN:VEVENT
DTSTART;VALUE=DATE:20210504
DTEND;VALUE=DATE:20210505
DTSTAMP:20260423T152015
CREATED:20201227T033826Z
LAST-MODIFIED:20201227T033826Z
UID:10003146-1620086400-1620172799@www.leuragolfclub.com.au
SUMMARY:Tuesday Medley Comp
DESCRIPTION:
URL:https://www.leuragolfclub.com.au/event/tuesday-medley-comp-3/2021-05-04/
END:VEVENT
BEGIN:VEVENT
DTSTART;VALUE=DATE:20210501
DTEND;VALUE=DATE:20210502
DTSTAMP:20260423T152015
CREATED:20201226T032611Z
LAST-MODIFIED:20201226T032611Z
UID:10002979-1619827200-1619913599@www.leuragolfclub.com.au
SUMMARY:Men's Monthly Medal + Medley Stroke
DESCRIPTION:Men’s Medal event. Visitors and women are welcome\, can win the event but not the medal.
URL:https://www.leuragolfclub.com.au/event/mens-monthly-medal-medley-stroke/2021-05-01/
CATEGORIES:Saturday Medley Comp
END:VEVENT
END:VCALENDAR