BEGIN:VCALENDAR
VERSION:2.0
PRODID:-//Leura Golf Club - ECPv6.13.2.1//NONSGML v1.0//EN
CALSCALE:GREGORIAN
METHOD:PUBLISH
X-WR-CALNAME:Leura Golf Club
X-ORIGINAL-URL:https://www.leuragolfclub.com.au
X-WR-CALDESC:Events for Leura Golf Club
REFRESH-INTERVAL;VALUE=DURATION:PT1H
X-Robots-Tag:noindex
X-PUBLISHED-TTL:PT1H
BEGIN:VTIMEZONE
TZID:Australia/Melbourne
BEGIN:STANDARD
TZOFFSETFROM:+1100
TZOFFSETTO:+1000
TZNAME:AEST
DTSTART:20210403T160000
END:STANDARD
BEGIN:DAYLIGHT
TZOFFSETFROM:+1000
TZOFFSETTO:+1100
TZNAME:AEDT
DTSTART:20211002T160000
END:DAYLIGHT
END:VTIMEZONE
BEGIN:VEVENT
DTSTART;VALUE=DATE:20210811
DTEND;VALUE=DATE:20210812
DTSTAMP:20260423T154504
CREATED:20201226T052214Z
LAST-MODIFIED:20210226T232817Z
UID:10003078-1628640000-1628726399@www.leuragolfclub.com.au
SUMMARY:Medley Stableford Singles+ 2BBB
DESCRIPTION:
URL:https://www.leuragolfclub.com.au/event/medley-stableford-singles-2bbb-8-2021-03-10/2021-08-11/
CATEGORIES:Wednesday Medley Comp
END:VEVENT
BEGIN:VEVENT
DTSTART;VALUE=DATE:20210807
DTEND;VALUE=DATE:20210808
DTSTAMP:20260423T154504
CREATED:20201226T032611Z
LAST-MODIFIED:20201226T032611Z
UID:10002982-1628294400-1628380799@www.leuragolfclub.com.au
SUMMARY:Men's Monthly Medal + Medley Stroke
DESCRIPTION:Men’s Medal event. Visitors and women are welcome\, can win the event but not the medal.
URL:https://www.leuragolfclub.com.au/event/mens-monthly-medal-medley-stroke/2021-08-07/
CATEGORIES:Saturday Medley Comp
END:VEVENT
BEGIN:VEVENT
DTSTART;VALUE=DATE:20210804
DTEND;VALUE=DATE:20210805
DTSTAMP:20260423T154504
CREATED:20201226T052109Z
LAST-MODIFIED:20201226T053932Z
UID:10003043-1628035200-1628121599@www.leuragolfclub.com.au
SUMMARY:Medley Stableford Singles + 2BBB
DESCRIPTION:
URL:https://www.leuragolfclub.com.au/event/medley-stableford-singles-2bbb-7/2021-08-04/
CATEGORIES:Wednesday Medley Comp
END:VEVENT
BEGIN:VEVENT
DTSTART;VALUE=DATE:20210803
DTEND;VALUE=DATE:20210804
DTSTAMP:20260423T154504
CREATED:20201227T033826Z
LAST-MODIFIED:20201227T033826Z
UID:10003159-1627948800-1628035199@www.leuragolfclub.com.au
SUMMARY:Tuesday Medley Comp
DESCRIPTION:
URL:https://www.leuragolfclub.com.au/event/tuesday-medley-comp-3/2021-08-03/
END:VEVENT
BEGIN:VEVENT
DTSTART;VALUE=DATE:20210731
DTEND;VALUE=DATE:20210801
DTSTAMP:20260423T154504
CREATED:20201227T022416Z
LAST-MODIFIED:20201227T022423Z
UID:10003126-1627689600-1627775999@www.leuragolfclub.com.au
SUMMARY:Medley Stableford Singles + 2BBB
DESCRIPTION:
URL:https://www.leuragolfclub.com.au/event/medley-stableford-singles-2bbb-11/
CATEGORIES:Saturday Medley Comp
END:VEVENT
BEGIN:VEVENT
DTSTART;VALUE=DATE:20210728
DTEND;VALUE=DATE:20210729
DTSTAMP:20260423T154504
CREATED:20201226T052938Z
LAST-MODIFIED:20201226T055112Z
UID:10003087-1627430400-1627516799@www.leuragolfclub.com.au
SUMMARY:Medley Stableford Singles + 2B Multiplier
DESCRIPTION:
URL:https://www.leuragolfclub.com.au/event/medley-stableford-singles-2b-multiplier-3/2021-07-28/
CATEGORIES:Wednesday Medley Comp
END:VEVENT
BEGIN:VEVENT
DTSTART;VALUE=DATE:20210727
DTEND;VALUE=DATE:20210728
DTSTAMP:20260423T154504
CREATED:20201227T033826Z
LAST-MODIFIED:20201227T033826Z
UID:10003158-1627344000-1627430399@www.leuragolfclub.com.au
SUMMARY:Tuesday Medley Comp
DESCRIPTION:
URL:https://www.leuragolfclub.com.au/event/tuesday-medley-comp-3/2021-07-27/
END:VEVENT
BEGIN:VEVENT
DTSTART;VALUE=DATE:20210724
DTEND;VALUE=DATE:20210725
DTSTAMP:20260423T154504
CREATED:20201226T034741Z
LAST-MODIFIED:20201226T035341Z
UID:10003009-1627084800-1627171199@www.leuragolfclub.com.au
SUMMARY:Medley Stableford Singles + 2B Aggregate
DESCRIPTION:
URL:https://www.leuragolfclub.com.au/event/medley-stableford-singles-2b-aggregate-2/2021-07-24/
CATEGORIES:Saturday Medley Comp
END:VEVENT
BEGIN:VEVENT
DTSTART;VALUE=DATE:20210721
DTEND;VALUE=DATE:20210722
DTSTAMP:20260423T154504
CREATED:20201226T054341Z
LAST-MODIFIED:20201226T054403Z
UID:10003098-1626825600-1626911999@www.leuragolfclub.com.au
SUMMARY:Medley Stroke
DESCRIPTION:
URL:https://www.leuragolfclub.com.au/event/medley-stroke/2021-07-21/
CATEGORIES:Wednesday Medley Comp
END:VEVENT
BEGIN:VEVENT
DTSTART;VALUE=DATE:20210720
DTEND;VALUE=DATE:20210721
DTSTAMP:20260423T154504
CREATED:20201227T033826Z
LAST-MODIFIED:20201227T033826Z
UID:10003157-1626739200-1626825599@www.leuragolfclub.com.au
SUMMARY:Tuesday Medley Comp
DESCRIPTION:
URL:https://www.leuragolfclub.com.au/event/tuesday-medley-comp-3/2021-07-20/
END:VEVENT
BEGIN:VEVENT
DTSTART;VALUE=DATE:20210717
DTEND;VALUE=DATE:20210718
DTSTAMP:20260423T154504
CREATED:20201227T021252Z
LAST-MODIFIED:20201227T021252Z
UID:10003123-1626480000-1626566399@www.leuragolfclub.com.au
SUMMARY:Medley Stableford Singles
DESCRIPTION:
URL:https://www.leuragolfclub.com.au/event/medley-stableford-singles-2/2021-07-17/
CATEGORIES:Saturday Medley Comp
END:VEVENT
BEGIN:VEVENT
DTSTART;VALUE=DATE:20210717
DTEND;VALUE=DATE:20210718
DTSTAMP:20260423T154504
CREATED:20201227T021125Z
LAST-MODIFIED:20201227T021125Z
UID:10003121-1626480000-1626566399@www.leuragolfclub.com.au
SUMMARY:Coote Shield Rd 2 (Stableford 2BBB)
DESCRIPTION:Visitors welcome and can win on the day . Shield is for members only.
URL:https://www.leuragolfclub.com.au/event/coote-shield-rd-2-stableford-2bbb/
CATEGORIES:LGC Major Events
END:VEVENT
BEGIN:VEVENT
DTSTART;VALUE=DATE:20210717
DTEND;VALUE=DATE:20210718
DTSTAMP:20260423T154504
CREATED:20180626T023936Z
LAST-MODIFIED:20180626T023936Z
UID:10002632-1626480000-1626566399@www.leuragolfclub.com.au
SUMMARY:Stableford + 2B Aggregate
DESCRIPTION:Medley competition – visitors welcome. \nComp closes at 4pm so please ensure that your tee time will allow you to finish in time.
URL:https://www.leuragolfclub.com.au/event/stableford-2b-aggregate/2021-07-17/
CATEGORIES:Saturday Medley Comp
END:VEVENT
BEGIN:VEVENT
DTSTART;VALUE=DATE:20210714
DTEND;VALUE=DATE:20210715
DTSTAMP:20260423T154504
CREATED:20201226T052214Z
LAST-MODIFIED:20210226T232817Z
UID:10003077-1626220800-1626307199@www.leuragolfclub.com.au
SUMMARY:Medley Stableford Singles+ 2BBB
DESCRIPTION:
URL:https://www.leuragolfclub.com.au/event/medley-stableford-singles-2bbb-8-2021-03-10/2021-07-14/
CATEGORIES:Wednesday Medley Comp
END:VEVENT
BEGIN:VEVENT
DTSTART;VALUE=DATE:20210713
DTEND;VALUE=DATE:20210714
DTSTAMP:20260423T154504
CREATED:20201227T033826Z
LAST-MODIFIED:20201227T033826Z
UID:10003156-1626134400-1626220799@www.leuragolfclub.com.au
SUMMARY:Tuesday Medley Comp
DESCRIPTION:
URL:https://www.leuragolfclub.com.au/event/tuesday-medley-comp-3/2021-07-13/
END:VEVENT
BEGIN:VEVENT
DTSTART;VALUE=DATE:20210710
DTEND;VALUE=DATE:20210711
DTSTAMP:20260423T154504
CREATED:20201227T021252Z
LAST-MODIFIED:20201227T021252Z
UID:10003122-1625875200-1625961599@www.leuragolfclub.com.au
SUMMARY:Medley Stableford Singles
DESCRIPTION:
URL:https://www.leuragolfclub.com.au/event/medley-stableford-singles-2/2021-07-10/
CATEGORIES:Saturday Medley Comp
END:VEVENT
BEGIN:VEVENT
DTSTART;VALUE=DATE:20210710
DTEND;VALUE=DATE:20210711
DTSTAMP:20260423T154504
CREATED:20201227T021028Z
LAST-MODIFIED:20201227T021028Z
UID:10003120-1625875200-1625961599@www.leuragolfclub.com.au
SUMMARY:Coote Shield Rd 1 (Stableford 2BBB)
DESCRIPTION:Visitors welcome and can win on the day . Shield is for members only.
URL:https://www.leuragolfclub.com.au/event/coote-shield-rd-1-stableford-2bbb/
CATEGORIES:LGC Major Events
END:VEVENT
BEGIN:VEVENT
DTSTART;VALUE=DATE:20210707
DTEND;VALUE=DATE:20210708
DTSTAMP:20260423T154504
CREATED:20201226T052109Z
LAST-MODIFIED:20201226T053932Z
UID:10003042-1625616000-1625702399@www.leuragolfclub.com.au
SUMMARY:Medley Stableford Singles + 2BBB
DESCRIPTION:
URL:https://www.leuragolfclub.com.au/event/medley-stableford-singles-2bbb-7/2021-07-07/
CATEGORIES:Wednesday Medley Comp
END:VEVENT
BEGIN:VEVENT
DTSTART;VALUE=DATE:20210706
DTEND;VALUE=DATE:20210707
DTSTAMP:20260423T154504
CREATED:20201227T033826Z
LAST-MODIFIED:20201227T033826Z
UID:10003155-1625529600-1625615999@www.leuragolfclub.com.au
SUMMARY:Tuesday Medley Comp
DESCRIPTION:
URL:https://www.leuragolfclub.com.au/event/tuesday-medley-comp-3/2021-07-06/
END:VEVENT
BEGIN:VEVENT
DTSTART;VALUE=DATE:20210703
DTEND;VALUE=DATE:20210704
DTSTAMP:20260423T154504
CREATED:20201226T032611Z
LAST-MODIFIED:20201226T032611Z
UID:10002981-1625270400-1625356799@www.leuragolfclub.com.au
SUMMARY:Men's Monthly Medal + Medley Stroke
DESCRIPTION:Men’s Medal event. Visitors and women are welcome\, can win the event but not the medal.
URL:https://www.leuragolfclub.com.au/event/mens-monthly-medal-medley-stroke/2021-07-03/
CATEGORIES:Saturday Medley Comp
END:VEVENT
BEGIN:VEVENT
DTSTART;VALUE=DATE:20210701
DTEND;VALUE=DATE:20210702
DTSTAMP:20260423T154504
CREATED:20201228T012436Z
LAST-MODIFIED:20201228T012436Z
UID:10003228-1625097600-1625183999@www.leuragolfclub.com.au
SUMMARY:Women's Pewter Plate
DESCRIPTION:For more informatio go to https://www.golfnsw.org.au/
URL:https://www.leuragolfclub.com.au/event/womens-pewter-plate/
END:VEVENT
BEGIN:VEVENT
DTSTART;VALUE=DATE:20210629
DTEND;VALUE=DATE:20210630
DTSTAMP:20260423T154504
CREATED:20201227T033826Z
LAST-MODIFIED:20201227T033826Z
UID:10003154-1624924800-1625011199@www.leuragolfclub.com.au
SUMMARY:Tuesday Medley Comp
DESCRIPTION:
URL:https://www.leuragolfclub.com.au/event/tuesday-medley-comp-3/2021-06-29/
END:VEVENT
BEGIN:VEVENT
DTSTART;VALUE=DATE:20210626
DTEND;VALUE=DATE:20210712
DTSTAMP:20260423T154504
CREATED:20201226T020444Z
LAST-MODIFIED:20201226T020444Z
UID:10002967-1624665600-1626047999@www.leuragolfclub.com.au
SUMMARY:School Holidays
DESCRIPTION:
URL:https://www.leuragolfclub.com.au/event/school-holidays-5/
END:VEVENT
BEGIN:VEVENT
DTSTART;VALUE=DATE:20210626
DTEND;VALUE=DATE:20210627
DTSTAMP:20260423T154504
CREATED:20201226T040836Z
LAST-MODIFIED:20201226T040836Z
UID:10003019-1624665600-1624751999@www.leuragolfclub.com.au
SUMMARY:Medley Stableford Singles + 2B Multiplier
DESCRIPTION:
URL:https://www.leuragolfclub.com.au/event/medley-stableford-singles-2b-multiplier-2/2021-06-26/
CATEGORIES:Saturday Medley Comp
END:VEVENT
BEGIN:VEVENT
DTSTART;VALUE=DATE:20210623
DTEND;VALUE=DATE:20210624
DTSTAMP:20260423T154504
CREATED:20201226T054544Z
LAST-MODIFIED:20201226T054544Z
UID:10003111-1624406400-1624492799@www.leuragolfclub.com.au
SUMMARY:Medley Stableford Singles + 2B Aggregate
DESCRIPTION:
URL:https://www.leuragolfclub.com.au/event/medley-stableford-singles-2b-aggregate-3/2021-06-23/
CATEGORIES:Wednesday Medley Comp
END:VEVENT
BEGIN:VEVENT
DTSTART;VALUE=DATE:20210622
DTEND;VALUE=DATE:20210623
DTSTAMP:20260423T154504
CREATED:20201227T033826Z
LAST-MODIFIED:20201227T033826Z
UID:10003153-1624320000-1624406399@www.leuragolfclub.com.au
SUMMARY:Tuesday Medley Comp
DESCRIPTION:
URL:https://www.leuragolfclub.com.au/event/tuesday-medley-comp-3/2021-06-22/
END:VEVENT
BEGIN:VEVENT
DTSTART;VALUE=DATE:20210619
DTEND;VALUE=DATE:20210620
DTSTAMP:20260423T154504
CREATED:20201227T020209Z
LAST-MODIFIED:20201227T020209Z
UID:10003119-1624060800-1624147199@www.leuragolfclub.com.au
SUMMARY:Medley Single Stableford
DESCRIPTION:
URL:https://www.leuragolfclub.com.au/event/medley-single-stableford/2021-06-19/
CATEGORIES:Saturday Medley Comp
END:VEVENT
BEGIN:VEVENT
DTSTART;VALUE=DATE:20210619
DTEND;VALUE=DATE:20210620
DTSTAMP:20260423T154504
CREATED:20201227T020050Z
LAST-MODIFIED:20210509T233357Z
UID:10003117-1624060800-1624147199@www.leuragolfclub.com.au
SUMMARY:Men's Foursomes Championships Rd 2
DESCRIPTION:MEN’S FOURSOMES CHAMPIONSHIPS 2021\n\nCONDITIONS OF PLAY – ENTRANCE FEE $20 PER PLAYER \n\nFoursomes: Two players play as partners and use one ball. The players hit off alternately from the tee and thereafter strike the ball alternately during the play of each hole. If either player incurs a penalty stroke it does not alter the rotation of play.\nThe competition will be played according to the ‘Rules of Golf’ and competitors must be members of Leura Golf Club and hold an AGU handicap. Members are reminded that this is a club championship event and members’ attention is directed to By-Law 7  – see below. For the purposes of these Conditions of Play “Club Championships” where used in the by-law means “Men’s Foursome Championships”.\nThe competition will consist of two rounds of 18 holes foursomes stroke play from the blue tees on Saturdays 12 and 19 June 2021. Preferred lies in accordance with the Local Rules will apply.  The 12th hole C graders Local Rule will not apply.\nFor Round 2 the order of play will be reversed from that of Round 1.\nRound 2 tee times shall commence at 8.28 am\, the B graders to hit off first followed by the A graders. Pair groups shall be decided by the Match Committee and if there shall be an odd number of pairs an A grade pair may be grouped with a B grade pair.\nThe handicap of each pair will be one half of their combined daily handicaps applicable at the commencement of Round 1.\nThe competition will be played in two grades\, namely\n\nA grade – pair handicaps of 16 or less\nB grade – pair handicaps of more than 16\, 36 being the maximum handicap.\n\n\nThe championship winners in each grade will be the pair who returns the best aggregate scratch score over the two rounds. There will be net winners in each grade. There will be prizes for the Runners-up.\nIn the event of a tie winners will be determined:\n\nIn the case of the best aggregate scratch score by a sudden death playoff. The tied pairs shall play one extra hole at a time with the pairs still tied moving on to the next hole until a winning pair has been decided. The playoff holes shall be holes 1\, 11\, 12 and 18 repeated as necessary.\nIn all other cases by count backs as applied by Golf Link.\n\n\nAll disputes must be in writing and will be decided by the Match Committee. Decisions will be final.\nIf in the opinion of the Match committee in conjunction with the Greenkeeper the course should be closed due to inclement weather the round affected shall not be played and shall be re-scheduled.\nThere will be no NTP competition for those playing in the foursomes championships.\n\n By-Law 7 – Club Championship Eligibility: \nTo be eligible to play in any Club Championship event\, a member shall have completed at least two (2) monthly medal rounds or at least five (5) competition rounds at Leura Golf Club in the 12 months immediately preceding the Club Championships. (ie the Club Championship event concerned) \nMedley club competition: There will be a singles Stableford competition from the blue (men) and red (women) tees for those who elect not to play in the championships. There will not be a 2 ball competition. There will be at least one NTP. \nMATCH COMMITTEE – LEURA GOLF CLUB \nMay 2021 \nLOCAL RULES – MEN’S FOURSOMES CHAMPIONSHPS – 2021\n\nREFERENCE – RULES OF GOLF – 2019 \nThe Local Rules apply to the Championships except as noted\, expanded and/or clarified below. \nIMMOVABLE OBSTRUCTIONS – Rule 16 \nIncludes the artificial surfaces and sides of roads and paths including gravel paths. \nIMMOVABLE OBSTRUCTIONS CLOSE TO PUTTING GREEN  \nSPRINKLER HEADS \nRelief may be taken under Rule 16.1b if a sprinkler head or other immovable obstruction is on the line of play and is within two club lengths of the putting green\, and within two club lengths of the ball provided that there will be no relief if the line of play is clearly unreasonable. \n12TH HOLE \nThe 12th hole local rule which is applicable to C graders only shall NOT apply for the purposes of the Foursomes Championships. \nDROP ZONE \nThere is a clearly defined drop zone alongside\, and for play to\, the 6th green (left hand side) for relief from the nearby designated hedge area. \nSLOW PLAY – Rule 5.6 \nSlow play penalties will be imposed. General penalty for breach of Local Rules – 2 strokes. \nFOR AND ON BEHALF OF MATCH COMMITTEE\nMay 2021
URL:https://www.leuragolfclub.com.au/event/mens-foursomes-championships-rd-2-2/
CATEGORIES:LGC Major Events
END:VEVENT
BEGIN:VEVENT
DTSTART;VALUE=DATE:20210619
DTEND;VALUE=DATE:20210620
DTSTAMP:20260423T154504
CREATED:20180626T023936Z
LAST-MODIFIED:20180626T023936Z
UID:10002631-1624060800-1624147199@www.leuragolfclub.com.au
SUMMARY:Stableford + 2B Aggregate
DESCRIPTION:Medley competition – visitors welcome. \nComp closes at 4pm so please ensure that your tee time will allow you to finish in time.
URL:https://www.leuragolfclub.com.au/event/stableford-2b-aggregate/2021-06-19/
CATEGORIES:Saturday Medley Comp
END:VEVENT
BEGIN:VEVENT
DTSTART;VALUE=DATE:20210616
DTEND;VALUE=DATE:20210617
DTSTAMP:20260423T154504
CREATED:20201226T054341Z
LAST-MODIFIED:20201226T054403Z
UID:10003097-1623801600-1623887999@www.leuragolfclub.com.au
SUMMARY:Medley Stroke
DESCRIPTION:
URL:https://www.leuragolfclub.com.au/event/medley-stroke/2021-06-16/
CATEGORIES:Wednesday Medley Comp
END:VEVENT
END:VCALENDAR