BEGIN:VCALENDAR
VERSION:2.0
PRODID:-//Leura Golf Club - ECPv6.13.2.1//NONSGML v1.0//EN
CALSCALE:GREGORIAN
METHOD:PUBLISH
X-WR-CALNAME:Leura Golf Club
X-ORIGINAL-URL:https://www.leuragolfclub.com.au
X-WR-CALDESC:Events for Leura Golf Club
REFRESH-INTERVAL;VALUE=DURATION:PT1H
X-Robots-Tag:noindex
X-PUBLISHED-TTL:PT1H
BEGIN:VTIMEZONE
TZID:Australia/Melbourne
BEGIN:STANDARD
TZOFFSETFROM:+1100
TZOFFSETTO:+1000
TZNAME:AEST
DTSTART:20230401T160000
END:STANDARD
BEGIN:DAYLIGHT
TZOFFSETFROM:+1000
TZOFFSETTO:+1100
TZNAME:AEDT
DTSTART:20230930T160000
END:DAYLIGHT
END:VTIMEZONE
BEGIN:VEVENT
DTSTART;VALUE=DATE:20231006
DTEND;VALUE=DATE:20231007
DTSTAMP:20260421T232006
CREATED:20230420T062851Z
LAST-MODIFIED:20231227T034009Z
UID:10003203-1696550400-1696636799@www.leuragolfclub.com.au
SUMMARY:Friday Nine Medley
DESCRIPTION:Social Members and beginners are welcome and will be allocated a handicap of 36 for men and 45 for women. This provides an opportunity for non-golfers to learn and experience our beloved game and hopefully get hooked on it like the rest of we golf tragics. \nWe encourage players to stay on for a drink\, presentation of prizes and dinner in the Bistro after your game. \nConditions of Play\n\nTee off from 10:00am\, playing from white markers for men and red markers for women.\nFee is $10 per player.\nCompetition will be played over 9 holes alternating week about.\n\nFront 9 – 1st to 9th\nBack 9 – 1st then 11th to 18th.\n\n\nCompetition will be conducted using the Stroke scoring system.\nA mercy rule will apply – once a player has had three shots over par on any hole\, pick up your ball and record the score for that hole as three over. Move on to the next hole.\nHandicaps for both 9’s will be half your current daily GA handicap.\nOfficial rules of golf apply.\nAll prizes are added to members’ cards\, visitors will be given vouchers.
URL:https://www.leuragolfclub.com.au/event/friday-nine/2023-10-06/
CATEGORIES:Twilight 9 Comp
END:VEVENT
BEGIN:VEVENT
DTSTART;VALUE=DATE:20231005
DTEND;VALUE=DATE:20231006
DTSTAMP:20260421T232006
CREATED:20230104T224506Z
LAST-MODIFIED:20230104T224700Z
UID:10003527-1696464000-1696550399@www.leuragolfclub.com.au
SUMMARY:Trivia @ 7pm
DESCRIPTION:
URL:https://www.leuragolfclub.com.au/event/trivia-7pm/2023-10-05/
CATEGORIES:LGC Function
END:VEVENT
BEGIN:VEVENT
DTSTART;VALUE=DATE:20231004
DTEND;VALUE=DATE:20231005
DTSTAMP:20260421T232006
CREATED:20211115T234200Z
LAST-MODIFIED:20221212T041308Z
UID:10003259-1696377600-1696463999@www.leuragolfclub.com.au
SUMMARY:Medley Stableford Singles + 2BBB
DESCRIPTION:
URL:https://www.leuragolfclub.com.au/event/medley-stableford-singles-2bbb-19/2023-10-04/
CATEGORIES:Wednesday Medley Comp
END:VEVENT
BEGIN:VEVENT
DTSTART;VALUE=DATE:20231003
DTEND;VALUE=DATE:20231004
DTSTAMP:20260421T232006
CREATED:20230204T232009Z
LAST-MODIFIED:20230301T183820Z
UID:10003576-1696291200-1696377599@www.leuragolfclub.com.au
SUMMARY:9 Hole Comp
DESCRIPTION:Women’s 9 hole comp in the morning and social play at other times.
URL:https://www.leuragolfclub.com.au/event/9-hole-comp/2023-10-03/
CATEGORIES:Tuesday Comp
END:VEVENT
BEGIN:VEVENT
DTSTART;VALUE=DATE:20230930
DTEND;VALUE=DATE:20231001
DTSTAMP:20260421T232006
CREATED:20221226T025026Z
LAST-MODIFIED:20230805T040722Z
UID:10003471-1696032000-1696118399@www.leuragolfclub.com.au
SUMMARY:Medley 2 Person Ambrose
DESCRIPTION:
URL:https://www.leuragolfclub.com.au/event/medley-2-person-ambrose-3-2023-09-30/
CATEGORIES:Saturday Medley Comp
END:VEVENT
BEGIN:VEVENT
DTSTART;VALUE=DATE:20230929
DTEND;VALUE=DATE:20230930
DTSTAMP:20260421T232006
CREATED:20230420T062851Z
LAST-MODIFIED:20231227T034009Z
UID:10003202-1695945600-1696031999@www.leuragolfclub.com.au
SUMMARY:Friday Nine Medley
DESCRIPTION:Social Members and beginners are welcome and will be allocated a handicap of 36 for men and 45 for women. This provides an opportunity for non-golfers to learn and experience our beloved game and hopefully get hooked on it like the rest of we golf tragics. \nWe encourage players to stay on for a drink\, presentation of prizes and dinner in the Bistro after your game. \nConditions of Play\n\nTee off from 10:00am\, playing from white markers for men and red markers for women.\nFee is $10 per player.\nCompetition will be played over 9 holes alternating week about.\n\nFront 9 – 1st to 9th\nBack 9 – 1st then 11th to 18th.\n\n\nCompetition will be conducted using the Stroke scoring system.\nA mercy rule will apply – once a player has had three shots over par on any hole\, pick up your ball and record the score for that hole as three over. Move on to the next hole.\nHandicaps for both 9’s will be half your current daily GA handicap.\nOfficial rules of golf apply.\nAll prizes are added to members’ cards\, visitors will be given vouchers.
URL:https://www.leuragolfclub.com.au/event/friday-nine/2023-09-29/
CATEGORIES:Twilight 9 Comp
END:VEVENT
BEGIN:VEVENT
DTSTART;VALUE=DATE:20230928
DTEND;VALUE=DATE:20230929
DTSTAMP:20260421T232006
CREATED:20230104T224506Z
LAST-MODIFIED:20230104T224700Z
UID:10003526-1695859200-1695945599@www.leuragolfclub.com.au
SUMMARY:Trivia @ 7pm
DESCRIPTION:
URL:https://www.leuragolfclub.com.au/event/trivia-7pm/2023-09-28/
CATEGORIES:LGC Function
END:VEVENT
BEGIN:VEVENT
DTSTART;VALUE=DATE:20230927
DTEND;VALUE=DATE:20230928
DTSTAMP:20260421T232006
CREATED:20221212T041815Z
LAST-MODIFIED:20221212T041815Z
UID:10003457-1695772800-1695859199@www.leuragolfclub.com.au
SUMMARY:Medley Stableford Singles + 2BBB
DESCRIPTION:
URL:https://www.leuragolfclub.com.au/event/medley-stableford-singles-2bbb-15/2023-09-27/
CATEGORIES:Wednesday Medley Comp
END:VEVENT
BEGIN:VEVENT
DTSTART;VALUE=DATE:20230926
DTEND;VALUE=DATE:20230927
DTSTAMP:20260421T232006
CREATED:20230204T232009Z
LAST-MODIFIED:20230301T183820Z
UID:10003575-1695686400-1695772799@www.leuragolfclub.com.au
SUMMARY:9 Hole Comp
DESCRIPTION:Women’s 9 hole comp in the morning and social play at other times.
URL:https://www.leuragolfclub.com.au/event/9-hole-comp/2023-09-26/
CATEGORIES:Tuesday Comp
END:VEVENT
BEGIN:VEVENT
DTSTART;VALUE=DATE:20230924
DTEND;VALUE=DATE:20230925
DTSTAMP:20260421T232006
CREATED:20230328T012241Z
LAST-MODIFIED:20230328T012713Z
UID:10003622-1695513600-1695599999@www.leuragolfclub.com.au
SUMMARY:Blue Mtns District Open @ Blackheath
DESCRIPTION:
URL:https://www.leuragolfclub.com.au/event/blue-mtns-district-open-blackheath/
CATEGORIES:BM District Event
END:VEVENT
BEGIN:VEVENT
DTSTART;VALUE=DATE:20230923
DTEND;VALUE=DATE:20231009
DTSTAMP:20260421T232006
CREATED:20221212T031922Z
LAST-MODIFIED:20230710T011009Z
UID:10003443-1695427200-1696809599@www.leuragolfclub.com.au
SUMMARY:School Holidays
DESCRIPTION:
URL:https://www.leuragolfclub.com.au/event/school-holidays-13/
CATEGORIES:Holidays
END:VEVENT
BEGIN:VEVENT
DTSTART;VALUE=DATE:20230923
DTEND;VALUE=DATE:20230924
DTSTAMP:20260421T232006
CREATED:20221226T022134Z
LAST-MODIFIED:20230910T105551Z
UID:10003092-1695427200-1695513599@www.leuragolfclub.com.au
SUMMARY:PGA Scramble (4 player Ambrose)
DESCRIPTION:See thescramble.com.au \nBook via ProShop (02) 4785 0035 \n 
URL:https://www.leuragolfclub.com.au/event/pga-scramble-4-player-ambrose/
CATEGORIES:Other
END:VEVENT
BEGIN:VEVENT
DTSTART;VALUE=DATE:20230922
DTEND;VALUE=DATE:20230923
DTSTAMP:20260421T232006
CREATED:20230420T062851Z
LAST-MODIFIED:20231227T034009Z
UID:10003201-1695340800-1695427199@www.leuragolfclub.com.au
SUMMARY:Friday Nine Medley
DESCRIPTION:Social Members and beginners are welcome and will be allocated a handicap of 36 for men and 45 for women. This provides an opportunity for non-golfers to learn and experience our beloved game and hopefully get hooked on it like the rest of we golf tragics. \nWe encourage players to stay on for a drink\, presentation of prizes and dinner in the Bistro after your game. \nConditions of Play\n\nTee off from 10:00am\, playing from white markers for men and red markers for women.\nFee is $10 per player.\nCompetition will be played over 9 holes alternating week about.\n\nFront 9 – 1st to 9th\nBack 9 – 1st then 11th to 18th.\n\n\nCompetition will be conducted using the Stroke scoring system.\nA mercy rule will apply – once a player has had three shots over par on any hole\, pick up your ball and record the score for that hole as three over. Move on to the next hole.\nHandicaps for both 9’s will be half your current daily GA handicap.\nOfficial rules of golf apply.\nAll prizes are added to members’ cards\, visitors will be given vouchers.
URL:https://www.leuragolfclub.com.au/event/friday-nine/2023-09-22/
CATEGORIES:Twilight 9 Comp
END:VEVENT
BEGIN:VEVENT
DTSTART;VALUE=DATE:20230921
DTEND;VALUE=DATE:20230922
DTSTAMP:20260421T232006
CREATED:20230104T224506Z
LAST-MODIFIED:20230104T224700Z
UID:10003525-1695254400-1695340799@www.leuragolfclub.com.au
SUMMARY:Trivia @ 7pm
DESCRIPTION:
URL:https://www.leuragolfclub.com.au/event/trivia-7pm/2023-09-21/
CATEGORIES:LGC Function
END:VEVENT
BEGIN:VEVENT
DTSTART;VALUE=DATE:20230920
DTEND;VALUE=DATE:20230921
DTSTAMP:20260421T232006
CREATED:20220123T004010Z
LAST-MODIFIED:20221230T021827Z
UID:10003329-1695168000-1695254399@www.leuragolfclub.com.au
SUMMARY:Medley Stableford Singles + 2B Aggregate
DESCRIPTION:
URL:https://www.leuragolfclub.com.au/event/medley-stableford-singles-2b-aggregate-4/2023-09-20/
CATEGORIES:Wednesday Medley Comp
END:VEVENT
BEGIN:VEVENT
DTSTART;VALUE=DATE:20230919
DTEND;VALUE=DATE:20230920
DTSTAMP:20260421T232006
CREATED:20230204T232009Z
LAST-MODIFIED:20230301T183820Z
UID:10003574-1695081600-1695167999@www.leuragolfclub.com.au
SUMMARY:9 Hole Comp
DESCRIPTION:Women’s 9 hole comp in the morning and social play at other times.
URL:https://www.leuragolfclub.com.au/event/9-hole-comp/2023-09-19/
CATEGORIES:Tuesday Comp
END:VEVENT
BEGIN:VEVENT
DTSTART;VALUE=DATE:20230916
DTEND;VALUE=DATE:20230917
DTSTAMP:20260421T232006
CREATED:20230215T045950Z
LAST-MODIFIED:20230914T064258Z
UID:10003590-1694822400-1694908799@www.leuragolfclub.com.au
SUMMARY:Leura Open
DESCRIPTION:2023 Leura Open\nConditions of Play\n\nCOMPETITION: This is an 18 hole stroke competition to be played according to the Rules of Golf. Competitors must hold a current Golf Link handicap.\nTHE BALL will be played as stipulated on the signboard adjacent to the first tee. If on the day Preferred Lies Fairways only applies and a player is unsure whether the ball is on the fairway\, the player should seek advice from marker before preferring the ball.\nHANDICAPS (means Daily Handicaps): Men – up to 36 (Division A 18 or less\, Division B 19 to 36)\, Women – up to 45. Current Golf Link cards must be presented to Pro Shop prior to commencement of the round.\nSTARING TIMES: Players must report to the Pro Shop at least 15 minutes prior to their scheduled tee times.\nTEES: Men – Blue tees\, Women – Red tees.\nLOCAL RULES: Players should acquaint themselves with local rules as amended for this event before beginning their round.\nPACE OF PLAY: Course Marshalls will be on the course – please keep up with the group in front. Slow play will be penalised in accordance with Rule 5.6a.\nSTAKED TREES: A local rule is in place (see No Play Zones) and as such it is mandatory to take relief from staked trees. Failure to do so incurs a 2 stroke penalty. Relief must be taken such that the player does not touch any part of the tree\, even a single leaf\, with body or club when taking stance or during the stroke\, to do so incurs a 2 stroke penalty.\nSCORE CARDS: Competitors must ensure their correct Golf Link handicap is shown\, correct score is recorded for each hole and the card is signed by both player and marker.\nTIE: In the event of a tie a countback will take place as applied by Golf Link.\nINCLEMENT WEATHER: If in the opinion of the Match committee in conjunction with the Greenkeeper the course should be closed due to inclement weather the event shall not be played and shall be re-scheduled.\nPROTESTS: Should be lodged in writing with Match Committee immediately after completion of round. All disputes will be decided by the Match Committee. Decisions will be final.\nTROPHIES: One trophy per person other than NTPs or Longest Drives.\n\nLocal Rules \nREFERENCE – RULES OF GOLF – 2019\nThe LGC Local Rules apply to the Leura Open except as noted\, expanded and/or clarified below. \nIMMOVABLE OBSTRUCTIONS – Rule 16\nIncludes the artificial surfaces and sides of roads and paths including gravel paths. \nSTONE BRIDGE ON 4TH HOLE\nFree relief\, at the nearest point of relief and no nearer the hole\, if the lie of the ball or the player’s stance or swing is affected by the Stone Bridge on the 4th Hole. There is NO line of play/sight relief for the stone Bridge. \nSTONES – see back of Scorecard. \nCAUSEWAY ACROSS 4TH\, 5TH 6TH HOLES\nFree relief\, at the nearest point of relief and no nearer the hole if the lie of the ball or the player’s stance or swing is affected by the gravel filling the cause-way across the 4th\, 5th or 6th hole. \nIMMOVABLE OBSTRUCTIONS CLOSE TO PUTTING GREEN  \nSPRINKLER HEADS\nRelief may be taken under Rule 16.1b if a sprinkler head or other immovable obstruction is on the line of play and is within two club lengths of the putting green\, and within two club lengths of the ball provided that there will be no relief if the line of play is clearly unreasonable. \n12TH HOLE\nThe 12th hole local rule which is applicable to C graders only in normal competitions shall NOT apply for this event. \nDROP ZONE 6TH GREEN\nThere is a clearly defined drop zone alongside\, and for play to\, the 6th green (left hand side) for relief from the nearby designated hedge area. \nSLOW PLAY – Rule 5.6a \nSlow play penalties will be imposed. \nGeneral penalty for breach of Local Rules – 2 strokes. \nMatch Committee – Leura Golf Club
URL:https://www.leuragolfclub.com.au/event/leura-open-3/
CATEGORIES:LGC Major Events
END:VEVENT
BEGIN:VEVENT
DTSTART;VALUE=DATE:20230916
DTEND;VALUE=DATE:20230917
DTSTAMP:20260421T232006
CREATED:20180626T023936Z
LAST-MODIFIED:20180626T023936Z
UID:10002658-1694822400-1694908799@www.leuragolfclub.com.au
SUMMARY:Stableford + 2B Aggregate
DESCRIPTION:Medley competition – visitors welcome. \nComp closes at 4pm so please ensure that your tee time will allow you to finish in time.
URL:https://www.leuragolfclub.com.au/event/stableford-2b-aggregate/2023-09-16/
CATEGORIES:Saturday Medley Comp
END:VEVENT
BEGIN:VEVENT
DTSTART;VALUE=DATE:20230915
DTEND;VALUE=DATE:20230916
DTSTAMP:20260421T232006
CREATED:20230420T062851Z
LAST-MODIFIED:20231227T034009Z
UID:10003200-1694736000-1694822399@www.leuragolfclub.com.au
SUMMARY:Friday Nine Medley
DESCRIPTION:Social Members and beginners are welcome and will be allocated a handicap of 36 for men and 45 for women. This provides an opportunity for non-golfers to learn and experience our beloved game and hopefully get hooked on it like the rest of we golf tragics. \nWe encourage players to stay on for a drink\, presentation of prizes and dinner in the Bistro after your game. \nConditions of Play\n\nTee off from 10:00am\, playing from white markers for men and red markers for women.\nFee is $10 per player.\nCompetition will be played over 9 holes alternating week about.\n\nFront 9 – 1st to 9th\nBack 9 – 1st then 11th to 18th.\n\n\nCompetition will be conducted using the Stroke scoring system.\nA mercy rule will apply – once a player has had three shots over par on any hole\, pick up your ball and record the score for that hole as three over. Move on to the next hole.\nHandicaps for both 9’s will be half your current daily GA handicap.\nOfficial rules of golf apply.\nAll prizes are added to members’ cards\, visitors will be given vouchers.
URL:https://www.leuragolfclub.com.au/event/friday-nine/2023-09-15/
CATEGORIES:Twilight 9 Comp
END:VEVENT
BEGIN:VEVENT
DTSTART;VALUE=DATE:20230914
DTEND;VALUE=DATE:20230915
DTSTAMP:20260421T232006
CREATED:20230104T224506Z
LAST-MODIFIED:20230104T224700Z
UID:10003524-1694649600-1694735999@www.leuragolfclub.com.au
SUMMARY:Trivia @ 7pm
DESCRIPTION:
URL:https://www.leuragolfclub.com.au/event/trivia-7pm/2023-09-14/
CATEGORIES:LGC Function
END:VEVENT
BEGIN:VEVENT
DTSTART;VALUE=DATE:20230912
DTEND;VALUE=DATE:20230913
DTSTAMP:20260421T232006
CREATED:20230204T232009Z
LAST-MODIFIED:20230301T183820Z
UID:10003573-1694476800-1694563199@www.leuragolfclub.com.au
SUMMARY:9 Hole Comp
DESCRIPTION:Women’s 9 hole comp in the morning and social play at other times.
URL:https://www.leuragolfclub.com.au/event/9-hole-comp/2023-09-12/
CATEGORIES:Tuesday Comp
END:VEVENT
BEGIN:VEVENT
DTSTART;VALUE=DATE:20230909
DTEND;VALUE=DATE:20230910
DTSTAMP:20260421T232006
CREATED:20220123T011417Z
LAST-MODIFIED:20221226T022321Z
UID:10003357-1694217600-1694303999@www.leuragolfclub.com.au
SUMMARY:Medley Stableford Singles + 2BBB
DESCRIPTION:
URL:https://www.leuragolfclub.com.au/event/medley-stableford-singles-2bbb-20-2023-01-14/2023-09-09/
CATEGORIES:Saturday Medley Comp
END:VEVENT
BEGIN:VEVENT
DTSTART;VALUE=DATE:20230908
DTEND;VALUE=DATE:20230909
DTSTAMP:20260421T232006
CREATED:20230420T062851Z
LAST-MODIFIED:20231227T034009Z
UID:10003199-1694131200-1694217599@www.leuragolfclub.com.au
SUMMARY:Friday Nine Medley
DESCRIPTION:Social Members and beginners are welcome and will be allocated a handicap of 36 for men and 45 for women. This provides an opportunity for non-golfers to learn and experience our beloved game and hopefully get hooked on it like the rest of we golf tragics. \nWe encourage players to stay on for a drink\, presentation of prizes and dinner in the Bistro after your game. \nConditions of Play\n\nTee off from 10:00am\, playing from white markers for men and red markers for women.\nFee is $10 per player.\nCompetition will be played over 9 holes alternating week about.\n\nFront 9 – 1st to 9th\nBack 9 – 1st then 11th to 18th.\n\n\nCompetition will be conducted using the Stroke scoring system.\nA mercy rule will apply – once a player has had three shots over par on any hole\, pick up your ball and record the score for that hole as three over. Move on to the next hole.\nHandicaps for both 9’s will be half your current daily GA handicap.\nOfficial rules of golf apply.\nAll prizes are added to members’ cards\, visitors will be given vouchers.
URL:https://www.leuragolfclub.com.au/event/friday-nine/2023-09-08/
CATEGORIES:Twilight 9 Comp
END:VEVENT
BEGIN:VEVENT
DTSTART;VALUE=DATE:20230907
DTEND;VALUE=DATE:20230908
DTSTAMP:20260421T232006
CREATED:20230104T224506Z
LAST-MODIFIED:20230104T224700Z
UID:10003523-1694044800-1694131199@www.leuragolfclub.com.au
SUMMARY:Trivia @ 7pm
DESCRIPTION:
URL:https://www.leuragolfclub.com.au/event/trivia-7pm/2023-09-07/
CATEGORIES:LGC Function
END:VEVENT
BEGIN:VEVENT
DTSTART;VALUE=DATE:20230906
DTEND;VALUE=DATE:20230907
DTSTAMP:20260421T232006
CREATED:20211115T234200Z
LAST-MODIFIED:20221212T041308Z
UID:10003258-1693958400-1694044799@www.leuragolfclub.com.au
SUMMARY:Medley Stableford Singles + 2BBB
DESCRIPTION:
URL:https://www.leuragolfclub.com.au/event/medley-stableford-singles-2bbb-19/2023-09-06/
CATEGORIES:Wednesday Medley Comp
END:VEVENT
BEGIN:VEVENT
DTSTART;VALUE=DATE:20230905
DTEND;VALUE=DATE:20230906
DTSTAMP:20260421T232006
CREATED:20230204T232009Z
LAST-MODIFIED:20230301T183820Z
UID:10003572-1693872000-1693958399@www.leuragolfclub.com.au
SUMMARY:9 Hole Comp
DESCRIPTION:Women’s 9 hole comp in the morning and social play at other times.
URL:https://www.leuragolfclub.com.au/event/9-hole-comp/2023-09-05/
CATEGORIES:Tuesday Comp
END:VEVENT
BEGIN:VEVENT
DTSTART;VALUE=DATE:20230902
DTEND;VALUE=DATE:20230903
DTSTAMP:20260421T232006
CREATED:20221226T021250Z
LAST-MODIFIED:20221226T021250Z
UID:10003056-1693612800-1693699199@www.leuragolfclub.com.au
SUMMARY:Medley Stableford Singles (white tees)
DESCRIPTION:
URL:https://www.leuragolfclub.com.au/event/medley-stableford-singles-white-tees-6/2023-09-02/
CATEGORIES:Saturday Medley Comp
END:VEVENT
BEGIN:VEVENT
DTSTART;VALUE=DATE:20230902
DTEND;VALUE=DATE:20230903
DTSTAMP:20260421T232006
CREATED:20221226T021041Z
LAST-MODIFIED:20231221T222624Z
UID:10003031-1693612800-1693699199@www.leuragolfclub.com.au
SUMMARY:Men’s Monthly Medal + Medley Stroke
DESCRIPTION:Visitors welcome. Visitors can win the competition but not the Medal.
URL:https://www.leuragolfclub.com.au/event/mens-monthly-medal-medley-stroke-8-2023-02-04/2023-09-02/
CATEGORIES:Saturday Medley Comp
END:VEVENT
BEGIN:VEVENT
DTSTART;VALUE=DATE:20230901
DTEND;VALUE=DATE:20230902
DTSTAMP:20260421T232006
CREATED:20230420T062851Z
LAST-MODIFIED:20231227T034009Z
UID:10003198-1693526400-1693612799@www.leuragolfclub.com.au
SUMMARY:Friday Nine Medley
DESCRIPTION:Social Members and beginners are welcome and will be allocated a handicap of 36 for men and 45 for women. This provides an opportunity for non-golfers to learn and experience our beloved game and hopefully get hooked on it like the rest of we golf tragics. \nWe encourage players to stay on for a drink\, presentation of prizes and dinner in the Bistro after your game. \nConditions of Play\n\nTee off from 10:00am\, playing from white markers for men and red markers for women.\nFee is $10 per player.\nCompetition will be played over 9 holes alternating week about.\n\nFront 9 – 1st to 9th\nBack 9 – 1st then 11th to 18th.\n\n\nCompetition will be conducted using the Stroke scoring system.\nA mercy rule will apply – once a player has had three shots over par on any hole\, pick up your ball and record the score for that hole as three over. Move on to the next hole.\nHandicaps for both 9’s will be half your current daily GA handicap.\nOfficial rules of golf apply.\nAll prizes are added to members’ cards\, visitors will be given vouchers.
URL:https://www.leuragolfclub.com.au/event/friday-nine/2023-09-01/
CATEGORIES:Twilight 9 Comp
END:VEVENT
BEGIN:VEVENT
DTSTART;VALUE=DATE:20230831
DTEND;VALUE=DATE:20230901
DTSTAMP:20260421T232006
CREATED:20230104T224506Z
LAST-MODIFIED:20230104T224700Z
UID:10003522-1693440000-1693526399@www.leuragolfclub.com.au
SUMMARY:Trivia @ 7pm
DESCRIPTION:
URL:https://www.leuragolfclub.com.au/event/trivia-7pm/2023-08-31/
CATEGORIES:LGC Function
END:VEVENT
END:VCALENDAR