BEGIN:VCALENDAR
VERSION:2.0
PRODID:-//Leura Golf Club - ECPv6.13.2.1//NONSGML v1.0//EN
CALSCALE:GREGORIAN
METHOD:PUBLISH
X-WR-CALNAME:Leura Golf Club
X-ORIGINAL-URL:https://www.leuragolfclub.com.au
X-WR-CALDESC:Events for Leura Golf Club
REFRESH-INTERVAL;VALUE=DURATION:PT1H
X-Robots-Tag:noindex
X-PUBLISHED-TTL:PT1H
BEGIN:VTIMEZONE
TZID:Australia/Melbourne
BEGIN:STANDARD
TZOFFSETFROM:+1100
TZOFFSETTO:+1000
TZNAME:AEST
DTSTART:20230401T160000
END:STANDARD
BEGIN:DAYLIGHT
TZOFFSETFROM:+1000
TZOFFSETTO:+1100
TZNAME:AEDT
DTSTART:20230930T160000
END:DAYLIGHT
END:VTIMEZONE
BEGIN:VEVENT
DTSTART;VALUE=DATE:20231118
DTEND;VALUE=DATE:20231119
DTSTAMP:20260422T043218
CREATED:20230327T231250Z
LAST-MODIFIED:20230327T231250Z
UID:10003616-1700265600-1700351999@www.leuragolfclub.com.au
SUMMARY:Blackheath Open
DESCRIPTION:
URL:https://www.leuragolfclub.com.au/event/blackheath-open-5/
CATEGORIES:Other
END:VEVENT
BEGIN:VEVENT
DTSTART;VALUE=DATE:20231118
DTEND;VALUE=DATE:20231119
DTSTAMP:20260422T043218
CREATED:20221226T024302Z
LAST-MODIFIED:20231221T215258Z
UID:10003465-1700265600-1700351999@www.leuragolfclub.com.au
SUMMARY:Medley Stableford Singles + 2B Multiplier
DESCRIPTION:
URL:https://www.leuragolfclub.com.au/event/medley-stableford-singles-2b-multiplier-5/2023-11-18/
CATEGORIES:Saturday Medley Comp
END:VEVENT
BEGIN:VEVENT
DTSTART;VALUE=DATE:20231118
DTEND;VALUE=DATE:20231119
DTSTAMP:20260422T043218
CREATED:20180626T023936Z
LAST-MODIFIED:20180626T023936Z
UID:10002660-1700265600-1700351999@www.leuragolfclub.com.au
SUMMARY:Stableford + 2B Aggregate
DESCRIPTION:Medley competition – visitors welcome. \nComp closes at 4pm so please ensure that your tee time will allow you to finish in time.
URL:https://www.leuragolfclub.com.au/event/stableford-2b-aggregate/2023-11-18/
CATEGORIES:Saturday Medley Comp
END:VEVENT
BEGIN:VEVENT
DTSTART;VALUE=DATE:20231117
DTEND;VALUE=DATE:20231118
DTSTAMP:20260422T043218
CREATED:20230420T062851Z
LAST-MODIFIED:20231227T034009Z
UID:10003209-1700179200-1700265599@www.leuragolfclub.com.au
SUMMARY:Friday Nine Medley
DESCRIPTION:Social Members and beginners are welcome and will be allocated a handicap of 36 for men and 45 for women. This provides an opportunity for non-golfers to learn and experience our beloved game and hopefully get hooked on it like the rest of we golf tragics. \nWe encourage players to stay on for a drink\, presentation of prizes and dinner in the Bistro after your game. \nConditions of Play\n\nTee off from 10:00am\, playing from white markers for men and red markers for women.\nFee is $10 per player.\nCompetition will be played over 9 holes alternating week about.\n\nFront 9 – 1st to 9th\nBack 9 – 1st then 11th to 18th.\n\n\nCompetition will be conducted using the Stroke scoring system.\nA mercy rule will apply – once a player has had three shots over par on any hole\, pick up your ball and record the score for that hole as three over. Move on to the next hole.\nHandicaps for both 9’s will be half your current daily GA handicap.\nOfficial rules of golf apply.\nAll prizes are added to members’ cards\, visitors will be given vouchers.
URL:https://www.leuragolfclub.com.au/event/friday-nine/2023-11-17/
CATEGORIES:Twilight 9 Comp
END:VEVENT
BEGIN:VEVENT
DTSTART;VALUE=DATE:20231116
DTEND;VALUE=DATE:20231117
DTSTAMP:20260422T043218
CREATED:20230104T224506Z
LAST-MODIFIED:20230104T224700Z
UID:10003533-1700092800-1700179199@www.leuragolfclub.com.au
SUMMARY:Trivia @ 7pm
DESCRIPTION:
URL:https://www.leuragolfclub.com.au/event/trivia-7pm/2023-11-16/
CATEGORIES:LGC Function
END:VEVENT
BEGIN:VEVENT
DTSTART;VALUE=DATE:20231115
DTEND;VALUE=DATE:20231116
DTSTAMP:20260422T043218
CREATED:20220123T004010Z
LAST-MODIFIED:20221230T021827Z
UID:10003330-1700006400-1700092799@www.leuragolfclub.com.au
SUMMARY:Medley Stableford Singles + 2B Aggregate
DESCRIPTION:
URL:https://www.leuragolfclub.com.au/event/medley-stableford-singles-2b-aggregate-4/2023-11-15/
CATEGORIES:Wednesday Medley Comp
END:VEVENT
BEGIN:VEVENT
DTSTART;VALUE=DATE:20231114
DTEND;VALUE=DATE:20231115
DTSTAMP:20260422T043218
CREATED:20230204T232009Z
LAST-MODIFIED:20230301T183820Z
UID:10003582-1699920000-1700006399@www.leuragolfclub.com.au
SUMMARY:9 Hole Comp
DESCRIPTION:Women’s 9 hole comp in the morning and social play at other times.
URL:https://www.leuragolfclub.com.au/event/9-hole-comp/2023-11-14/
CATEGORIES:Tuesday Comp
END:VEVENT
BEGIN:VEVENT
DTSTART;VALUE=DATE:20231112
DTEND;VALUE=DATE:20231113
DTSTAMP:20260422T043218
CREATED:20231016T223157Z
LAST-MODIFIED:20231016T223315Z
UID:10003224-1699747200-1699833599@www.leuragolfclub.com.au
SUMMARY:LGC AGM @ 10am
DESCRIPTION:
URL:https://www.leuragolfclub.com.au/event/lgc-agm-10am/
CATEGORIES:LGC Function
END:VEVENT
BEGIN:VEVENT
DTSTART;VALUE=DATE:20231111
DTEND;VALUE=DATE:20231112
DTSTAMP:20260422T043218
CREATED:20230404T071437Z
LAST-MODIFIED:20230404T071437Z
UID:10003624-1699660800-1699747199@www.leuragolfclub.com.au
SUMMARY:Medley Stableford Singles + 2BBB
DESCRIPTION:
URL:https://www.leuragolfclub.com.au/event/medley-stableford-singles-2bbb-24/
CATEGORIES:Saturday Medley Comp
END:VEVENT
BEGIN:VEVENT
DTSTART;VALUE=DATE:20231110
DTEND;VALUE=DATE:20231111
DTSTAMP:20260422T043218
CREATED:20230420T062851Z
LAST-MODIFIED:20231227T034009Z
UID:10003208-1699574400-1699660799@www.leuragolfclub.com.au
SUMMARY:Friday Nine Medley
DESCRIPTION:Social Members and beginners are welcome and will be allocated a handicap of 36 for men and 45 for women. This provides an opportunity for non-golfers to learn and experience our beloved game and hopefully get hooked on it like the rest of we golf tragics. \nWe encourage players to stay on for a drink\, presentation of prizes and dinner in the Bistro after your game. \nConditions of Play\n\nTee off from 10:00am\, playing from white markers for men and red markers for women.\nFee is $10 per player.\nCompetition will be played over 9 holes alternating week about.\n\nFront 9 – 1st to 9th\nBack 9 – 1st then 11th to 18th.\n\n\nCompetition will be conducted using the Stroke scoring system.\nA mercy rule will apply – once a player has had three shots over par on any hole\, pick up your ball and record the score for that hole as three over. Move on to the next hole.\nHandicaps for both 9’s will be half your current daily GA handicap.\nOfficial rules of golf apply.\nAll prizes are added to members’ cards\, visitors will be given vouchers.
URL:https://www.leuragolfclub.com.au/event/friday-nine/2023-11-10/
CATEGORIES:Twilight 9 Comp
END:VEVENT
BEGIN:VEVENT
DTSTART;VALUE=DATE:20231109
DTEND;VALUE=DATE:20231110
DTSTAMP:20260422T043218
CREATED:20230104T224506Z
LAST-MODIFIED:20230104T224700Z
UID:10003532-1699488000-1699574399@www.leuragolfclub.com.au
SUMMARY:Trivia @ 7pm
DESCRIPTION:
URL:https://www.leuragolfclub.com.au/event/trivia-7pm/2023-11-09/
CATEGORIES:LGC Function
END:VEVENT
BEGIN:VEVENT
DTSTART;VALUE=DATE:20231107
DTEND;VALUE=DATE:20231108
DTSTAMP:20260422T043218
CREATED:20230204T232009Z
LAST-MODIFIED:20230301T183820Z
UID:10003581-1699315200-1699401599@www.leuragolfclub.com.au
SUMMARY:9 Hole Comp
DESCRIPTION:Women’s 9 hole comp in the morning and social play at other times.
URL:https://www.leuragolfclub.com.au/event/9-hole-comp/2023-11-07/
CATEGORIES:Tuesday Comp
END:VEVENT
BEGIN:VEVENT
DTSTART;VALUE=DATE:20231105
DTEND;VALUE=DATE:20231107
DTSTAMP:20260422T043218
CREATED:20230327T231136Z
LAST-MODIFIED:20230327T231136Z
UID:10003618-1699142400-1699315199@www.leuragolfclub.com.au
SUMMARY:Country C/ships
DESCRIPTION:
URL:https://www.leuragolfclub.com.au/event/country-c-ships/
CATEGORIES:Other
END:VEVENT
BEGIN:VEVENT
DTSTART;VALUE=DATE:20231104
DTEND;VALUE=DATE:20231105
DTSTAMP:20260422T043218
CREATED:20221226T021250Z
LAST-MODIFIED:20221226T021250Z
UID:10003058-1699056000-1699142399@www.leuragolfclub.com.au
SUMMARY:Medley Stableford Singles (white tees)
DESCRIPTION:
URL:https://www.leuragolfclub.com.au/event/medley-stableford-singles-white-tees-6/2023-11-04/
CATEGORIES:Saturday Medley Comp
END:VEVENT
BEGIN:VEVENT
DTSTART;VALUE=DATE:20231104
DTEND;VALUE=DATE:20231105
DTSTAMP:20260422T043218
CREATED:20221226T021041Z
LAST-MODIFIED:20231221T222624Z
UID:10003033-1699056000-1699142399@www.leuragolfclub.com.au
SUMMARY:Men’s Monthly Medal + Medley Stroke
DESCRIPTION:Visitors welcome. Visitors can win the competition but not the Medal.
URL:https://www.leuragolfclub.com.au/event/mens-monthly-medal-medley-stroke-8-2023-02-04/2023-11-04/
CATEGORIES:Saturday Medley Comp
END:VEVENT
BEGIN:VEVENT
DTSTART;VALUE=DATE:20231103
DTEND;VALUE=DATE:20231104
DTSTAMP:20260422T043218
CREATED:20230420T062851Z
LAST-MODIFIED:20231227T034009Z
UID:10003207-1698969600-1699055999@www.leuragolfclub.com.au
SUMMARY:Friday Nine Medley
DESCRIPTION:Social Members and beginners are welcome and will be allocated a handicap of 36 for men and 45 for women. This provides an opportunity for non-golfers to learn and experience our beloved game and hopefully get hooked on it like the rest of we golf tragics. \nWe encourage players to stay on for a drink\, presentation of prizes and dinner in the Bistro after your game. \nConditions of Play\n\nTee off from 10:00am\, playing from white markers for men and red markers for women.\nFee is $10 per player.\nCompetition will be played over 9 holes alternating week about.\n\nFront 9 – 1st to 9th\nBack 9 – 1st then 11th to 18th.\n\n\nCompetition will be conducted using the Stroke scoring system.\nA mercy rule will apply – once a player has had three shots over par on any hole\, pick up your ball and record the score for that hole as three over. Move on to the next hole.\nHandicaps for both 9’s will be half your current daily GA handicap.\nOfficial rules of golf apply.\nAll prizes are added to members’ cards\, visitors will be given vouchers.
URL:https://www.leuragolfclub.com.au/event/friday-nine/2023-11-03/
CATEGORIES:Twilight 9 Comp
END:VEVENT
BEGIN:VEVENT
DTSTART;VALUE=DATE:20231102
DTEND;VALUE=DATE:20231103
DTSTAMP:20260422T043218
CREATED:20230104T224506Z
LAST-MODIFIED:20230104T224700Z
UID:10003531-1698883200-1698969599@www.leuragolfclub.com.au
SUMMARY:Trivia @ 7pm
DESCRIPTION:
URL:https://www.leuragolfclub.com.au/event/trivia-7pm/2023-11-02/
CATEGORIES:LGC Function
END:VEVENT
BEGIN:VEVENT
DTSTART;VALUE=DATE:20231101
DTEND;VALUE=DATE:20231102
DTSTAMP:20260422T043218
CREATED:20211115T234200Z
LAST-MODIFIED:20221212T041308Z
UID:10003260-1698796800-1698883199@www.leuragolfclub.com.au
SUMMARY:Medley Stableford Singles + 2BBB
DESCRIPTION:
URL:https://www.leuragolfclub.com.au/event/medley-stableford-singles-2bbb-19/2023-11-01/
CATEGORIES:Wednesday Medley Comp
END:VEVENT
BEGIN:VEVENT
DTSTART;VALUE=DATE:20231031
DTEND;VALUE=DATE:20231101
DTSTAMP:20260422T043218
CREATED:20230204T232009Z
LAST-MODIFIED:20230301T183820Z
UID:10003580-1698710400-1698796799@www.leuragolfclub.com.au
SUMMARY:9 Hole Comp
DESCRIPTION:Women’s 9 hole comp in the morning and social play at other times.
URL:https://www.leuragolfclub.com.au/event/9-hole-comp/2023-10-31/
CATEGORIES:Tuesday Comp
END:VEVENT
BEGIN:VEVENT
DTSTART;VALUE=DATE:20231029
DTEND;VALUE=DATE:20231030
DTSTAMP:20260422T043218
CREATED:20230327T231029Z
LAST-MODIFIED:20230327T231029Z
UID:10003619-1698537600-1698623999@www.leuragolfclub.com.au
SUMMARY:Wentworth Falls Open
DESCRIPTION:
URL:https://www.leuragolfclub.com.au/event/wentworth-falls-open-5/
CATEGORIES:Other
END:VEVENT
BEGIN:VEVENT
DTSTART;VALUE=DATE:20231028
DTEND;VALUE=DATE:20231029
DTSTAMP:20260422T043218
CREATED:20221226T022134Z
LAST-MODIFIED:20231221T215535Z
UID:10003070-1698451200-1698537599@www.leuragolfclub.com.au
SUMMARY:Medley Par Singles + 2BBB
DESCRIPTION:
URL:https://www.leuragolfclub.com.au/event/medley-par-singles-2bbb-6/2023-10-28/
CATEGORIES:Saturday Medley Comp
END:VEVENT
BEGIN:VEVENT
DTSTART;VALUE=DATE:20231027
DTEND;VALUE=DATE:20231028
DTSTAMP:20260422T043218
CREATED:20230420T062851Z
LAST-MODIFIED:20231227T034009Z
UID:10003206-1698364800-1698451199@www.leuragolfclub.com.au
SUMMARY:Friday Nine Medley
DESCRIPTION:Social Members and beginners are welcome and will be allocated a handicap of 36 for men and 45 for women. This provides an opportunity for non-golfers to learn and experience our beloved game and hopefully get hooked on it like the rest of we golf tragics. \nWe encourage players to stay on for a drink\, presentation of prizes and dinner in the Bistro after your game. \nConditions of Play\n\nTee off from 10:00am\, playing from white markers for men and red markers for women.\nFee is $10 per player.\nCompetition will be played over 9 holes alternating week about.\n\nFront 9 – 1st to 9th\nBack 9 – 1st then 11th to 18th.\n\n\nCompetition will be conducted using the Stroke scoring system.\nA mercy rule will apply – once a player has had three shots over par on any hole\, pick up your ball and record the score for that hole as three over. Move on to the next hole.\nHandicaps for both 9’s will be half your current daily GA handicap.\nOfficial rules of golf apply.\nAll prizes are added to members’ cards\, visitors will be given vouchers.
URL:https://www.leuragolfclub.com.au/event/friday-nine/2023-10-27/
CATEGORIES:Twilight 9 Comp
END:VEVENT
BEGIN:VEVENT
DTSTART;VALUE=DATE:20231026
DTEND;VALUE=DATE:20231027
DTSTAMP:20260422T043218
CREATED:20230104T224506Z
LAST-MODIFIED:20230104T224700Z
UID:10003530-1698278400-1698364799@www.leuragolfclub.com.au
SUMMARY:Trivia @ 7pm
DESCRIPTION:
URL:https://www.leuragolfclub.com.au/event/trivia-7pm/2023-10-26/
CATEGORIES:LGC Function
END:VEVENT
BEGIN:VEVENT
DTSTART;VALUE=DATE:20231025
DTEND;VALUE=DATE:20231026
DTSTAMP:20260422T043218
CREATED:20221212T041815Z
LAST-MODIFIED:20221212T041815Z
UID:10003458-1698192000-1698278399@www.leuragolfclub.com.au
SUMMARY:Medley Stableford Singles + 2BBB
DESCRIPTION:
URL:https://www.leuragolfclub.com.au/event/medley-stableford-singles-2bbb-15/2023-10-25/
CATEGORIES:Wednesday Medley Comp
END:VEVENT
BEGIN:VEVENT
DTSTART;VALUE=DATE:20231024
DTEND;VALUE=DATE:20231025
DTSTAMP:20260422T043218
CREATED:20230204T232009Z
LAST-MODIFIED:20230301T183820Z
UID:10003579-1698105600-1698191999@www.leuragolfclub.com.au
SUMMARY:9 Hole Comp
DESCRIPTION:Women’s 9 hole comp in the morning and social play at other times.
URL:https://www.leuragolfclub.com.au/event/9-hole-comp/2023-10-24/
CATEGORIES:Tuesday Comp
END:VEVENT
BEGIN:VEVENT
DTSTART;VALUE=DATE:20231021
DTEND;VALUE=DATE:20231022
DTSTAMP:20260422T043218
CREATED:20221226T023111Z
LAST-MODIFIED:20231221T214048Z
UID:10003106-1697846400-1697932799@www.leuragolfclub.com.au
SUMMARY:Medley Stableford Singles + 2B Aggregate
DESCRIPTION:
URL:https://www.leuragolfclub.com.au/event/medley-stableford-singles-2b-aggregate-6/2023-10-21/
CATEGORIES:Saturday Medley Comp
END:VEVENT
BEGIN:VEVENT
DTSTART;VALUE=DATE:20231021
DTEND;VALUE=DATE:20231022
DTSTAMP:20260422T043218
CREATED:20180626T023936Z
LAST-MODIFIED:20180626T023936Z
UID:10002659-1697846400-1697932799@www.leuragolfclub.com.au
SUMMARY:Stableford + 2B Aggregate
DESCRIPTION:Medley competition – visitors welcome. \nComp closes at 4pm so please ensure that your tee time will allow you to finish in time.
URL:https://www.leuragolfclub.com.au/event/stableford-2b-aggregate/2023-10-21/
CATEGORIES:Saturday Medley Comp
END:VEVENT
BEGIN:VEVENT
DTSTART;VALUE=DATE:20231020
DTEND;VALUE=DATE:20231021
DTSTAMP:20260422T043218
CREATED:20230420T062851Z
LAST-MODIFIED:20231227T034009Z
UID:10003205-1697760000-1697846399@www.leuragolfclub.com.au
SUMMARY:Friday Nine Medley
DESCRIPTION:Social Members and beginners are welcome and will be allocated a handicap of 36 for men and 45 for women. This provides an opportunity for non-golfers to learn and experience our beloved game and hopefully get hooked on it like the rest of we golf tragics. \nWe encourage players to stay on for a drink\, presentation of prizes and dinner in the Bistro after your game. \nConditions of Play\n\nTee off from 10:00am\, playing from white markers for men and red markers for women.\nFee is $10 per player.\nCompetition will be played over 9 holes alternating week about.\n\nFront 9 – 1st to 9th\nBack 9 – 1st then 11th to 18th.\n\n\nCompetition will be conducted using the Stroke scoring system.\nA mercy rule will apply – once a player has had three shots over par on any hole\, pick up your ball and record the score for that hole as three over. Move on to the next hole.\nHandicaps for both 9’s will be half your current daily GA handicap.\nOfficial rules of golf apply.\nAll prizes are added to members’ cards\, visitors will be given vouchers.
URL:https://www.leuragolfclub.com.au/event/friday-nine/2023-10-20/
CATEGORIES:Twilight 9 Comp
END:VEVENT
BEGIN:VEVENT
DTSTART;VALUE=DATE:20231019
DTEND;VALUE=DATE:20231020
DTSTAMP:20260422T043218
CREATED:20230104T224506Z
LAST-MODIFIED:20230104T224700Z
UID:10003529-1697673600-1697759999@www.leuragolfclub.com.au
SUMMARY:Trivia @ 7pm
DESCRIPTION:
URL:https://www.leuragolfclub.com.au/event/trivia-7pm/2023-10-19/
CATEGORIES:LGC Function
END:VEVENT
BEGIN:VEVENT
DTSTART;VALUE=DATE:20231018
DTEND;VALUE=DATE:20231019
DTSTAMP:20260422T043218
CREATED:20220123T002851Z
LAST-MODIFIED:20221230T022033Z
UID:10003299-1697587200-1697673599@www.leuragolfclub.com.au
SUMMARY:Medley Stableford Singles + 2B Multiplier
DESCRIPTION:
URL:https://www.leuragolfclub.com.au/event/medley-stableford-singles-2b-multiplier-4/2023-10-18/
CATEGORIES:Wednesday Medley Comp
END:VEVENT
END:VCALENDAR