BEGIN:VCALENDAR
VERSION:2.0
PRODID:-//Leura Golf Club - ECPv6.13.2.1//NONSGML v1.0//EN
CALSCALE:GREGORIAN
METHOD:PUBLISH
X-WR-CALNAME:Leura Golf Club
X-ORIGINAL-URL:https://www.leuragolfclub.com.au
X-WR-CALDESC:Events for Leura Golf Club
REFRESH-INTERVAL;VALUE=DURATION:PT1H
X-Robots-Tag:noindex
X-PUBLISHED-TTL:PT1H
BEGIN:VTIMEZONE
TZID:Australia/Melbourne
BEGIN:STANDARD
TZOFFSETFROM:+1100
TZOFFSETTO:+1000
TZNAME:AEST
DTSTART:20200404T160000
END:STANDARD
BEGIN:DAYLIGHT
TZOFFSETFROM:+1000
TZOFFSETTO:+1100
TZNAME:AEDT
DTSTART:20201003T160000
END:DAYLIGHT
BEGIN:STANDARD
TZOFFSETFROM:+1100
TZOFFSETTO:+1000
TZNAME:AEST
DTSTART:20210403T160000
END:STANDARD
BEGIN:DAYLIGHT
TZOFFSETFROM:+1000
TZOFFSETTO:+1100
TZNAME:AEDT
DTSTART:20211002T160000
END:DAYLIGHT
END:VTIMEZONE
BEGIN:VEVENT
DTSTART;VALUE=DATE:20201223
DTEND;VALUE=DATE:20201224
DTSTAMP:20260423T185220
CREATED:20191025T230132Z
LAST-MODIFIED:20200702T053231Z
UID:10002512-1608681600-1608767999@www.leuragolfclub.com.au
SUMMARY:Medley - 2 Ball Ambrose
DESCRIPTION:
URL:https://www.leuragolfclub.com.au/event/single-stableford-2b-multiplier-2020-04-22-2020-06-24-2020-07-22-2020-12-23/
CATEGORIES:Wednesday Medley Comp
END:VEVENT
BEGIN:VEVENT
DTSTART;VALUE=DATE:20201222
DTEND;VALUE=DATE:20201223
DTSTAMP:20260423T185220
CREATED:20200628T011222Z
LAST-MODIFIED:20200628T011311Z
UID:10002741-1608595200-1608681599@www.leuragolfclub.com.au
SUMMARY:Tuesday Medley Comp
DESCRIPTION:
URL:https://www.leuragolfclub.com.au/event/tuesday-medley-comp/2020-12-22/
END:VEVENT
BEGIN:VEVENT
DTSTART;VALUE=DATE:20201221
DTEND;VALUE=DATE:20210129
DTSTAMP:20260423T185220
CREATED:20201226T020054Z
LAST-MODIFIED:20201226T020054Z
UID:10002965-1608508800-1611878399@www.leuragolfclub.com.au
SUMMARY:School Holidays
DESCRIPTION:27 & 28 Jan are Staff Dev Days
URL:https://www.leuragolfclub.com.au/event/school-holidays-3/
END:VEVENT
BEGIN:VEVENT
DTSTART;VALUE=DATE:20201219
DTEND;VALUE=DATE:20201220
DTSTAMP:20260423T185220
CREATED:20191025T234041Z
LAST-MODIFIED:20200702T053138Z
UID:10002879-1608336000-1608422399@www.leuragolfclub.com.au
SUMMARY:Medley - Stableford Singles + 2BBB
DESCRIPTION:
URL:https://www.leuragolfclub.com.au/event/par-singles-2bbb-2020-10-17-2020-12-19/
CATEGORIES:Saturday Medley Comp
END:VEVENT
BEGIN:VEVENT
DTSTART;VALUE=DATE:20201219
DTEND;VALUE=DATE:20201220
DTSTAMP:20260423T185220
CREATED:20180626T023936Z
LAST-MODIFIED:20180626T023936Z
UID:10002625-1608336000-1608422399@www.leuragolfclub.com.au
SUMMARY:Stableford + 2B Aggregate
DESCRIPTION:Medley competition – visitors welcome. \nComp closes at 4pm so please ensure that your tee time will allow you to finish in time.
URL:https://www.leuragolfclub.com.au/event/stableford-2b-aggregate/2020-12-19/
CATEGORIES:Saturday Medley Comp
END:VEVENT
BEGIN:VEVENT
DTSTART;VALUE=DATE:20201216
DTEND;VALUE=DATE:20201217
DTSTAMP:20260423T185220
CREATED:20191025T225521Z
LAST-MODIFIED:20200403T025746Z
UID:10002500-1608076800-1608163199@www.leuragolfclub.com.au
SUMMARY:Medley - Singles Stroke
DESCRIPTION:
URL:https://www.leuragolfclub.com.au/event/single-stableford-2bbb-2020-04-01-2020-04-15/2020-12-16/
CATEGORIES:Wednesday Medley Comp
END:VEVENT
BEGIN:VEVENT
DTSTART;VALUE=DATE:20201215
DTEND;VALUE=DATE:20201216
DTSTAMP:20260423T185220
CREATED:20200628T011222Z
LAST-MODIFIED:20200628T011311Z
UID:10002740-1607990400-1608076799@www.leuragolfclub.com.au
SUMMARY:Tuesday Medley Comp
DESCRIPTION:
URL:https://www.leuragolfclub.com.au/event/tuesday-medley-comp/2020-12-15/
END:VEVENT
BEGIN:VEVENT
DTSTART;VALUE=DATE:20201213
DTEND;VALUE=DATE:20201214
DTSTAMP:20260423T185220
CREATED:20191026T024302Z
LAST-MODIFIED:20201118T004530Z
UID:10002917-1607817600-1607903999@www.leuragolfclub.com.au
SUMMARY:Portland Open
DESCRIPTION:
URL:https://www.leuragolfclub.com.au/event/portland-open-3/
CATEGORIES:Other
END:VEVENT
BEGIN:VEVENT
DTSTART;VALUE=DATE:20201212
DTEND;VALUE=DATE:20201213
DTSTAMP:20260423T185220
CREATED:20191026T022436Z
LAST-MODIFIED:20201126T033724Z
UID:10002903-1607731200-1607817599@www.leuragolfclub.com.au
SUMMARY:Presidents v Captains  Stableford 2BBB
DESCRIPTION:A singles competition\, not in Groups A and B\, will be played in conjunction.
URL:https://www.leuragolfclub.com.au/event/presidents-v-captains-stableford-2b-ambrose-2/
CATEGORIES:LGC Major Events
END:VEVENT
BEGIN:VEVENT
DTSTART;VALUE=DATE:20201209
DTEND;VALUE=DATE:20201210
DTSTAMP:20260423T185220
CREATED:20191025T225822Z
LAST-MODIFIED:20200528T005012Z
UID:10002846-1607472000-1607558399@www.leuragolfclub.com.au
SUMMARY:Medley - Par Singles + 2BBB
DESCRIPTION:
URL:https://www.leuragolfclub.com.au/event/single-stableford-2b-aggregate-2020-04-08-2020-06-10/2020-12-09/
CATEGORIES:Wednesday Medley Comp
END:VEVENT
BEGIN:VEVENT
DTSTART;VALUE=DATE:20201208
DTEND;VALUE=DATE:20201209
DTSTAMP:20260423T185220
CREATED:20200628T011222Z
LAST-MODIFIED:20200628T011311Z
UID:10002739-1607385600-1607471999@www.leuragolfclub.com.au
SUMMARY:Tuesday Medley Comp
DESCRIPTION:
URL:https://www.leuragolfclub.com.au/event/tuesday-medley-comp/2020-12-08/
END:VEVENT
BEGIN:VEVENT
DTSTART;TZID=Australia/Melbourne:20201206T100000
DTEND;TZID=Australia/Melbourne:20201206T110000
DTSTAMP:20260423T185220
CREATED:20200925T053915Z
LAST-MODIFIED:20201118T000437Z
UID:10002963-1607248800-1607252400@www.leuragolfclub.com.au
SUMMARY:2020 Annual General Meeting
DESCRIPTION:
URL:https://www.leuragolfclub.com.au/event/2020-annual-general-meeting/
CATEGORIES:LGC Function
END:VEVENT
BEGIN:VEVENT
DTSTART;VALUE=DATE:20201206
DTEND;VALUE=DATE:20201207
DTSTAMP:20260423T185220
CREATED:20191026T024221Z
LAST-MODIFIED:20201118T004548Z
UID:10002915-1607212800-1607299199@www.leuragolfclub.com.au
SUMMARY:Lithgow Open
DESCRIPTION:
URL:https://www.leuragolfclub.com.au/event/lithgow-open-3/
CATEGORIES:Other
END:VEVENT
BEGIN:VEVENT
DTSTART;VALUE=DATE:20201205
DTEND;VALUE=DATE:20201206
DTSTAMP:20260423T185220
CREATED:20191026T022316Z
LAST-MODIFIED:20201125T042537Z
UID:10002900-1607126400-1607212799@www.leuragolfclub.com.au
SUMMARY:Men's Medal of Medals (Gold Medal) + Men's Monthly Medal + Medley Stroke
DESCRIPTION:The Men’s Medal of Medals (Gold Medal) is held each December\, in conjunction with the December Monthly Medal. \nThe winners of the Monthly Medals in each grade during the past year compete for the three Gold Medals. Those who have qualified play in the grade applicable to their Daily Handicap on the Gold Medal day.
URL:https://www.leuragolfclub.com.au/event/monthly-medal-mens-gold-medal-mens-medley-stroke/2020-12-05/
CATEGORIES:LGC Major Events
END:VEVENT
BEGIN:VEVENT
DTSTART;VALUE=DATE:20201202
DTEND;VALUE=DATE:20201203
DTSTAMP:20260423T185220
CREATED:20191025T225521Z
LAST-MODIFIED:20200528T004837Z
UID:10002508-1606867200-1606953599@www.leuragolfclub.com.au
SUMMARY:Medley - Stableford Singles + 2BBB
DESCRIPTION:
URL:https://www.leuragolfclub.com.au/event/single-stableford-2bbb-2020-04-01-2020-06-03/2020-12-02/
CATEGORIES:Wednesday Medley Comp
END:VEVENT
BEGIN:VEVENT
DTSTART;VALUE=DATE:20201201
DTEND;VALUE=DATE:20201202
DTSTAMP:20260423T185220
CREATED:20200628T011222Z
LAST-MODIFIED:20200628T011311Z
UID:10002738-1606780800-1606867199@www.leuragolfclub.com.au
SUMMARY:Tuesday Medley Comp
DESCRIPTION:
URL:https://www.leuragolfclub.com.au/event/tuesday-medley-comp/2020-12-01/
END:VEVENT
BEGIN:VEVENT
DTSTART;VALUE=DATE:20201129
DTEND;VALUE=DATE:20201130
DTSTAMP:20260423T185220
CREATED:20191026T024130Z
LAST-MODIFIED:20201118T004602Z
UID:10002913-1606608000-1606694399@www.leuragolfclub.com.au
SUMMARY:Oberon Open
DESCRIPTION:
URL:https://www.leuragolfclub.com.au/event/oberon-open-3/
CATEGORIES:Other
END:VEVENT
BEGIN:VEVENT
DTSTART;VALUE=DATE:20201128
DTEND;VALUE=DATE:20201129
DTSTAMP:20260423T185220
CREATED:20191025T234244Z
LAST-MODIFIED:20191026T000936Z
UID:10002882-1606521600-1606607999@www.leuragolfclub.com.au
SUMMARY:Single Stableford + 2B Aggregate
DESCRIPTION:
URL:https://www.leuragolfclub.com.au/event/single-stableford-2b-aggregate-2/2020-11-28/
CATEGORIES:Saturday Medley Comp
END:VEVENT
BEGIN:VEVENT
DTSTART;VALUE=DATE:20201128
DTEND;VALUE=DATE:20201129
DTSTAMP:20260423T185220
CREATED:20191025T234244Z
LAST-MODIFIED:20200528T011656Z
UID:10002884-1606521600-1606607999@www.leuragolfclub.com.au
SUMMARY:Medley - Stableford Singles  + 2B Aggregate
DESCRIPTION:
URL:https://www.leuragolfclub.com.au/event/single-stableford-2b-aggregate-2-2020-11-28/2020-11-28/
CATEGORIES:Saturday Medley Comp
END:VEVENT
BEGIN:VEVENT
DTSTART;VALUE=DATE:20201125
DTEND;VALUE=DATE:20201126
DTSTAMP:20260423T185220
CREATED:20191025T230132Z
LAST-MODIFIED:20200528T010932Z
UID:10002860-1606262400-1606348799@www.leuragolfclub.com.au
SUMMARY:Medley - Stableford Singles + 2B Multiplier
DESCRIPTION:
URL:https://www.leuragolfclub.com.au/event/single-stableford-2b-multiplier-2020-04-22-2020-06-24-2020-07-22/2020-11-25/
CATEGORIES:Wednesday Medley Comp
END:VEVENT
BEGIN:VEVENT
DTSTART;VALUE=DATE:20201124
DTEND;VALUE=DATE:20201125
DTSTAMP:20260423T185220
CREATED:20200628T011222Z
LAST-MODIFIED:20200628T011311Z
UID:10002737-1606176000-1606262399@www.leuragolfclub.com.au
SUMMARY:Tuesday Medley Comp
DESCRIPTION:
URL:https://www.leuragolfclub.com.au/event/tuesday-medley-comp/2020-11-24/
END:VEVENT
BEGIN:VEVENT
DTSTART;VALUE=DATE:20201122
DTEND;VALUE=DATE:20201123
DTSTAMP:20260423T185220
CREATED:20191026T024056Z
LAST-MODIFIED:20201118T004625Z
UID:10002911-1606003200-1606089599@www.leuragolfclub.com.au
SUMMARY:Blackheath Open
DESCRIPTION:
URL:https://www.leuragolfclub.com.au/event/blackheath-open-3/
CATEGORIES:Other
END:VEVENT
BEGIN:VEVENT
DTSTART;VALUE=DATE:20201121
DTEND;VALUE=DATE:20201122
DTSTAMP:20260423T185220
CREATED:20191025T234041Z
LAST-MODIFIED:20200528T011550Z
UID:10002878-1605916800-1606003199@www.leuragolfclub.com.au
SUMMARY:Medley - Par Singles + 2BBB
DESCRIPTION:
URL:https://www.leuragolfclub.com.au/event/par-singles-2bbb-2020-10-17/2020-11-21/
CATEGORIES:Saturday Medley Comp
END:VEVENT
BEGIN:VEVENT
DTSTART;VALUE=DATE:20201121
DTEND;VALUE=DATE:20201122
DTSTAMP:20260423T185220
CREATED:20180626T023936Z
LAST-MODIFIED:20180626T023936Z
UID:10002624-1605916800-1606003199@www.leuragolfclub.com.au
SUMMARY:Stableford + 2B Aggregate
DESCRIPTION:Medley competition – visitors welcome. \nComp closes at 4pm so please ensure that your tee time will allow you to finish in time.
URL:https://www.leuragolfclub.com.au/event/stableford-2b-aggregate/2020-11-21/
CATEGORIES:Saturday Medley Comp
END:VEVENT
BEGIN:VEVENT
DTSTART;VALUE=DATE:20201118
DTEND;VALUE=DATE:20201119
DTSTAMP:20260423T185220
CREATED:20191025T225521Z
LAST-MODIFIED:20200403T025746Z
UID:10002499-1605657600-1605743999@www.leuragolfclub.com.au
SUMMARY:Medley - Singles Stroke
DESCRIPTION:
URL:https://www.leuragolfclub.com.au/event/single-stableford-2bbb-2020-04-01-2020-04-15/2020-11-18/
CATEGORIES:Wednesday Medley Comp
END:VEVENT
BEGIN:VEVENT
DTSTART;VALUE=DATE:20201117
DTEND;VALUE=DATE:20201118
DTSTAMP:20260423T185220
CREATED:20200628T011222Z
LAST-MODIFIED:20200628T011311Z
UID:10002736-1605571200-1605657599@www.leuragolfclub.com.au
SUMMARY:Tuesday Medley Comp
DESCRIPTION:
URL:https://www.leuragolfclub.com.au/event/tuesday-medley-comp/2020-11-17/
END:VEVENT
BEGIN:VEVENT
DTSTART;VALUE=DATE:20201114
DTEND;VALUE=DATE:20201115
DTSTAMP:20260423T185220
CREATED:20200925T053650Z
LAST-MODIFIED:20200925T053650Z
UID:10002962-1605312000-1605398399@www.leuragolfclub.com.au
SUMMARY:Medley - Stableford Singles + 2BBB
DESCRIPTION:
URL:https://www.leuragolfclub.com.au/event/medley-stableford-singles-2bbb-5/
CATEGORIES:Saturday Medley Comp
END:VEVENT
BEGIN:VEVENT
DTSTART;VALUE=DATE:20201111
DTEND;VALUE=DATE:20201112
DTSTAMP:20260423T185220
CREATED:20191025T225822Z
LAST-MODIFIED:20200528T005012Z
UID:10002845-1605052800-1605139199@www.leuragolfclub.com.au
SUMMARY:Medley - Par Singles + 2BBB
DESCRIPTION:
URL:https://www.leuragolfclub.com.au/event/single-stableford-2b-aggregate-2020-04-08-2020-06-10/2020-11-11/
CATEGORIES:Wednesday Medley Comp
END:VEVENT
BEGIN:VEVENT
DTSTART;VALUE=DATE:20201110
DTEND;VALUE=DATE:20201111
DTSTAMP:20260423T185220
CREATED:20200628T011222Z
LAST-MODIFIED:20200628T011311Z
UID:10002735-1604966400-1605052799@www.leuragolfclub.com.au
SUMMARY:Tuesday Medley Comp
DESCRIPTION:
URL:https://www.leuragolfclub.com.au/event/tuesday-medley-comp/2020-11-10/
END:VEVENT
BEGIN:VEVENT
DTSTART;VALUE=DATE:20201107
DTEND;VALUE=DATE:20201108
DTSTAMP:20260423T185220
CREATED:20191025T232909Z
LAST-MODIFIED:20200528T005701Z
UID:10002868-1604707200-1604793599@www.leuragolfclub.com.au
SUMMARY:Monthly Medal (men) + Medley Stroke
DESCRIPTION:Men’s Medal event. Visitors and women are welcome\, can win the event but not the medal.
URL:https://www.leuragolfclub.com.au/event/monthly-medal-2-2020-06-06/2020-11-07/
CATEGORIES:Saturday Medley Comp
END:VEVENT
END:VCALENDAR