BEGIN:VCALENDAR
VERSION:2.0
PRODID:-//Leura Golf Club - ECPv6.13.2.1//NONSGML v1.0//EN
CALSCALE:GREGORIAN
METHOD:PUBLISH
X-WR-CALNAME:Leura Golf Club
X-ORIGINAL-URL:https://www.leuragolfclub.com.au
X-WR-CALDESC:Events for Leura Golf Club
REFRESH-INTERVAL;VALUE=DURATION:PT1H
X-Robots-Tag:noindex
X-PUBLISHED-TTL:PT1H
BEGIN:VTIMEZONE
TZID:Australia/Melbourne
BEGIN:STANDARD
TZOFFSETFROM:+1100
TZOFFSETTO:+1000
TZNAME:AEST
DTSTART:20200404T160000
END:STANDARD
BEGIN:DAYLIGHT
TZOFFSETFROM:+1000
TZOFFSETTO:+1100
TZNAME:AEDT
DTSTART:20201003T160000
END:DAYLIGHT
BEGIN:STANDARD
TZOFFSETFROM:+1100
TZOFFSETTO:+1000
TZNAME:AEST
DTSTART:20210403T160000
END:STANDARD
BEGIN:DAYLIGHT
TZOFFSETFROM:+1000
TZOFFSETTO:+1100
TZNAME:AEDT
DTSTART:20211002T160000
END:DAYLIGHT
END:VTIMEZONE
BEGIN:VEVENT
DTSTART;VALUE=DATE:20210126
DTEND;VALUE=DATE:20210127
DTSTAMP:20260423T182814
CREATED:20201227T033826Z
LAST-MODIFIED:20201227T033826Z
UID:10003132-1611619200-1611705599@www.leuragolfclub.com.au
SUMMARY:Tuesday Medley Comp
DESCRIPTION:
URL:https://www.leuragolfclub.com.au/event/tuesday-medley-comp-3/2021-01-26/
END:VEVENT
BEGIN:VEVENT
DTSTART;VALUE=DATE:20210126
DTEND;VALUE=DATE:20210127
DTSTAMP:20260423T182814
CREATED:20201226T022117Z
LAST-MODIFIED:20201226T022117Z
UID:10002970-1611619200-1611705599@www.leuragolfclub.com.au
SUMMARY:Australia Day
DESCRIPTION:
URL:https://www.leuragolfclub.com.au/event/australia-day/
END:VEVENT
BEGIN:VEVENT
DTSTART;VALUE=DATE:20210125
DTEND;VALUE=DATE:20210126
DTSTAMP:20260423T182814
CREATED:20201228T011154Z
LAST-MODIFIED:20201228T012045Z
UID:10003173-1611532800-1611619199@www.leuragolfclub.com.au
SUMMARY:NSW Amateur Championship
DESCRIPTION:For more informatio go to https://www.golfnsw.org.au/
URL:https://www.leuragolfclub.com.au/event/nsw-amateur-championship/2021-01-25/
END:VEVENT
BEGIN:VEVENT
DTSTART;VALUE=DATE:20210123
DTEND;VALUE=DATE:20210124
DTSTAMP:20260423T182814
CREATED:20201226T034741Z
LAST-MODIFIED:20201226T035341Z
UID:10003006-1611360000-1611446399@www.leuragolfclub.com.au
SUMMARY:Medley Stableford Singles + 2B Aggregate
DESCRIPTION:
URL:https://www.leuragolfclub.com.au/event/medley-stableford-singles-2b-aggregate-2/2021-01-23/
CATEGORIES:Saturday Medley Comp
END:VEVENT
BEGIN:VEVENT
DTSTART;TZID=Australia/Melbourne:20210120T080000
DTEND;TZID=Australia/Melbourne:20210120T170000
DTSTAMP:20260423T182814
CREATED:20201226T053742Z
LAST-MODIFIED:20201226T053742Z
UID:10003091-1611129600-1611162000@www.leuragolfclub.com.au
SUMMARY:Medley Stableford Singles + 2BBB
DESCRIPTION:
URL:https://www.leuragolfclub.com.au/event/medley-stableford-singles-2bbb-9/
CATEGORIES:Wednesday Medley Comp
END:VEVENT
BEGIN:VEVENT
DTSTART;VALUE=DATE:20210119
DTEND;VALUE=DATE:20210120
DTSTAMP:20260423T182814
CREATED:20201227T033826Z
LAST-MODIFIED:20201227T033826Z
UID:10003131-1611014400-1611100799@www.leuragolfclub.com.au
SUMMARY:Tuesday Medley Comp
DESCRIPTION:
URL:https://www.leuragolfclub.com.au/event/tuesday-medley-comp-3/2021-01-19/
END:VEVENT
BEGIN:VEVENT
DTSTART;VALUE=DATE:20210116
DTEND;VALUE=DATE:20210117
DTSTAMP:20260423T182814
CREATED:20201226T034556Z
LAST-MODIFIED:20201226T034556Z
UID:10002997-1610755200-1610841599@www.leuragolfclub.com.au
SUMMARY:Medley Par Singles + 2BBB
DESCRIPTION:
URL:https://www.leuragolfclub.com.au/event/medley-par-singles-2bbb/2021-01-16/
CATEGORIES:Saturday Medley Comp
END:VEVENT
BEGIN:VEVENT
DTSTART;VALUE=DATE:20210116
DTEND;VALUE=DATE:20210117
DTSTAMP:20260423T182814
CREATED:20180626T023936Z
LAST-MODIFIED:20180626T023936Z
UID:10002626-1610755200-1610841599@www.leuragolfclub.com.au
SUMMARY:Stableford + 2B Aggregate
DESCRIPTION:Medley competition – visitors welcome. \nComp closes at 4pm so please ensure that your tee time will allow you to finish in time.
URL:https://www.leuragolfclub.com.au/event/stableford-2b-aggregate/2021-01-16/
CATEGORIES:Saturday Medley Comp
END:VEVENT
BEGIN:VEVENT
DTSTART;VALUE=DATE:20210113
DTEND;VALUE=DATE:20210114
DTSTAMP:20260423T182814
CREATED:20201226T052214Z
LAST-MODIFIED:20201226T054201Z
UID:10003061-1610496000-1610582399@www.leuragolfclub.com.au
SUMMARY:Medley Par + 2BBB
DESCRIPTION:
URL:https://www.leuragolfclub.com.au/event/medley-stableford-singles-2bbb-8/2021-01-13/
CATEGORIES:Wednesday Medley Comp
END:VEVENT
BEGIN:VEVENT
DTSTART;VALUE=DATE:20210112
DTEND;VALUE=DATE:20210113
DTSTAMP:20260423T182814
CREATED:20201227T033826Z
LAST-MODIFIED:20201227T033826Z
UID:10003130-1610409600-1610495999@www.leuragolfclub.com.au
SUMMARY:Tuesday Medley Comp
DESCRIPTION:
URL:https://www.leuragolfclub.com.au/event/tuesday-medley-comp-3/2021-01-12/
END:VEVENT
BEGIN:VEVENT
DTSTART;VALUE=DATE:20210109
DTEND;VALUE=DATE:20210110
DTSTAMP:20260423T182814
CREATED:20201226T034050Z
LAST-MODIFIED:20201226T034050Z
UID:10002991-1610150400-1610236799@www.leuragolfclub.com.au
SUMMARY:Medley Stableford Singles + 2BBB
DESCRIPTION:
URL:https://www.leuragolfclub.com.au/event/medley-stableford-singles-2bbb-6/2021-01-09/
CATEGORIES:Saturday Medley Comp
END:VEVENT
BEGIN:VEVENT
DTSTART;VALUE=DATE:20210106
DTEND;VALUE=DATE:20210107
DTSTAMP:20260423T182814
CREATED:20201226T052109Z
LAST-MODIFIED:20201226T053932Z
UID:10003036-1609891200-1609977599@www.leuragolfclub.com.au
SUMMARY:Medley Stableford Singles + 2BBB
DESCRIPTION:
URL:https://www.leuragolfclub.com.au/event/medley-stableford-singles-2bbb-7/2021-01-06/
CATEGORIES:Wednesday Medley Comp
END:VEVENT
BEGIN:VEVENT
DTSTART;VALUE=DATE:20210105
DTEND;VALUE=DATE:20210106
DTSTAMP:20260423T182814
CREATED:20201227T033826Z
LAST-MODIFIED:20201227T033826Z
UID:10003129-1609804800-1609891199@www.leuragolfclub.com.au
SUMMARY:Tuesday Medley Comp
DESCRIPTION:
URL:https://www.leuragolfclub.com.au/event/tuesday-medley-comp-3/2021-01-05/
END:VEVENT
BEGIN:VEVENT
DTSTART;VALUE=DATE:20210102
DTEND;VALUE=DATE:20210103
DTSTAMP:20260423T182814
CREATED:20201226T032611Z
LAST-MODIFIED:20201226T032611Z
UID:10002977-1609545600-1609631999@www.leuragolfclub.com.au
SUMMARY:Men's Monthly Medal + Medley Stroke
DESCRIPTION:Men’s Medal event. Visitors and women are welcome\, can win the event but not the medal.
URL:https://www.leuragolfclub.com.au/event/mens-monthly-medal-medley-stroke/2021-01-02/
CATEGORIES:Saturday Medley Comp
END:VEVENT
BEGIN:VEVENT
DTSTART;VALUE=DATE:20201230
DTEND;VALUE=DATE:20201231
DTSTAMP:20260423T182814
CREATED:20200702T053609Z
LAST-MODIFIED:20200702T054415Z
UID:10002952-1609286400-1609372799@www.leuragolfclub.com.au
SUMMARY:Medley - Stableford Singles + 2BBB
DESCRIPTION:
URL:https://www.leuragolfclub.com.au/event/medley-stableford-singles-2bbb-3/
CATEGORIES:Wednesday Medley Comp
END:VEVENT
BEGIN:VEVENT
DTSTART;VALUE=DATE:20201229
DTEND;VALUE=DATE:20201230
DTSTAMP:20260423T182814
CREATED:20200628T011222Z
LAST-MODIFIED:20200628T011311Z
UID:10002742-1609200000-1609286399@www.leuragolfclub.com.au
SUMMARY:Tuesday Medley Comp
DESCRIPTION:
URL:https://www.leuragolfclub.com.au/event/tuesday-medley-comp/2020-12-29/
END:VEVENT
BEGIN:VEVENT
DTSTART;VALUE=DATE:20201226
DTEND;VALUE=DATE:20201227
DTSTAMP:20260423T182814
CREATED:20191025T234511Z
LAST-MODIFIED:20200702T053303Z
UID:10002889-1608940800-1609027199@www.leuragolfclub.com.au
SUMMARY:Medley - Stableford Singles + 2BBB
DESCRIPTION:
URL:https://www.leuragolfclub.com.au/event/single-stableford-2b-multiplier-2-2020-12-26/
CATEGORIES:Saturday Medley Comp
END:VEVENT
BEGIN:VEVENT
DTSTART;VALUE=DATE:20201223
DTEND;VALUE=DATE:20201224
DTSTAMP:20260423T182814
CREATED:20191025T230132Z
LAST-MODIFIED:20200702T053231Z
UID:10002512-1608681600-1608767999@www.leuragolfclub.com.au
SUMMARY:Medley - 2 Ball Ambrose
DESCRIPTION:
URL:https://www.leuragolfclub.com.au/event/single-stableford-2b-multiplier-2020-04-22-2020-06-24-2020-07-22-2020-12-23/
CATEGORIES:Wednesday Medley Comp
END:VEVENT
BEGIN:VEVENT
DTSTART;VALUE=DATE:20201222
DTEND;VALUE=DATE:20201223
DTSTAMP:20260423T182814
CREATED:20200628T011222Z
LAST-MODIFIED:20200628T011311Z
UID:10002741-1608595200-1608681599@www.leuragolfclub.com.au
SUMMARY:Tuesday Medley Comp
DESCRIPTION:
URL:https://www.leuragolfclub.com.au/event/tuesday-medley-comp/2020-12-22/
END:VEVENT
BEGIN:VEVENT
DTSTART;VALUE=DATE:20201221
DTEND;VALUE=DATE:20210129
DTSTAMP:20260423T182814
CREATED:20201226T020054Z
LAST-MODIFIED:20201226T020054Z
UID:10002965-1608508800-1611878399@www.leuragolfclub.com.au
SUMMARY:School Holidays
DESCRIPTION:27 & 28 Jan are Staff Dev Days
URL:https://www.leuragolfclub.com.au/event/school-holidays-3/
END:VEVENT
BEGIN:VEVENT
DTSTART;VALUE=DATE:20201219
DTEND;VALUE=DATE:20201220
DTSTAMP:20260423T182814
CREATED:20191025T234041Z
LAST-MODIFIED:20200702T053138Z
UID:10002879-1608336000-1608422399@www.leuragolfclub.com.au
SUMMARY:Medley - Stableford Singles + 2BBB
DESCRIPTION:
URL:https://www.leuragolfclub.com.au/event/par-singles-2bbb-2020-10-17-2020-12-19/
CATEGORIES:Saturday Medley Comp
END:VEVENT
BEGIN:VEVENT
DTSTART;VALUE=DATE:20201219
DTEND;VALUE=DATE:20201220
DTSTAMP:20260423T182814
CREATED:20180626T023936Z
LAST-MODIFIED:20180626T023936Z
UID:10002625-1608336000-1608422399@www.leuragolfclub.com.au
SUMMARY:Stableford + 2B Aggregate
DESCRIPTION:Medley competition – visitors welcome. \nComp closes at 4pm so please ensure that your tee time will allow you to finish in time.
URL:https://www.leuragolfclub.com.au/event/stableford-2b-aggregate/2020-12-19/
CATEGORIES:Saturday Medley Comp
END:VEVENT
BEGIN:VEVENT
DTSTART;VALUE=DATE:20201216
DTEND;VALUE=DATE:20201217
DTSTAMP:20260423T182814
CREATED:20191025T225521Z
LAST-MODIFIED:20200403T025746Z
UID:10002500-1608076800-1608163199@www.leuragolfclub.com.au
SUMMARY:Medley - Singles Stroke
DESCRIPTION:
URL:https://www.leuragolfclub.com.au/event/single-stableford-2bbb-2020-04-01-2020-04-15/2020-12-16/
CATEGORIES:Wednesday Medley Comp
END:VEVENT
BEGIN:VEVENT
DTSTART;VALUE=DATE:20201215
DTEND;VALUE=DATE:20201216
DTSTAMP:20260423T182814
CREATED:20200628T011222Z
LAST-MODIFIED:20200628T011311Z
UID:10002740-1607990400-1608076799@www.leuragolfclub.com.au
SUMMARY:Tuesday Medley Comp
DESCRIPTION:
URL:https://www.leuragolfclub.com.au/event/tuesday-medley-comp/2020-12-15/
END:VEVENT
BEGIN:VEVENT
DTSTART;VALUE=DATE:20201213
DTEND;VALUE=DATE:20201214
DTSTAMP:20260423T182814
CREATED:20191026T024302Z
LAST-MODIFIED:20201118T004530Z
UID:10002917-1607817600-1607903999@www.leuragolfclub.com.au
SUMMARY:Portland Open
DESCRIPTION:
URL:https://www.leuragolfclub.com.au/event/portland-open-3/
CATEGORIES:Other
END:VEVENT
BEGIN:VEVENT
DTSTART;VALUE=DATE:20201212
DTEND;VALUE=DATE:20201213
DTSTAMP:20260423T182814
CREATED:20191026T022436Z
LAST-MODIFIED:20201126T033724Z
UID:10002903-1607731200-1607817599@www.leuragolfclub.com.au
SUMMARY:Presidents v Captains  Stableford 2BBB
DESCRIPTION:A singles competition\, not in Groups A and B\, will be played in conjunction.
URL:https://www.leuragolfclub.com.au/event/presidents-v-captains-stableford-2b-ambrose-2/
CATEGORIES:LGC Major Events
END:VEVENT
BEGIN:VEVENT
DTSTART;VALUE=DATE:20201209
DTEND;VALUE=DATE:20201210
DTSTAMP:20260423T182814
CREATED:20191025T225822Z
LAST-MODIFIED:20200528T005012Z
UID:10002846-1607472000-1607558399@www.leuragolfclub.com.au
SUMMARY:Medley - Par Singles + 2BBB
DESCRIPTION:
URL:https://www.leuragolfclub.com.au/event/single-stableford-2b-aggregate-2020-04-08-2020-06-10/2020-12-09/
CATEGORIES:Wednesday Medley Comp
END:VEVENT
BEGIN:VEVENT
DTSTART;VALUE=DATE:20201208
DTEND;VALUE=DATE:20201209
DTSTAMP:20260423T182814
CREATED:20200628T011222Z
LAST-MODIFIED:20200628T011311Z
UID:10002739-1607385600-1607471999@www.leuragolfclub.com.au
SUMMARY:Tuesday Medley Comp
DESCRIPTION:
URL:https://www.leuragolfclub.com.au/event/tuesday-medley-comp/2020-12-08/
END:VEVENT
BEGIN:VEVENT
DTSTART;TZID=Australia/Melbourne:20201206T100000
DTEND;TZID=Australia/Melbourne:20201206T110000
DTSTAMP:20260423T182814
CREATED:20200925T053915Z
LAST-MODIFIED:20201118T000437Z
UID:10002963-1607248800-1607252400@www.leuragolfclub.com.au
SUMMARY:2020 Annual General Meeting
DESCRIPTION:
URL:https://www.leuragolfclub.com.au/event/2020-annual-general-meeting/
CATEGORIES:LGC Function
END:VEVENT
BEGIN:VEVENT
DTSTART;VALUE=DATE:20201206
DTEND;VALUE=DATE:20201207
DTSTAMP:20260423T182814
CREATED:20191026T024221Z
LAST-MODIFIED:20201118T004548Z
UID:10002915-1607212800-1607299199@www.leuragolfclub.com.au
SUMMARY:Lithgow Open
DESCRIPTION:
URL:https://www.leuragolfclub.com.au/event/lithgow-open-3/
CATEGORIES:Other
END:VEVENT
END:VCALENDAR