BEGIN:VCALENDAR
VERSION:2.0
PRODID:-//Leura Golf Club - ECPv6.13.2.1//NONSGML v1.0//EN
CALSCALE:GREGORIAN
METHOD:PUBLISH
X-WR-CALNAME:Leura Golf Club
X-ORIGINAL-URL:https://www.leuragolfclub.com.au
X-WR-CALDESC:Events for Leura Golf Club
REFRESH-INTERVAL;VALUE=DURATION:PT1H
X-Robots-Tag:noindex
X-PUBLISHED-TTL:PT1H
BEGIN:VTIMEZONE
TZID:Australia/Melbourne
BEGIN:STANDARD
TZOFFSETFROM:+1100
TZOFFSETTO:+1000
TZNAME:AEST
DTSTART:20230401T160000
END:STANDARD
BEGIN:DAYLIGHT
TZOFFSETFROM:+1000
TZOFFSETTO:+1100
TZNAME:AEDT
DTSTART:20230930T160000
END:DAYLIGHT
END:VTIMEZONE
BEGIN:VEVENT
DTSTART;VALUE=DATE:20230912
DTEND;VALUE=DATE:20230913
DTSTAMP:20260422T070502
CREATED:20230204T232009Z
LAST-MODIFIED:20230301T183820Z
UID:10003573-1694476800-1694563199@www.leuragolfclub.com.au
SUMMARY:9 Hole Comp
DESCRIPTION:Women’s 9 hole comp in the morning and social play at other times.
URL:https://www.leuragolfclub.com.au/event/9-hole-comp/2023-09-12/
CATEGORIES:Tuesday Comp
END:VEVENT
BEGIN:VEVENT
DTSTART;VALUE=DATE:20230909
DTEND;VALUE=DATE:20230910
DTSTAMP:20260422T070502
CREATED:20220123T011417Z
LAST-MODIFIED:20221226T022321Z
UID:10003357-1694217600-1694303999@www.leuragolfclub.com.au
SUMMARY:Medley Stableford Singles + 2BBB
DESCRIPTION:
URL:https://www.leuragolfclub.com.au/event/medley-stableford-singles-2bbb-20-2023-01-14/2023-09-09/
CATEGORIES:Saturday Medley Comp
END:VEVENT
BEGIN:VEVENT
DTSTART;VALUE=DATE:20230908
DTEND;VALUE=DATE:20230909
DTSTAMP:20260422T070502
CREATED:20230420T062851Z
LAST-MODIFIED:20231227T034009Z
UID:10003199-1694131200-1694217599@www.leuragolfclub.com.au
SUMMARY:Friday Nine Medley
DESCRIPTION:Social Members and beginners are welcome and will be allocated a handicap of 36 for men and 45 for women. This provides an opportunity for non-golfers to learn and experience our beloved game and hopefully get hooked on it like the rest of we golf tragics. \nWe encourage players to stay on for a drink\, presentation of prizes and dinner in the Bistro after your game. \nConditions of Play\n\nTee off from 10:00am\, playing from white markers for men and red markers for women.\nFee is $10 per player.\nCompetition will be played over 9 holes alternating week about.\n\nFront 9 – 1st to 9th\nBack 9 – 1st then 11th to 18th.\n\n\nCompetition will be conducted using the Stroke scoring system.\nA mercy rule will apply – once a player has had three shots over par on any hole\, pick up your ball and record the score for that hole as three over. Move on to the next hole.\nHandicaps for both 9’s will be half your current daily GA handicap.\nOfficial rules of golf apply.\nAll prizes are added to members’ cards\, visitors will be given vouchers.
URL:https://www.leuragolfclub.com.au/event/friday-nine/2023-09-08/
CATEGORIES:Twilight 9 Comp
END:VEVENT
BEGIN:VEVENT
DTSTART;VALUE=DATE:20230907
DTEND;VALUE=DATE:20230908
DTSTAMP:20260422T070502
CREATED:20230104T224506Z
LAST-MODIFIED:20230104T224700Z
UID:10003523-1694044800-1694131199@www.leuragolfclub.com.au
SUMMARY:Trivia @ 7pm
DESCRIPTION:
URL:https://www.leuragolfclub.com.au/event/trivia-7pm/2023-09-07/
CATEGORIES:LGC Function
END:VEVENT
BEGIN:VEVENT
DTSTART;VALUE=DATE:20230906
DTEND;VALUE=DATE:20230907
DTSTAMP:20260422T070502
CREATED:20211115T234200Z
LAST-MODIFIED:20221212T041308Z
UID:10003258-1693958400-1694044799@www.leuragolfclub.com.au
SUMMARY:Medley Stableford Singles + 2BBB
DESCRIPTION:
URL:https://www.leuragolfclub.com.au/event/medley-stableford-singles-2bbb-19/2023-09-06/
CATEGORIES:Wednesday Medley Comp
END:VEVENT
BEGIN:VEVENT
DTSTART;VALUE=DATE:20230905
DTEND;VALUE=DATE:20230906
DTSTAMP:20260422T070502
CREATED:20230204T232009Z
LAST-MODIFIED:20230301T183820Z
UID:10003572-1693872000-1693958399@www.leuragolfclub.com.au
SUMMARY:9 Hole Comp
DESCRIPTION:Women’s 9 hole comp in the morning and social play at other times.
URL:https://www.leuragolfclub.com.au/event/9-hole-comp/2023-09-05/
CATEGORIES:Tuesday Comp
END:VEVENT
BEGIN:VEVENT
DTSTART;VALUE=DATE:20230902
DTEND;VALUE=DATE:20230903
DTSTAMP:20260422T070502
CREATED:20221226T021250Z
LAST-MODIFIED:20221226T021250Z
UID:10003056-1693612800-1693699199@www.leuragolfclub.com.au
SUMMARY:Medley Stableford Singles (white tees)
DESCRIPTION:
URL:https://www.leuragolfclub.com.au/event/medley-stableford-singles-white-tees-6/2023-09-02/
CATEGORIES:Saturday Medley Comp
END:VEVENT
BEGIN:VEVENT
DTSTART;VALUE=DATE:20230902
DTEND;VALUE=DATE:20230903
DTSTAMP:20260422T070502
CREATED:20221226T021041Z
LAST-MODIFIED:20231221T222624Z
UID:10003031-1693612800-1693699199@www.leuragolfclub.com.au
SUMMARY:Men’s Monthly Medal + Medley Stroke
DESCRIPTION:Visitors welcome. Visitors can win the competition but not the Medal.
URL:https://www.leuragolfclub.com.au/event/mens-monthly-medal-medley-stroke-8-2023-02-04/2023-09-02/
CATEGORIES:Saturday Medley Comp
END:VEVENT
BEGIN:VEVENT
DTSTART;VALUE=DATE:20230901
DTEND;VALUE=DATE:20230902
DTSTAMP:20260422T070502
CREATED:20230420T062851Z
LAST-MODIFIED:20231227T034009Z
UID:10003198-1693526400-1693612799@www.leuragolfclub.com.au
SUMMARY:Friday Nine Medley
DESCRIPTION:Social Members and beginners are welcome and will be allocated a handicap of 36 for men and 45 for women. This provides an opportunity for non-golfers to learn and experience our beloved game and hopefully get hooked on it like the rest of we golf tragics. \nWe encourage players to stay on for a drink\, presentation of prizes and dinner in the Bistro after your game. \nConditions of Play\n\nTee off from 10:00am\, playing from white markers for men and red markers for women.\nFee is $10 per player.\nCompetition will be played over 9 holes alternating week about.\n\nFront 9 – 1st to 9th\nBack 9 – 1st then 11th to 18th.\n\n\nCompetition will be conducted using the Stroke scoring system.\nA mercy rule will apply – once a player has had three shots over par on any hole\, pick up your ball and record the score for that hole as three over. Move on to the next hole.\nHandicaps for both 9’s will be half your current daily GA handicap.\nOfficial rules of golf apply.\nAll prizes are added to members’ cards\, visitors will be given vouchers.
URL:https://www.leuragolfclub.com.au/event/friday-nine/2023-09-01/
CATEGORIES:Twilight 9 Comp
END:VEVENT
BEGIN:VEVENT
DTSTART;VALUE=DATE:20230831
DTEND;VALUE=DATE:20230901
DTSTAMP:20260422T070502
CREATED:20230104T224506Z
LAST-MODIFIED:20230104T224700Z
UID:10003522-1693440000-1693526399@www.leuragolfclub.com.au
SUMMARY:Trivia @ 7pm
DESCRIPTION:
URL:https://www.leuragolfclub.com.au/event/trivia-7pm/2023-08-31/
CATEGORIES:LGC Function
END:VEVENT
BEGIN:VEVENT
DTSTART;VALUE=DATE:20230830
DTEND;VALUE=DATE:20230831
DTSTAMP:20260422T070502
CREATED:20221212T042045Z
LAST-MODIFIED:20221212T042329Z
UID:10003015-1693353600-1693439999@www.leuragolfclub.com.au
SUMMARY:Medley 2 Person Ambrose
DESCRIPTION:
URL:https://www.leuragolfclub.com.au/event/medley-2-person-ambrose-2/2023-08-30/
CATEGORIES:Wednesday Medley Comp
END:VEVENT
BEGIN:VEVENT
DTSTART;VALUE=DATE:20230829
DTEND;VALUE=DATE:20230830
DTSTAMP:20260422T070502
CREATED:20230204T232009Z
LAST-MODIFIED:20230301T183820Z
UID:10003571-1693267200-1693353599@www.leuragolfclub.com.au
SUMMARY:9 Hole Comp
DESCRIPTION:Women’s 9 hole comp in the morning and social play at other times.
URL:https://www.leuragolfclub.com.au/event/9-hole-comp/2023-08-29/
CATEGORIES:Tuesday Comp
END:VEVENT
BEGIN:VEVENT
DTSTART;VALUE=DATE:20230826
DTEND;VALUE=DATE:20230827
DTSTAMP:20260422T070502
CREATED:20221226T022134Z
LAST-MODIFIED:20231221T215535Z
UID:10003069-1693008000-1693094399@www.leuragolfclub.com.au
SUMMARY:Medley Par Singles + 2BBB
DESCRIPTION:
URL:https://www.leuragolfclub.com.au/event/medley-par-singles-2bbb-6/2023-08-26/
CATEGORIES:Saturday Medley Comp
END:VEVENT
BEGIN:VEVENT
DTSTART;VALUE=DATE:20230825
DTEND;VALUE=DATE:20230826
DTSTAMP:20260422T070502
CREATED:20230420T062851Z
LAST-MODIFIED:20231227T034009Z
UID:10003197-1692921600-1693007999@www.leuragolfclub.com.au
SUMMARY:Friday Nine Medley
DESCRIPTION:Social Members and beginners are welcome and will be allocated a handicap of 36 for men and 45 for women. This provides an opportunity for non-golfers to learn and experience our beloved game and hopefully get hooked on it like the rest of we golf tragics. \nWe encourage players to stay on for a drink\, presentation of prizes and dinner in the Bistro after your game. \nConditions of Play\n\nTee off from 10:00am\, playing from white markers for men and red markers for women.\nFee is $10 per player.\nCompetition will be played over 9 holes alternating week about.\n\nFront 9 – 1st to 9th\nBack 9 – 1st then 11th to 18th.\n\n\nCompetition will be conducted using the Stroke scoring system.\nA mercy rule will apply – once a player has had three shots over par on any hole\, pick up your ball and record the score for that hole as three over. Move on to the next hole.\nHandicaps for both 9’s will be half your current daily GA handicap.\nOfficial rules of golf apply.\nAll prizes are added to members’ cards\, visitors will be given vouchers.
URL:https://www.leuragolfclub.com.au/event/friday-nine/2023-08-25/
CATEGORIES:Twilight 9 Comp
END:VEVENT
BEGIN:VEVENT
DTSTART;VALUE=DATE:20230824
DTEND;VALUE=DATE:20230825
DTSTAMP:20260422T070502
CREATED:20230104T224506Z
LAST-MODIFIED:20230104T224700Z
UID:10003521-1692835200-1692921599@www.leuragolfclub.com.au
SUMMARY:Trivia @ 7pm
DESCRIPTION:
URL:https://www.leuragolfclub.com.au/event/trivia-7pm/2023-08-24/
CATEGORIES:LGC Function
END:VEVENT
BEGIN:VEVENT
DTSTART;VALUE=DATE:20230823
DTEND;VALUE=DATE:20230824
DTSTAMP:20260422T070502
CREATED:20221212T041815Z
LAST-MODIFIED:20221212T041815Z
UID:10003456-1692748800-1692835199@www.leuragolfclub.com.au
SUMMARY:Medley Stableford Singles + 2BBB
DESCRIPTION:
URL:https://www.leuragolfclub.com.au/event/medley-stableford-singles-2bbb-15/2023-08-23/
CATEGORIES:Wednesday Medley Comp
END:VEVENT
BEGIN:VEVENT
DTSTART;VALUE=DATE:20230822
DTEND;VALUE=DATE:20230823
DTSTAMP:20260422T070502
CREATED:20230204T232009Z
LAST-MODIFIED:20230301T183820Z
UID:10003570-1692662400-1692748799@www.leuragolfclub.com.au
SUMMARY:9 Hole Comp
DESCRIPTION:Women’s 9 hole comp in the morning and social play at other times.
URL:https://www.leuragolfclub.com.au/event/9-hole-comp/2023-08-22/
CATEGORIES:Tuesday Comp
END:VEVENT
BEGIN:VEVENT
DTSTART;VALUE=DATE:20230819
DTEND;VALUE=DATE:20230820
DTSTAMP:20260422T070502
CREATED:20230301T225256Z
LAST-MODIFIED:20230802T235329Z
UID:10003600-1692403200-1692489599@www.leuragolfclub.com.au
SUMMARY:Club Championships Rd 3
DESCRIPTION:2023 MEN’S CLUB CHAMPIONSHIPS – CONDITIONS OF PLAY\n\nENTRANCE FEE $60\, PAYABLE PRIOR TO ROUND 1\n\n The competition will be played according to the ‘Rules of Golf’ including applicable Local Rules. Competitors must be members of Leura Golf Club and hold a Golf Australia handicap. In addition\, members’ attention is drawn to By-Law 7 (see below) regarding eligibility.\nThe competition will consist of three rounds of 18 holes of stroke play from the blue tees on Saturdays\, 5\, 12\, 19 August with the spare Saturday being 2 September. 30cm preferred lies fairways only will be played throughout the Championships. Earliest tee time shall be 7.00 am\, the latest 12.30 pm.\nFor Round 3\, seeded pairing in the championships will play in groups of four commencing at 8.30 am\, first the C graders\, then B graders\, then A graders. Groups will be decided and notified by the Match Committee.\nAll three rounds will be played off Daily Handicaps applicable at the commencement of Round 1.\nThe competition will be played in three grades\, namely:\n\nA grade – Daily handicap of 12 or less\nB grade – Daily handicap higher than 12 to less than 20\nC grade – Daily handicap of 20 to 36\n\n\nThe championship winner in each grade will be the competitor who returns the best aggregate scratch score over the three rounds. There will also be a net winner in each grade. In conjunction there will be a Seniors’ championship (aged 60 or over at commencement of competition) which will be a scratch event only. There will be prizes for the Runners-up.\nIn the event of a tie winners will be decided:\n\nIn the case of the best aggregate scratch score for A\, B and C grades championships\, by a sudden death play off. The tied participants shall play one extra hole at a time with those still tied for the lowest score moving on to the next hole until a winner has been determined. The play off holes shall be holes 1\, 11\,12 and 18\, repeated as necessary.\nIn all other cases\, including the Seniors’ championship\, by count back.\n\n\nAll disputes must be in writing and will be decided by the Match Committee. Decisions will be final.\nIf in the opinion of the Match committee\, in conjunction with the Greenkeeper\, the course should be closed due to inclement weather\, the next Monthly Medal will be the Final Round. If more than one round cannot be played the championships shall be reduced to two rounds. If necessary\, rounds to make up the two rounds shall be scheduled by the Match Committee.\nOn the three original Saturdays and\, if used\, the spare Saturday there will be a daily medley Stableford competition off the white tees. Current on-the-day handicaps will apply.\n\nMATCH COMMITTEE – LEURA GOLF CLUB \nBy-Law 7 – CLUB CHAMPIONSHIP ELIGIBILITY:\nTo be eligible to play in any Club Championship event\, a Member shall have completed at least two (2) monthly medal rounds or at least five (5) competition rounds at Leura Golf Club in the twelve months immediately preceding the Club Championships. \nMEN’S CLUB CHAMPIONSHIPS 2023 – LOCAL RULES\nREFERENCE – RULES OF GOLF – 2019\n LOCAL RULES \nThe LGC Local Rules apply to the Club Championships except as noted\, expanded and/or clarified below. \nIMMOVABLE OBSTRUCTIONS – Rule 16 \nIncludes the artificial surfaces and sides of roads and paths including gravel paths. Also included is the bridge on the 4th but ‘line of play’ relief is NOT available under the Rules of Golf. \nIMMOVABLE OBSTRUCTIONS CLOSE TO PUTTING GREEN – SPRINKLER HEADS \nRelief may be taken under Rule 16.1b if a sprinkler head or other immovable obstruction is on the line of play and is within two club lengths of the putting green\, and within two club lengths of the ball provided that there will be no relief if the line of play is clearly unreasonable. \n12TH HOLE (C Graders) \nThe C graders’ 12th hole local rule shall not apply for the days upon which the championships are being played. (That is the local rule shall not be applicable for C graders playing in the championships) \nDROP ZONES \n6th hole – There is a clearly defined drop zone alongside\, and for play to\, the 6th green (left hand side) for relief from the nearby designated hedge area. \n12th hole – behind the red markers for balls in\, or virtually known to be in\, the penalty area in front of the teeing area. \n16th hole – adjacent to the Pump Shed for relief for balls having entered the penalty area at a point of entry that would allow relief only in an out of bounds area. \nSLOW PLAY – Rule 5.6a\nSlow play penalties will be imposed. \nGeneral penalty for breach of Local Rules – 2 strokes. \nMATCH COMMITTEE.
URL:https://www.leuragolfclub.com.au/event/club-championships-rd-3-2/
CATEGORIES:LGC Major Events
END:VEVENT
BEGIN:VEVENT
DTSTART;VALUE=DATE:20230819
DTEND;VALUE=DATE:20230820
DTSTAMP:20260422T070502
CREATED:20221226T023111Z
LAST-MODIFIED:20230301T225542Z
UID:10003461-1692403200-1692489599@www.leuragolfclub.com.au
SUMMARY:Medley Stableford Singles (white tees)
DESCRIPTION:
URL:https://www.leuragolfclub.com.au/event/medley-stableford-singles-2b-aggregate-6-2023-08-19/
CATEGORIES:Saturday Medley Comp
END:VEVENT
BEGIN:VEVENT
DTSTART;VALUE=DATE:20230819
DTEND;VALUE=DATE:20230820
DTSTAMP:20260422T070502
CREATED:20180626T023936Z
LAST-MODIFIED:20180626T023936Z
UID:10002657-1692403200-1692489599@www.leuragolfclub.com.au
SUMMARY:Stableford + 2B Aggregate
DESCRIPTION:Medley competition – visitors welcome. \nComp closes at 4pm so please ensure that your tee time will allow you to finish in time.
URL:https://www.leuragolfclub.com.au/event/stableford-2b-aggregate/2023-08-19/
CATEGORIES:Saturday Medley Comp
END:VEVENT
BEGIN:VEVENT
DTSTART;VALUE=DATE:20230818
DTEND;VALUE=DATE:20230819
DTSTAMP:20260422T070502
CREATED:20230420T062851Z
LAST-MODIFIED:20231227T034009Z
UID:10003196-1692316800-1692403199@www.leuragolfclub.com.au
SUMMARY:Friday Nine Medley
DESCRIPTION:Social Members and beginners are welcome and will be allocated a handicap of 36 for men and 45 for women. This provides an opportunity for non-golfers to learn and experience our beloved game and hopefully get hooked on it like the rest of we golf tragics. \nWe encourage players to stay on for a drink\, presentation of prizes and dinner in the Bistro after your game. \nConditions of Play\n\nTee off from 10:00am\, playing from white markers for men and red markers for women.\nFee is $10 per player.\nCompetition will be played over 9 holes alternating week about.\n\nFront 9 – 1st to 9th\nBack 9 – 1st then 11th to 18th.\n\n\nCompetition will be conducted using the Stroke scoring system.\nA mercy rule will apply – once a player has had three shots over par on any hole\, pick up your ball and record the score for that hole as three over. Move on to the next hole.\nHandicaps for both 9’s will be half your current daily GA handicap.\nOfficial rules of golf apply.\nAll prizes are added to members’ cards\, visitors will be given vouchers.
URL:https://www.leuragolfclub.com.au/event/friday-nine/2023-08-18/
CATEGORIES:Twilight 9 Comp
END:VEVENT
BEGIN:VEVENT
DTSTART;VALUE=DATE:20230817
DTEND;VALUE=DATE:20230818
DTSTAMP:20260422T070502
CREATED:20230104T224506Z
LAST-MODIFIED:20230104T224700Z
UID:10003520-1692230400-1692316799@www.leuragolfclub.com.au
SUMMARY:Trivia @ 7pm
DESCRIPTION:
URL:https://www.leuragolfclub.com.au/event/trivia-7pm/2023-08-17/
CATEGORIES:LGC Function
END:VEVENT
BEGIN:VEVENT
DTSTART;VALUE=DATE:20230816
DTEND;VALUE=DATE:20230817
DTSTAMP:20260422T070502
CREATED:20220123T002851Z
LAST-MODIFIED:20221230T022033Z
UID:10003298-1692144000-1692230399@www.leuragolfclub.com.au
SUMMARY:Medley Stableford Singles + 2B Multiplier
DESCRIPTION:
URL:https://www.leuragolfclub.com.au/event/medley-stableford-singles-2b-multiplier-4/2023-08-16/
CATEGORIES:Wednesday Medley Comp
END:VEVENT
BEGIN:VEVENT
DTSTART;VALUE=DATE:20230815
DTEND;VALUE=DATE:20230816
DTSTAMP:20260422T070502
CREATED:20230204T232009Z
LAST-MODIFIED:20230301T183820Z
UID:10003569-1692057600-1692143999@www.leuragolfclub.com.au
SUMMARY:9 Hole Comp
DESCRIPTION:Women’s 9 hole comp in the morning and social play at other times.
URL:https://www.leuragolfclub.com.au/event/9-hole-comp/2023-08-15/
CATEGORIES:Tuesday Comp
END:VEVENT
BEGIN:VEVENT
DTSTART;VALUE=DATE:20230812
DTEND;VALUE=DATE:20230813
DTSTAMP:20260422T070502
CREATED:20230301T225128Z
LAST-MODIFIED:20230802T235144Z
UID:10003599-1691798400-1691884799@www.leuragolfclub.com.au
SUMMARY:Club Championships Rd 2
DESCRIPTION:2023 MEN’S CLUB CHAMPIONSHIPS – CONDITIONS OF PLAY\n\nENTRANCE FEE $60\, PAYABLE PRIOR TO ROUND 1\n\n The competition will be played according to the ‘Rules of Golf’ including applicable Local Rules. Competitors must be members of Leura Golf Club and hold a Golf Australia handicap. In addition\, members’ attention is drawn to By-Law 7 (see below) regarding eligibility.\nThe competition will consist of three rounds of 18 holes of stroke play from the blue tees on Saturdays\, 5\, 12\, 19 August with the spare Saturday being 2 September. 30cm preferred lies fairways only will be played throughout the Championships. Earliest tee time shall be 7.00 am\, the latest 12.30 pm.\nFor Round 3\, seeded pairing in the championships will play in groups of four commencing at 8.30 am\, first the C graders\, then B graders\, then A graders. Groups will be decided and notified by the Match Committee.\nAll three rounds will be played off Daily Handicaps applicable at the commencement of Round 1.\nThe competition will be played in three grades\, namely:\n\nA grade – Daily handicap of 12 or less\nB grade – Daily handicap higher than 12 to less than 20\nC grade – Daily handicap of 20 to 36\n\n\nThe championship winner in each grade will be the competitor who returns the best aggregate scratch score over the three rounds. There will also be a net winner in each grade. In conjunction there will be a Seniors’ championship (aged 60 or over at commencement of competition) which will be a scratch event only. There will be prizes for the Runners-up.\nIn the event of a tie winners will be decided:\n\nIn the case of the best aggregate scratch score for A\, B and C grades championships\, by a sudden death play off. The tied participants shall play one extra hole at a time with those still tied for the lowest score moving on to the next hole until a winner has been determined. The play off holes shall be holes 1\, 11\,12 and 18\, repeated as necessary.\nIn all other cases\, including the Seniors’ championship\, by count back.\n\n\nAll disputes must be in writing and will be decided by the Match Committee. Decisions will be final.\nIf in the opinion of the Match committee\, in conjunction with the Greenkeeper\, the course should be closed due to inclement weather\, the next Monthly Medal will be the Final Round. If more than one round cannot be played the championships shall be reduced to two rounds. If necessary\, rounds to make up the two rounds shall be scheduled by the Match Committee.\nOn the three original Saturdays and\, if used\, the spare Saturday there will be a daily medley Stableford competition off the white tees. Current on-the-day handicaps will apply.\n\nMATCH COMMITTEE – LEURA GOLF CLUB \nBy-Law 7 – CLUB CHAMPIONSHIP ELIGIBILITY:\nTo be eligible to play in any Club Championship event\, a Member shall have completed at least two (2) monthly medal rounds or at least five (5) competition rounds at Leura Golf Club in the twelve months immediately preceding the Club Championships. \nMEN’S CLUB CHAMPIONSHIPS 2023 – LOCAL RULES\nREFERENCE – RULES OF GOLF – 2019\n LOCAL RULES \nThe LGC Local Rules apply to the Club Championships except as noted\, expanded and/or clarified below. \nIMMOVABLE OBSTRUCTIONS – Rule 16 \nIncludes the artificial surfaces and sides of roads and paths including gravel paths. Also included is the bridge on the 4th but ‘line of play’ relief is NOT available under the Rules of Golf. \nIMMOVABLE OBSTRUCTIONS CLOSE TO PUTTING GREEN – SPRINKLER HEADS \nRelief may be taken under Rule 16.1b if a sprinkler head or other immovable obstruction is on the line of play and is within two club lengths of the putting green\, and within two club lengths of the ball provided that there will be no relief if the line of play is clearly unreasonable. \n12TH HOLE (C Graders) \nThe C graders’ 12th hole local rule shall not apply for the days upon which the championships are being played. (That is the local rule shall not be applicable for C graders playing in the championships) \nDROP ZONES \n6th hole – There is a clearly defined drop zone alongside\, and for play to\, the 6th green (left hand side) for relief from the nearby designated hedge area. \n12th hole – behind the red markers for balls in\, or virtually known to be in\, the penalty area in front of the teeing area. \n16th hole – adjacent to the Pump Shed for relief for balls having entered the penalty area at a point of entry that would allow relief only in an out of bounds area. \nSLOW PLAY – Rule 5.6a\nSlow play penalties will be imposed. \nGeneral penalty for breach of Local Rules – 2 strokes. \nMATCH COMMITTEE.
URL:https://www.leuragolfclub.com.au/event/club-championships-rd-2-2/
CATEGORIES:LGC Major Events
END:VEVENT
BEGIN:VEVENT
DTSTART;VALUE=DATE:20230812
DTEND;VALUE=DATE:20230813
DTSTAMP:20260422T070502
CREATED:20220123T011417Z
LAST-MODIFIED:20230301T225427Z
UID:10003359-1691798400-1691884799@www.leuragolfclub.com.au
SUMMARY:Medley Stableford Singles (white tees)
DESCRIPTION:
URL:https://www.leuragolfclub.com.au/event/medley-stableford-singles-2bbb-20-2023-01-14-2023-08-12/
CATEGORIES:Saturday Medley Comp
END:VEVENT
BEGIN:VEVENT
DTSTART;VALUE=DATE:20230811
DTEND;VALUE=DATE:20230812
DTSTAMP:20260422T070502
CREATED:20230420T062851Z
LAST-MODIFIED:20231227T034009Z
UID:10003195-1691712000-1691798399@www.leuragolfclub.com.au
SUMMARY:Friday Nine Medley
DESCRIPTION:Social Members and beginners are welcome and will be allocated a handicap of 36 for men and 45 for women. This provides an opportunity for non-golfers to learn and experience our beloved game and hopefully get hooked on it like the rest of we golf tragics. \nWe encourage players to stay on for a drink\, presentation of prizes and dinner in the Bistro after your game. \nConditions of Play\n\nTee off from 10:00am\, playing from white markers for men and red markers for women.\nFee is $10 per player.\nCompetition will be played over 9 holes alternating week about.\n\nFront 9 – 1st to 9th\nBack 9 – 1st then 11th to 18th.\n\n\nCompetition will be conducted using the Stroke scoring system.\nA mercy rule will apply – once a player has had three shots over par on any hole\, pick up your ball and record the score for that hole as three over. Move on to the next hole.\nHandicaps for both 9’s will be half your current daily GA handicap.\nOfficial rules of golf apply.\nAll prizes are added to members’ cards\, visitors will be given vouchers.
URL:https://www.leuragolfclub.com.au/event/friday-nine/2023-08-11/
CATEGORIES:Twilight 9 Comp
END:VEVENT
BEGIN:VEVENT
DTSTART;VALUE=DATE:20230810
DTEND;VALUE=DATE:20230811
DTSTAMP:20260422T070502
CREATED:20230104T224506Z
LAST-MODIFIED:20230104T224700Z
UID:10003519-1691625600-1691711999@www.leuragolfclub.com.au
SUMMARY:Trivia @ 7pm
DESCRIPTION:
URL:https://www.leuragolfclub.com.au/event/trivia-7pm/2023-08-10/
CATEGORIES:LGC Function
END:VEVENT
BEGIN:VEVENT
DTSTART;VALUE=DATE:20230809
DTEND;VALUE=DATE:20230810
DTSTAMP:20260422T070502
CREATED:20230304T012847Z
LAST-MODIFIED:20230304T013005Z
UID:10003613-1691539200-1691625599@www.leuragolfclub.com.au
SUMMARY:Medley Stableford Singles + 2BBB
DESCRIPTION:
URL:https://www.leuragolfclub.com.au/event/medley-stableford-singles-2bbb-23/2023-08-09/
CATEGORIES:Wednesday Medley Comp
END:VEVENT
BEGIN:VEVENT
DTSTART;VALUE=DATE:20230808
DTEND;VALUE=DATE:20230809
DTSTAMP:20260422T070502
CREATED:20230204T232009Z
LAST-MODIFIED:20230301T183820Z
UID:10003568-1691452800-1691539199@www.leuragolfclub.com.au
SUMMARY:9 Hole Comp
DESCRIPTION:Women’s 9 hole comp in the morning and social play at other times.
URL:https://www.leuragolfclub.com.au/event/9-hole-comp/2023-08-08/
CATEGORIES:Tuesday Comp
END:VEVENT
END:VCALENDAR