BEGIN:VCALENDAR
VERSION:2.0
PRODID:-//Leura Golf Club - ECPv6.13.2.1//NONSGML v1.0//EN
CALSCALE:GREGORIAN
METHOD:PUBLISH
X-WR-CALNAME:Leura Golf Club
X-ORIGINAL-URL:https://www.leuragolfclub.com.au
X-WR-CALDESC:Events for Leura Golf Club
REFRESH-INTERVAL;VALUE=DURATION:PT1H
X-Robots-Tag:noindex
X-PUBLISHED-TTL:PT1H
BEGIN:VTIMEZONE
TZID:Australia/Sydney
BEGIN:STANDARD
TZOFFSETFROM:+1100
TZOFFSETTO:+1000
TZNAME:AEST
DTSTART:20250405T160000
END:STANDARD
BEGIN:DAYLIGHT
TZOFFSETFROM:+1000
TZOFFSETTO:+1100
TZNAME:AEDT
DTSTART:20251004T160000
END:DAYLIGHT
END:VTIMEZONE
BEGIN:VEVENT
DTSTART;VALUE=DATE:20251206
DTEND;VALUE=DATE:20251207
DTSTAMP:20260420T115951
CREATED:20241115T043007Z
LAST-MODIFIED:20250809T042717Z
UID:10004502-1764979200-1765065599@www.leuragolfclub.com.au
SUMMARY:Stableford Singles - white tees
DESCRIPTION:
URL:https://www.leuragolfclub.com.au/event/stableford-singles-white-tees-10/
CATEGORIES:Saturday Medley Comp
END:VEVENT
BEGIN:VEVENT
DTSTART;VALUE=DATE:20251206
DTEND;VALUE=DATE:20251207
DTSTAMP:20260420T115951
CREATED:20241112T044402Z
LAST-MODIFIED:20250809T042636Z
UID:10004353-1764979200-1765065599@www.leuragolfclub.com.au
SUMMARY:Men's Medal of Medals
DESCRIPTION:
URL:https://www.leuragolfclub.com.au/event/mens-medal-of-medals-2/
CATEGORIES:LGC Major Events
END:VEVENT
BEGIN:VEVENT
DTSTART;VALUE=DATE:20251206
DTEND;VALUE=DATE:20251207
DTSTAMP:20260420T115951
CREATED:20241112T044012Z
LAST-MODIFIED:20250108T003816Z
UID:10004589-1764979200-1765065599@www.leuragolfclub.com.au
SUMMARY:Men's Monthly Medal + Medley Stroke
DESCRIPTION:
URL:https://www.leuragolfclub.com.au/event/mens-monthly-medal-medley-stroke-10/2025-12-06/
CATEGORIES:Saturday Medley Comp
END:VEVENT
BEGIN:VEVENT
DTSTART;VALUE=DATE:20251204
DTEND;VALUE=DATE:20251205
DTSTAMP:20260420T115951
CREATED:20250110T000319Z
LAST-MODIFIED:20250110T000422Z
UID:10004644-1764806400-1764892799@www.leuragolfclub.com.au
SUMMARY:Trivia @ 7pm
DESCRIPTION:When: Every Thursday\, questions begin at 7 pm\nEntry Fee: Only $2 per player\nPrizes: Get ready to win delightful prizes including wine\, club vouchers\, and delicious chocolates.\n\nDon’t miss out on the action! Our bistro opens at 5:30 pm\, perfect for grabbing a bite before the trivia starts. Create your own table with friends and family\, and make it a night to remember. Whether you’re a trivia buff or just looking for a lively evening out\, there’s something for everyone.
URL:https://www.leuragolfclub.com.au/event/trivia-7pm-3/2025-12-04/
CATEGORIES:LGC Function
END:VEVENT
BEGIN:VEVENT
DTSTART;VALUE=DATE:20251203
DTEND;VALUE=DATE:20251204
DTSTAMP:20260420T115951
CREATED:20241114T041757Z
LAST-MODIFIED:20241114T041757Z
UID:10004377-1764720000-1764806399@www.leuragolfclub.com.au
SUMMARY:Stableford Singles + 2BBB
DESCRIPTION:
URL:https://www.leuragolfclub.com.au/event/stableford-singles-2bbb-6/2025-12-03/
CATEGORIES:Wednesday Medley Comp
END:VEVENT
BEGIN:VEVENT
DTSTART;VALUE=DATE:20251129
DTEND;VALUE=DATE:20251130
DTSTAMP:20260420T115951
CREATED:20241115T042119Z
LAST-MODIFIED:20241115T042119Z
UID:10004498-1764374400-1764460799@www.leuragolfclub.com.au
SUMMARY:Stableford Singles + 2BBB
DESCRIPTION:
URL:https://www.leuragolfclub.com.au/event/stableford-singles-2bbb-13/
CATEGORIES:Saturday Medley Comp
END:VEVENT
BEGIN:VEVENT
DTSTART;VALUE=DATE:20251129
DTEND;VALUE=DATE:20251130
DTSTAMP:20260420T115951
CREATED:20250810T100137Z
LAST-MODIFIED:20250810T100202Z
UID:10004795-1764374400-1764460799@www.leuragolfclub.com.au
SUMMARY:How Charity day backup
DESCRIPTION:
URL:https://www.leuragolfclub.com.au/event/how-charity-day-backup/
END:VEVENT
BEGIN:VEVENT
DTSTART;VALUE=DATE:20251127
DTEND;VALUE=DATE:20251128
DTSTAMP:20260420T115951
CREATED:20250110T000319Z
LAST-MODIFIED:20250110T000422Z
UID:10004643-1764201600-1764287999@www.leuragolfclub.com.au
SUMMARY:Trivia @ 7pm
DESCRIPTION:When: Every Thursday\, questions begin at 7 pm\nEntry Fee: Only $2 per player\nPrizes: Get ready to win delightful prizes including wine\, club vouchers\, and delicious chocolates.\n\nDon’t miss out on the action! Our bistro opens at 5:30 pm\, perfect for grabbing a bite before the trivia starts. Create your own table with friends and family\, and make it a night to remember. Whether you’re a trivia buff or just looking for a lively evening out\, there’s something for everyone.
URL:https://www.leuragolfclub.com.au/event/trivia-7pm-3/2025-11-27/
CATEGORIES:LGC Function
END:VEVENT
BEGIN:VEVENT
DTSTART;VALUE=DATE:20251126
DTEND;VALUE=DATE:20251127
DTSTAMP:20260420T115951
CREATED:20241115T031019Z
LAST-MODIFIED:20241115T031339Z
UID:10004471-1764115200-1764201599@www.leuragolfclub.com.au
SUMMARY:Stableford Singles + 2BBB
DESCRIPTION:
URL:https://www.leuragolfclub.com.au/event/stableford-singles-2bbb-11/2025-11-26/
CATEGORIES:Wednesday Medley Comp
END:VEVENT
BEGIN:VEVENT
DTSTART;VALUE=DATE:20251125
DTEND;VALUE=DATE:20251126
DTSTAMP:20260420T115951
CREATED:20241116T011018Z
LAST-MODIFIED:20241116T011401Z
UID:10004556-1764028800-1764115199@www.leuragolfclub.com.au
SUMMARY:Women's 9 Hole Par/Ambrose
DESCRIPTION:
URL:https://www.leuragolfclub.com.au/event/womens-9-hole-par-ambrose/2025-11-25/
CATEGORIES:Tuesday Comp
END:VEVENT
BEGIN:VEVENT
DTSTART;VALUE=DATE:20251122
DTEND;VALUE=DATE:20251123
DTSTAMP:20260420T115951
CREATED:20241115T040701Z
LAST-MODIFIED:20241115T040701Z
UID:10004496-1763769600-1763855999@www.leuragolfclub.com.au
SUMMARY:Leura Open
DESCRIPTION:
URL:https://www.leuragolfclub.com.au/event/leura-open-5/
CATEGORIES:LGC Major Events
END:VEVENT
BEGIN:VEVENT
DTSTART;VALUE=DATE:20251120
DTEND;VALUE=DATE:20251121
DTSTAMP:20260420T115951
CREATED:20250110T000319Z
LAST-MODIFIED:20250110T000422Z
UID:10004642-1763596800-1763683199@www.leuragolfclub.com.au
SUMMARY:Trivia @ 7pm
DESCRIPTION:When: Every Thursday\, questions begin at 7 pm\nEntry Fee: Only $2 per player\nPrizes: Get ready to win delightful prizes including wine\, club vouchers\, and delicious chocolates.\n\nDon’t miss out on the action! Our bistro opens at 5:30 pm\, perfect for grabbing a bite before the trivia starts. Create your own table with friends and family\, and make it a night to remember. Whether you’re a trivia buff or just looking for a lively evening out\, there’s something for everyone.
URL:https://www.leuragolfclub.com.au/event/trivia-7pm-3/2025-11-20/
CATEGORIES:LGC Function
END:VEVENT
BEGIN:VEVENT
DTSTART;VALUE=DATE:20251119
DTEND;VALUE=DATE:20251120
DTSTAMP:20260420T115951
CREATED:20241114T044000Z
LAST-MODIFIED:20241114T044000Z
UID:10004403-1763510400-1763596799@www.leuragolfclub.com.au
SUMMARY:Stableford Singles + 2BBB
DESCRIPTION:
URL:https://www.leuragolfclub.com.au/event/stableford-singles-2bbb-8/2025-11-19/
CATEGORIES:Wednesday Medley Comp
END:VEVENT
BEGIN:VEVENT
DTSTART;VALUE=DATE:20251118
DTEND;VALUE=DATE:20251119
DTSTAMP:20260420T115951
CREATED:20241116T010621Z
LAST-MODIFIED:20241116T010831Z
UID:10004546-1763424000-1763510399@www.leuragolfclub.com.au
SUMMARY:Women's 9 Hole Stableford
DESCRIPTION:
URL:https://www.leuragolfclub.com.au/event/womens-9-hole-stableford-2/2025-11-18/
CATEGORIES:Tuesday Comp
END:VEVENT
BEGIN:VEVENT
DTSTART;VALUE=DATE:20251115
DTEND;VALUE=DATE:20251116
DTSTAMP:20260420T115951
CREATED:20241115T024821Z
LAST-MODIFIED:20241115T025229Z
UID:10004448-1763164800-1763251199@www.leuragolfclub.com.au
SUMMARY:Stableford Singles + 2BBB
DESCRIPTION:
URL:https://www.leuragolfclub.com.au/event/stableford-singles-2bbb-9/2025-11-15/
CATEGORIES:Saturday Medley Comp
END:VEVENT
BEGIN:VEVENT
DTSTART;VALUE=DATE:20251113
DTEND;VALUE=DATE:20251114
DTSTAMP:20260420T115951
CREATED:20250110T000319Z
LAST-MODIFIED:20250110T000422Z
UID:10004641-1762992000-1763078399@www.leuragolfclub.com.au
SUMMARY:Trivia @ 7pm
DESCRIPTION:When: Every Thursday\, questions begin at 7 pm\nEntry Fee: Only $2 per player\nPrizes: Get ready to win delightful prizes including wine\, club vouchers\, and delicious chocolates.\n\nDon’t miss out on the action! Our bistro opens at 5:30 pm\, perfect for grabbing a bite before the trivia starts. Create your own table with friends and family\, and make it a night to remember. Whether you’re a trivia buff or just looking for a lively evening out\, there’s something for everyone.
URL:https://www.leuragolfclub.com.au/event/trivia-7pm-3/2025-11-13/
CATEGORIES:LGC Function
END:VEVENT
BEGIN:VEVENT
DTSTART;VALUE=DATE:20251112
DTEND;VALUE=DATE:20251113
DTSTAMP:20260420T115951
CREATED:20241114T042434Z
LAST-MODIFIED:20241114T042434Z
UID:10004388-1762905600-1762991999@www.leuragolfclub.com.au
SUMMARY:Stableford Singles + 2BBB
DESCRIPTION:
URL:https://www.leuragolfclub.com.au/event/stableford-singles-2bbb-7/2025-11-12/
CATEGORIES:Wednesday Medley Comp
END:VEVENT
BEGIN:VEVENT
DTSTART;VALUE=DATE:20251111
DTEND;VALUE=DATE:20251112
DTSTAMP:20260420T115951
CREATED:20241116T010535Z
LAST-MODIFIED:20241116T010734Z
UID:10004526-1762819200-1762905599@www.leuragolfclub.com.au
SUMMARY:Women's 9 Hole Stableford
DESCRIPTION:
URL:https://www.leuragolfclub.com.au/event/womens-9-hole-stableford/2025-11-11/
CATEGORIES:Tuesday Comp
END:VEVENT
BEGIN:VEVENT
DTSTART;VALUE=DATE:20251108
DTEND;VALUE=DATE:20251109
DTSTAMP:20260420T115951
CREATED:20250707T043714Z
LAST-MODIFIED:20250807T031230Z
UID:10004667-1762560000-1762646399@www.leuragolfclub.com.au
SUMMARY:HOW Charity Day
DESCRIPTION:Homes for Older Women\n\nBook via Proshop 4785 0035  proshop@leuragolfclub.com.au
URL:https://www.leuragolfclub.com.au/event/how-charity-day/
CATEGORIES:LGC other comp
END:VEVENT
BEGIN:VEVENT
DTSTART;VALUE=DATE:20251106
DTEND;VALUE=DATE:20251107
DTSTAMP:20260420T115951
CREATED:20250110T000319Z
LAST-MODIFIED:20250110T000422Z
UID:10004640-1762387200-1762473599@www.leuragolfclub.com.au
SUMMARY:Trivia @ 7pm
DESCRIPTION:When: Every Thursday\, questions begin at 7 pm\nEntry Fee: Only $2 per player\nPrizes: Get ready to win delightful prizes including wine\, club vouchers\, and delicious chocolates.\n\nDon’t miss out on the action! Our bistro opens at 5:30 pm\, perfect for grabbing a bite before the trivia starts. Create your own table with friends and family\, and make it a night to remember. Whether you’re a trivia buff or just looking for a lively evening out\, there’s something for everyone.
URL:https://www.leuragolfclub.com.au/event/trivia-7pm-3/2025-11-06/
CATEGORIES:LGC Function
END:VEVENT
BEGIN:VEVENT
DTSTART;VALUE=DATE:20251105
DTEND;VALUE=DATE:20251106
DTSTAMP:20260420T115951
CREATED:20241108T054251Z
LAST-MODIFIED:20241108T054251Z
UID:10004294-1762300800-1762387199@www.leuragolfclub.com.au
SUMMARY:Par Singles + 2BBB
DESCRIPTION:
URL:https://www.leuragolfclub.com.au/event/par-singles-2bbb-6/2025-11-05/
CATEGORIES:Wednesday Medley Comp
END:VEVENT
BEGIN:VEVENT
DTSTART;VALUE=DATE:20251104
DTEND;VALUE=DATE:20251105
DTSTAMP:20260420T115951
CREATED:20251012T052401Z
LAST-MODIFIED:20251012T052401Z
UID:10004798-1762214400-1762300799@www.leuragolfclub.com.au
SUMMARY:Melbourne Cup Lunch
DESCRIPTION:
URL:https://www.leuragolfclub.com.au/event/melbourne-cup-lunch/
CATEGORIES:LGC Function
END:VEVENT
BEGIN:VEVENT
DTSTART;VALUE=DATE:20251104
DTEND;VALUE=DATE:20251105
DTSTAMP:20260420T115951
CREATED:20241116T010239Z
LAST-MODIFIED:20241116T010239Z
UID:10004516-1762214400-1762300799@www.leuragolfclub.com.au
SUMMARY:Women's Monthly Medal - 18 hole stroke
DESCRIPTION:
URL:https://www.leuragolfclub.com.au/event/womens-monthly-medal-18-hole-stroke/2025-11-04/
CATEGORIES:Tuesday Comp
END:VEVENT
BEGIN:VEVENT
DTSTART;VALUE=DATE:20251101
DTEND;VALUE=DATE:20251102
DTSTAMP:20260420T115951
CREATED:20250108T003718Z
LAST-MODIFIED:20250108T003718Z
UID:10004578-1761955200-1762041599@www.leuragolfclub.com.au
SUMMARY:Stableford Singles - white tees
DESCRIPTION:
URL:https://www.leuragolfclub.com.au/event/stableford-singles-white-tees-4/2025-11-01/
CATEGORIES:Saturday Medley Comp
END:VEVENT
BEGIN:VEVENT
DTSTART;VALUE=DATE:20251101
DTEND;VALUE=DATE:20251102
DTSTAMP:20260420T115951
CREATED:20241112T044012Z
LAST-MODIFIED:20250108T003816Z
UID:10004588-1761955200-1762041599@www.leuragolfclub.com.au
SUMMARY:Men's Monthly Medal + Medley Stroke
DESCRIPTION:
URL:https://www.leuragolfclub.com.au/event/mens-monthly-medal-medley-stroke-10/2025-11-01/
CATEGORIES:Saturday Medley Comp
END:VEVENT
BEGIN:VEVENT
DTSTART;VALUE=DATE:20251030
DTEND;VALUE=DATE:20251031
DTSTAMP:20260420T115951
CREATED:20250110T000319Z
LAST-MODIFIED:20250110T000422Z
UID:10004639-1761782400-1761868799@www.leuragolfclub.com.au
SUMMARY:Trivia @ 7pm
DESCRIPTION:When: Every Thursday\, questions begin at 7 pm\nEntry Fee: Only $2 per player\nPrizes: Get ready to win delightful prizes including wine\, club vouchers\, and delicious chocolates.\n\nDon’t miss out on the action! Our bistro opens at 5:30 pm\, perfect for grabbing a bite before the trivia starts. Create your own table with friends and family\, and make it a night to remember. Whether you’re a trivia buff or just looking for a lively evening out\, there’s something for everyone.
URL:https://www.leuragolfclub.com.au/event/trivia-7pm-3/2025-10-30/
CATEGORIES:LGC Function
END:VEVENT
BEGIN:VEVENT
DTSTART;VALUE=DATE:20251029
DTEND;VALUE=DATE:20251030
DTSTAMP:20260420T115951
CREATED:20241115T040534Z
LAST-MODIFIED:20241115T040534Z
UID:10004495-1761696000-1761782399@www.leuragolfclub.com.au
SUMMARY:2 Player Ambrose
DESCRIPTION:
URL:https://www.leuragolfclub.com.au/event/2-player-ambrose-6/
CATEGORIES:Wednesday Medley Comp
END:VEVENT
BEGIN:VEVENT
DTSTART;VALUE=DATE:20251028
DTEND;VALUE=DATE:20251029
DTSTAMP:20260420T115951
CREATED:20241116T011018Z
LAST-MODIFIED:20241116T011401Z
UID:10004555-1761609600-1761695999@www.leuragolfclub.com.au
SUMMARY:Women's 9 Hole Par/Ambrose
DESCRIPTION:
URL:https://www.leuragolfclub.com.au/event/womens-9-hole-par-ambrose/2025-10-28/
CATEGORIES:Tuesday Comp
END:VEVENT
BEGIN:VEVENT
DTSTART;VALUE=DATE:20251025
DTEND;VALUE=DATE:20251026
DTSTAMP:20260420T115951
CREATED:20241115T025420Z
LAST-MODIFIED:20241115T025932Z
UID:10004460-1761350400-1761436799@www.leuragolfclub.com.au
SUMMARY:Stableford Singles + 2BBB
DESCRIPTION:
URL:https://www.leuragolfclub.com.au/event/stableford-singles-2bbb-10/2025-10-25/
CATEGORIES:Saturday Medley Comp
END:VEVENT
BEGIN:VEVENT
DTSTART;VALUE=DATE:20251023
DTEND;VALUE=DATE:20251024
DTSTAMP:20260420T115951
CREATED:20250110T000319Z
LAST-MODIFIED:20250110T000422Z
UID:10004638-1761177600-1761263999@www.leuragolfclub.com.au
SUMMARY:Trivia @ 7pm
DESCRIPTION:When: Every Thursday\, questions begin at 7 pm\nEntry Fee: Only $2 per player\nPrizes: Get ready to win delightful prizes including wine\, club vouchers\, and delicious chocolates.\n\nDon’t miss out on the action! Our bistro opens at 5:30 pm\, perfect for grabbing a bite before the trivia starts. Create your own table with friends and family\, and make it a night to remember. Whether you’re a trivia buff or just looking for a lively evening out\, there’s something for everyone.
URL:https://www.leuragolfclub.com.au/event/trivia-7pm-3/2025-10-23/
CATEGORIES:LGC Function
END:VEVENT
END:VCALENDAR