BEGIN:VCALENDAR
VERSION:2.0
PRODID:-//Leura Golf Club - ECPv6.13.2.1//NONSGML v1.0//EN
CALSCALE:GREGORIAN
METHOD:PUBLISH
X-ORIGINAL-URL:https://www.leuragolfclub.com.au
X-WR-CALDESC:Events for Leura Golf Club
REFRESH-INTERVAL;VALUE=DURATION:PT1H
X-Robots-Tag:noindex
X-PUBLISHED-TTL:PT1H
BEGIN:VTIMEZONE
TZID:Australia/Sydney
BEGIN:STANDARD
TZOFFSETFROM:+1100
TZOFFSETTO:+1000
TZNAME:AEST
DTSTART:20260404T160000
END:STANDARD
BEGIN:DAYLIGHT
TZOFFSETFROM:+1000
TZOFFSETTO:+1100
TZNAME:AEDT
DTSTART:20261003T160000
END:DAYLIGHT
END:VTIMEZONE
BEGIN:VTIMEZONE
TZID:Australia/Melbourne
BEGIN:STANDARD
TZOFFSETFROM:+1100
TZOFFSETTO:+1000
TZNAME:AEST
DTSTART:20260404T160000
END:STANDARD
BEGIN:DAYLIGHT
TZOFFSETFROM:+1000
TZOFFSETTO:+1100
TZNAME:AEDT
DTSTART:20261003T160000
END:DAYLIGHT
END:VTIMEZONE
BEGIN:VEVENT
DTSTART;VALUE=DATE:20261003
DTEND;VALUE=DATE:20261004
DTSTAMP:20260421T000409
CREATED:20260103T003459Z
LAST-MODIFIED:20260103T003528Z
UID:10005393-1790985600-1791071999@www.leuragolfclub.com.au
SUMMARY:Haig & Haig Shield Rd 1
DESCRIPTION:The Haig and Haig Shield  is a men’s stroke event over 2 weeks off the Blue tees. The winner is the person with the best aggregate nett score for the two rounds from across all grades. Daily handicaps apply on each of the two days. \nVisitors are welcome\, can win the day competition but are not eligible to win the Shield.
URL:https://www.leuragolfclub.com.au/event/haig-haig-shield-rd-1-9/
CATEGORIES:LGC Major Events
END:VEVENT
BEGIN:VEVENT
DTSTART;VALUE=DATE:20261003
DTEND;VALUE=DATE:20261004
DTSTAMP:20260421T000409
CREATED:20251226T023440Z
LAST-MODIFIED:20251226T030344Z
UID:10004817-1790985600-1791071999@www.leuragolfclub.com.au
SUMMARY:Medley Stroke (Inc. Men's MM)
DESCRIPTION:Visitors welcome\, can win the daily event but not the medal. Medal is for male members.
URL:https://www.leuragolfclub.com.au/event/medley-stroke-mens-mm/2026-10-03/
CATEGORIES:Saturday Medley Comp
END:VEVENT
BEGIN:VEVENT
DTSTART;VALUE=DATE:20261003
DTEND;VALUE=DATE:20261004
DTSTAMP:20260421T000409
CREATED:20251226T023832Z
LAST-MODIFIED:20251226T023832Z
UID:10004829-1790985600-1791071999@www.leuragolfclub.com.au
SUMMARY:Stableford Singles - white tees
DESCRIPTION:
URL:https://www.leuragolfclub.com.au/event/stableford-singles-white-tees-14/2026-10-03/
CATEGORIES:Saturday Medley Comp
END:VEVENT
BEGIN:VEVENT
DTSTART;VALUE=DATE:20261004
DTEND;VALUE=DATE:20261005
DTSTAMP:20260421T000409
CREATED:20251228T053331Z
LAST-MODIFIED:20251228T053628Z
UID:10005310-1791072000-1791158399@www.leuragolfclub.com.au
SUMMARY:Daylight Savings @ 2am
DESCRIPTION:
URL:https://www.leuragolfclub.com.au/event/daylight-savings-starts/
CATEGORIES:Other
END:VEVENT
BEGIN:VEVENT
DTSTART;VALUE=DATE:20261004
DTEND;VALUE=DATE:20261005
DTSTAMP:20260421T000409
CREATED:20260102T235908Z
LAST-MODIFIED:20260103T003247Z
UID:10005388-1791072000-1791158399@www.leuragolfclub.com.au
SUMMARY:Wentworth Falls Open
DESCRIPTION:
URL:https://www.leuragolfclub.com.au/event/wentworth-falls-open-6/
END:VEVENT
BEGIN:VEVENT
DTSTART;VALUE=DATE:20261005
DTEND;VALUE=DATE:20261006
DTSTAMP:20260421T000409
CREATED:20231221T212243Z
LAST-MODIFIED:20231227T034952Z
UID:10003668-1791158400-1791244799@www.leuragolfclub.com.au
SUMMARY:Labour Day
DESCRIPTION:
URL:https://www.leuragolfclub.com.au/event/labour-day-2/2026-10-05/
CATEGORIES:Holidays
END:VEVENT
BEGIN:VEVENT
DTSTART;VALUE=DATE:20261007
DTEND;VALUE=DATE:20261008
DTSTAMP:20260421T000409
CREATED:20251226T055100Z
LAST-MODIFIED:20251226T055100Z
UID:10005279-1791331200-1791417599@www.leuragolfclub.com.au
SUMMARY:Stableford Singles + 2BBB
DESCRIPTION:
URL:https://www.leuragolfclub.com.au/event/stableford-singles-2bbb-21/2026-10-07/
CATEGORIES:Wednesday Medley Comp
END:VEVENT
BEGIN:VEVENT
DTSTART;VALUE=DATE:20261008
DTEND;VALUE=DATE:20261009
DTSTAMP:20260421T000409
CREATED:20260102T050607Z
LAST-MODIFIED:20260102T050932Z
UID:10005369-1791417600-1791503999@www.leuragolfclub.com.au
SUMMARY:Trivia @ 7pm
DESCRIPTION:When: Every Thursday\, questions begin at 7 pm\nEntry Fee: Only $2 per player\nPrizes: Get ready to win delightful prizes including wine\, club vouchers\, and delicious chocolates.\n\nDon’t miss out on the action! Our bistro opens at 5:30 pm\, perfect for grabbing a bite before the trivia starts. Create your own table with friends and family\, and make it a night to remember. Whether you’re a trivia buff or just looking for a lively evening out\, there’s something for everyone.
URL:https://www.leuragolfclub.com.au/event/trivia-7pm-4/2026-10-08/
CATEGORIES:LGC Function
END:VEVENT
BEGIN:VEVENT
DTSTART;VALUE=DATE:20261010
DTEND;VALUE=DATE:20261011
DTSTAMP:20260421T000409
CREATED:20260103T003618Z
LAST-MODIFIED:20260103T003712Z
UID:10005394-1791590400-1791676799@www.leuragolfclub.com.au
SUMMARY:Haig & Haig Shield Rd 2
DESCRIPTION:The Haig and Haig Shield  is a men’s stroke event over 2 weeks off the Blue tees. The winner is the person with the best aggregate nett score for the two rounds from across all grades. Daily handicaps apply on each of the two days. \nVisitors are welcome\, can win the day competition but are not eligible to win the Shield.
URL:https://www.leuragolfclub.com.au/event/haig-haig-shield-rd-2-9/
CATEGORIES:LGC Major Events
END:VEVENT
BEGIN:VEVENT
DTSTART;VALUE=DATE:20261010
DTEND;VALUE=DATE:20261011
DTSTAMP:20260421T000409
CREATED:20260103T004231Z
LAST-MODIFIED:20260103T004231Z
UID:10005395-1791590400-1791676799@www.leuragolfclub.com.au
SUMMARY:Stableford Singles - white tees
DESCRIPTION:
URL:https://www.leuragolfclub.com.au/event/stableford-singles-white-tees-16/
CATEGORIES:Saturday Medley Comp
END:VEVENT
BEGIN:VEVENT
DTSTART;VALUE=DATE:20261014
DTEND;VALUE=DATE:20261015
DTSTAMP:20260421T000409
CREATED:20260101T044901Z
LAST-MODIFIED:20260101T044901Z
UID:10005315-1791936000-1792022399@www.leuragolfclub.com.au
SUMMARY:Stableford Singles + 2BBB
DESCRIPTION:
URL:https://www.leuragolfclub.com.au/event/stableford-singles-2bbb-23/2026-10-14/
CATEGORIES:Wednesday Medley Comp
END:VEVENT
BEGIN:VEVENT
DTSTART;VALUE=DATE:20261015
DTEND;VALUE=DATE:20261016
DTSTAMP:20260421T000409
CREATED:20260102T050607Z
LAST-MODIFIED:20260102T050932Z
UID:10005370-1792022400-1792108799@www.leuragolfclub.com.au
SUMMARY:Trivia @ 7pm
DESCRIPTION:When: Every Thursday\, questions begin at 7 pm\nEntry Fee: Only $2 per player\nPrizes: Get ready to win delightful prizes including wine\, club vouchers\, and delicious chocolates.\n\nDon’t miss out on the action! Our bistro opens at 5:30 pm\, perfect for grabbing a bite before the trivia starts. Create your own table with friends and family\, and make it a night to remember. Whether you’re a trivia buff or just looking for a lively evening out\, there’s something for everyone.
URL:https://www.leuragolfclub.com.au/event/trivia-7pm-4/2026-10-15/
CATEGORIES:LGC Function
END:VEVENT
BEGIN:VEVENT
DTSTART;VALUE=DATE:20261017
DTEND;VALUE=DATE:20261018
DTSTAMP:20260421T000409
CREATED:20251226T052907Z
LAST-MODIFIED:20251226T052907Z
UID:10005261-1792195200-1792281599@www.leuragolfclub.com.au
SUMMARY:Stableford Singles + 2B Aggregate
DESCRIPTION:
URL:https://www.leuragolfclub.com.au/event/stableford-singles-2b-aggregate-2/2026-10-17/
CATEGORIES:Saturday Medley Comp
END:VEVENT
BEGIN:VEVENT
DTSTART;VALUE=DATE:20261018
DTEND;VALUE=DATE:20261019
DTSTAMP:20260421T000409
CREATED:20260103T000003Z
LAST-MODIFIED:20260103T000003Z
UID:10005389-1792281600-1792367999@www.leuragolfclub.com.au
SUMMARY:Henbury Open
DESCRIPTION:
URL:https://www.leuragolfclub.com.au/event/henbury-open-5/
END:VEVENT
BEGIN:VEVENT
DTSTART;VALUE=DATE:20261021
DTEND;VALUE=DATE:20261022
DTSTAMP:20260421T000409
CREATED:20251226T060525Z
LAST-MODIFIED:20251226T060525Z
UID:10005294-1792540800-1792627199@www.leuragolfclub.com.au
SUMMARY:Stableford Singles + 2B Multiplier
DESCRIPTION:
URL:https://www.leuragolfclub.com.au/event/stableford-singles-2b-multiplier-2/2026-10-21/
CATEGORIES:Wednesday Medley Comp
END:VEVENT
BEGIN:VEVENT
DTSTART;VALUE=DATE:20261022
DTEND;VALUE=DATE:20261023
DTSTAMP:20260421T000409
CREATED:20260102T050607Z
LAST-MODIFIED:20260102T050932Z
UID:10005371-1792627200-1792713599@www.leuragolfclub.com.au
SUMMARY:Trivia @ 7pm
DESCRIPTION:When: Every Thursday\, questions begin at 7 pm\nEntry Fee: Only $2 per player\nPrizes: Get ready to win delightful prizes including wine\, club vouchers\, and delicious chocolates.\n\nDon’t miss out on the action! Our bistro opens at 5:30 pm\, perfect for grabbing a bite before the trivia starts. Create your own table with friends and family\, and make it a night to remember. Whether you’re a trivia buff or just looking for a lively evening out\, there’s something for everyone.
URL:https://www.leuragolfclub.com.au/event/trivia-7pm-4/2026-10-22/
CATEGORIES:LGC Function
END:VEVENT
BEGIN:VEVENT
DTSTART;VALUE=DATE:20261023
DTEND;VALUE=DATE:20261024
DTSTAMP:20260421T000409
CREATED:20260106T041428Z
LAST-MODIFIED:20260330T233017Z
UID:10005413-1792713600-1792799999@www.leuragolfclub.com.au
SUMMARY:Shootout Golf
DESCRIPTION:
URL:https://www.leuragolfclub.com.au/event/shootout-golf/2026-10-23/
CATEGORIES:Other
END:VEVENT
BEGIN:VEVENT
DTSTART;VALUE=DATE:20261024
DTEND;VALUE=DATE:20261025
DTSTAMP:20260421T000409
CREATED:20251226T035718Z
LAST-MODIFIED:20260420T010957Z
UID:10004855-1792800000-1792886399@www.leuragolfclub.com.au
SUMMARY:Par Singles + 2BBB
DESCRIPTION:
URL:https://www.leuragolfclub.com.au/event/par-singles-2bbb-9/2026-10-24/
CATEGORIES:Saturday Medley Comp
END:VEVENT
BEGIN:VEVENT
DTSTART;VALUE=DATE:20261024
DTEND;VALUE=DATE:20261025
DTSTAMP:20260421T000409
CREATED:20260106T041428Z
LAST-MODIFIED:20260330T233017Z
UID:10005414-1792828800-1792861200@www.leuragolfclub.com.au
SUMMARY:Shootout Golf
DESCRIPTION:
URL:https://www.leuragolfclub.com.au/event/shootout-golf/2026-10-24/
CATEGORIES:Other
END:VEVENT
BEGIN:VEVENT
DTSTART;VALUE=DATE:20261028
DTEND;VALUE=DATE:20261029
DTSTAMP:20260421T000409
CREATED:20251226T061202Z
LAST-MODIFIED:20251226T061202Z
UID:10005305-1793145600-1793231999@www.leuragolfclub.com.au
SUMMARY:Stableford Singles + 2BBB
DESCRIPTION:
URL:https://www.leuragolfclub.com.au/event/stableford-singles-2bbb-22/2026-10-28/
CATEGORIES:Wednesday Medley Comp
END:VEVENT
BEGIN:VEVENT
DTSTART;VALUE=DATE:20261029
DTEND;VALUE=DATE:20261030
DTSTAMP:20260421T000409
CREATED:20260102T050607Z
LAST-MODIFIED:20260102T050932Z
UID:10005372-1793232000-1793318399@www.leuragolfclub.com.au
SUMMARY:Trivia @ 7pm
DESCRIPTION:When: Every Thursday\, questions begin at 7 pm\nEntry Fee: Only $2 per player\nPrizes: Get ready to win delightful prizes including wine\, club vouchers\, and delicious chocolates.\n\nDon’t miss out on the action! Our bistro opens at 5:30 pm\, perfect for grabbing a bite before the trivia starts. Create your own table with friends and family\, and make it a night to remember. Whether you’re a trivia buff or just looking for a lively evening out\, there’s something for everyone.
URL:https://www.leuragolfclub.com.au/event/trivia-7pm-4/2026-10-29/
CATEGORIES:LGC Function
END:VEVENT
BEGIN:VEVENT
DTSTART;VALUE=DATE:20261031
DTEND;VALUE=DATE:20261101
DTSTAMP:20260421T000409
CREATED:20260103T004556Z
LAST-MODIFIED:20260103T004556Z
UID:10005396-1793404800-1793491199@www.leuragolfclub.com.au
SUMMARY:Leura Open
DESCRIPTION:
URL:https://www.leuragolfclub.com.au/event/leura-open-6/
CATEGORIES:LGC Major Events
END:VEVENT
BEGIN:VEVENT
DTSTART;VALUE=DATE:20261104
DTEND;VALUE=DATE:20261105
DTSTAMP:20260421T000409
CREATED:20251226T055100Z
LAST-MODIFIED:20251226T055100Z
UID:10005280-1793750400-1793836799@www.leuragolfclub.com.au
SUMMARY:Stableford Singles + 2BBB
DESCRIPTION:
URL:https://www.leuragolfclub.com.au/event/stableford-singles-2bbb-21/2026-11-04/
CATEGORIES:Wednesday Medley Comp
END:VEVENT
BEGIN:VEVENT
DTSTART;VALUE=DATE:20261105
DTEND;VALUE=DATE:20261106
DTSTAMP:20260421T000409
CREATED:20260102T050607Z
LAST-MODIFIED:20260102T050932Z
UID:10005373-1793836800-1793923199@www.leuragolfclub.com.au
SUMMARY:Trivia @ 7pm
DESCRIPTION:When: Every Thursday\, questions begin at 7 pm\nEntry Fee: Only $2 per player\nPrizes: Get ready to win delightful prizes including wine\, club vouchers\, and delicious chocolates.\n\nDon’t miss out on the action! Our bistro opens at 5:30 pm\, perfect for grabbing a bite before the trivia starts. Create your own table with friends and family\, and make it a night to remember. Whether you’re a trivia buff or just looking for a lively evening out\, there’s something for everyone.
URL:https://www.leuragolfclub.com.au/event/trivia-7pm-4/2026-11-05/
CATEGORIES:LGC Function
END:VEVENT
BEGIN:VEVENT
DTSTART;VALUE=DATE:20261107
DTEND;VALUE=DATE:20261108
DTSTAMP:20260421T000409
CREATED:20251226T023440Z
LAST-MODIFIED:20251226T030344Z
UID:10004818-1794009600-1794095999@www.leuragolfclub.com.au
SUMMARY:Medley Stroke (Inc. Men's MM)
DESCRIPTION:Visitors welcome\, can win the daily event but not the medal. Medal is for male members.
URL:https://www.leuragolfclub.com.au/event/medley-stroke-mens-mm/2026-11-07/
CATEGORIES:Saturday Medley Comp
END:VEVENT
BEGIN:VEVENT
DTSTART;VALUE=DATE:20261107
DTEND;VALUE=DATE:20261108
DTSTAMP:20260421T000409
CREATED:20251226T023832Z
LAST-MODIFIED:20251226T023832Z
UID:10004830-1794009600-1794095999@www.leuragolfclub.com.au
SUMMARY:Stableford Singles - white tees
DESCRIPTION:
URL:https://www.leuragolfclub.com.au/event/stableford-singles-white-tees-14/2026-11-07/
CATEGORIES:Saturday Medley Comp
END:VEVENT
BEGIN:VEVENT
DTSTART;VALUE=DATE:20261107
DTEND;VALUE=DATE:20261108
DTSTAMP:20260421T000409
CREATED:20260103T015123Z
LAST-MODIFIED:20260103T015123Z
UID:10005398-1794009600-1794095999@www.leuragolfclub.com.au
SUMMARY:Men's Club C/ship Rd1
DESCRIPTION:
URL:https://www.leuragolfclub.com.au/event/mens-club-c-ship-rd1/
CATEGORIES:LGC Major Events
END:VEVENT
BEGIN:VEVENT
DTSTART;VALUE=DATE:20261109
DTEND;VALUE=DATE:20261110
DTSTAMP:20260421T000409
CREATED:20260103T020411Z
LAST-MODIFIED:20260103T020505Z
UID:10005403-1794182400-1794268799@www.leuragolfclub.com.au
SUMMARY:Longest Day
DESCRIPTION:Are you up for the challenge?\nThe Longest Day is the ultimate golf challenge designed to test your skill\, strength and stamina. Complete 36\, 54 or 72 holes of golf in a single day whilst raising vital funds for Cancer Council’s life-saving research. While the official Longest Day is the 10th of November\, you can take part anytime in November or December.
URL:https://www.leuragolfclub.com.au/event/longest-day/
CATEGORIES:Other
END:VEVENT
BEGIN:VEVENT
DTSTART;VALUE=DATE:20261111
DTEND;VALUE=DATE:20261112
DTSTAMP:20260421T000409
CREATED:20251226T054744Z
LAST-MODIFIED:20251226T054744Z
UID:10005268-1794355200-1794441599@www.leuragolfclub.com.au
SUMMARY:Par Singles + 2BBB
DESCRIPTION:
URL:https://www.leuragolfclub.com.au/event/par-singles-2bbb-10/2026-11-11/
CATEGORIES:Wednesday Medley Comp
END:VEVENT
BEGIN:VEVENT
DTSTART;VALUE=DATE:20261112
DTEND;VALUE=DATE:20261113
DTSTAMP:20260421T000409
CREATED:20260102T050607Z
LAST-MODIFIED:20260102T050932Z
UID:10005374-1794441600-1794527999@www.leuragolfclub.com.au
SUMMARY:Trivia @ 7pm
DESCRIPTION:When: Every Thursday\, questions begin at 7 pm\nEntry Fee: Only $2 per player\nPrizes: Get ready to win delightful prizes including wine\, club vouchers\, and delicious chocolates.\n\nDon’t miss out on the action! Our bistro opens at 5:30 pm\, perfect for grabbing a bite before the trivia starts. Create your own table with friends and family\, and make it a night to remember. Whether you’re a trivia buff or just looking for a lively evening out\, there’s something for everyone.
URL:https://www.leuragolfclub.com.au/event/trivia-7pm-4/2026-11-12/
CATEGORIES:LGC Function
END:VEVENT
END:VCALENDAR