BEGIN:VCALENDAR
VERSION:2.0
PRODID:-//Leura Golf Club - ECPv6.13.2.1//NONSGML v1.0//EN
CALSCALE:GREGORIAN
METHOD:PUBLISH
X-ORIGINAL-URL:https://www.leuragolfclub.com.au
X-WR-CALDESC:Events for Leura Golf Club
REFRESH-INTERVAL;VALUE=DURATION:PT1H
X-Robots-Tag:noindex
X-PUBLISHED-TTL:PT1H
BEGIN:VTIMEZONE
TZID:Australia/Sydney
BEGIN:STANDARD
TZOFFSETFROM:+1100
TZOFFSETTO:+1000
TZNAME:AEST
DTSTART:20260404T160000
END:STANDARD
BEGIN:DAYLIGHT
TZOFFSETFROM:+1000
TZOFFSETTO:+1100
TZNAME:AEDT
DTSTART:20261003T160000
END:DAYLIGHT
BEGIN:STANDARD
TZOFFSETFROM:+1100
TZOFFSETTO:+1000
TZNAME:AEST
DTSTART:20270403T160000
END:STANDARD
BEGIN:DAYLIGHT
TZOFFSETFROM:+1000
TZOFFSETTO:+1100
TZNAME:AEDT
DTSTART:20271002T160000
END:DAYLIGHT
END:VTIMEZONE
BEGIN:VTIMEZONE
TZID:Australia/Melbourne
BEGIN:STANDARD
TZOFFSETFROM:+1100
TZOFFSETTO:+1000
TZNAME:AEST
DTSTART:20260404T160000
END:STANDARD
BEGIN:DAYLIGHT
TZOFFSETFROM:+1000
TZOFFSETTO:+1100
TZNAME:AEDT
DTSTART:20261003T160000
END:DAYLIGHT
BEGIN:STANDARD
TZOFFSETFROM:+1100
TZOFFSETTO:+1000
TZNAME:AEST
DTSTART:20270403T160000
END:STANDARD
BEGIN:DAYLIGHT
TZOFFSETFROM:+1000
TZOFFSETTO:+1100
TZNAME:AEDT
DTSTART:20271002T160000
END:DAYLIGHT
BEGIN:STANDARD
TZOFFSETFROM:+1100
TZOFFSETTO:+1000
TZNAME:AEST
DTSTART:20280401T160000
END:STANDARD
BEGIN:DAYLIGHT
TZOFFSETFROM:+1000
TZOFFSETTO:+1100
TZNAME:AEDT
DTSTART:20280930T160000
END:DAYLIGHT
BEGIN:STANDARD
TZOFFSETFROM:+1100
TZOFFSETTO:+1000
TZNAME:AEST
DTSTART:20290331T160000
END:STANDARD
BEGIN:DAYLIGHT
TZOFFSETFROM:+1000
TZOFFSETTO:+1100
TZNAME:AEDT
DTSTART:20291006T160000
END:DAYLIGHT
END:VTIMEZONE
BEGIN:VEVENT
DTSTART;VALUE=DATE:20261209
DTEND;VALUE=DATE:20261210
DTSTAMP:20260421T025652
CREATED:20260101T044901Z
LAST-MODIFIED:20260101T044901Z
UID:10005316-1796774400-1796860799@www.leuragolfclub.com.au
SUMMARY:Stableford Singles + 2BBB
DESCRIPTION:
URL:https://www.leuragolfclub.com.au/event/stableford-singles-2bbb-23/2026-12-09/
CATEGORIES:Wednesday Medley Comp
END:VEVENT
BEGIN:VEVENT
DTSTART;VALUE=DATE:20261210
DTEND;VALUE=DATE:20261211
DTSTAMP:20260421T025652
CREATED:20260102T050607Z
LAST-MODIFIED:20260102T050932Z
UID:10005378-1796860800-1796947199@www.leuragolfclub.com.au
SUMMARY:Trivia @ 7pm
DESCRIPTION:When: Every Thursday\, questions begin at 7 pm\nEntry Fee: Only $2 per player\nPrizes: Get ready to win delightful prizes including wine\, club vouchers\, and delicious chocolates.\n\nDon’t miss out on the action! Our bistro opens at 5:30 pm\, perfect for grabbing a bite before the trivia starts. Create your own table with friends and family\, and make it a night to remember. Whether you’re a trivia buff or just looking for a lively evening out\, there’s something for everyone.
URL:https://www.leuragolfclub.com.au/event/trivia-7pm-4/2026-12-10/
CATEGORIES:LGC Function
END:VEVENT
BEGIN:VEVENT
DTSTART;VALUE=DATE:20261212
DTEND;VALUE=DATE:20261213
DTSTAMP:20260421T025652
CREATED:20251226T034328Z
LAST-MODIFIED:20251226T034328Z
UID:10004845-1797033600-1797119999@www.leuragolfclub.com.au
SUMMARY:Captain's v President's 2 Player Ambrose (Anniversary Cup)
DESCRIPTION:Play  \n\n2 Player Ambrose annual comp\nNormal comp price $20\nNearest the pins on all par threes\nPlayers gather at 8.30 am for team allocation\, coffee/beer\n9 am shotgun start\nChristmas hams as prizes\n\nPresentation  \n\nCocktails\, nibbles and awards after\nWinning team leader gets huge kudos and trophy\nLoser drinks a shoey from a small gumboot bought for the occasion\nGold Medal awards also presented
URL:https://www.leuragolfclub.com.au/event/captains-v-presidents-2-player-ambrose-anniversary-cup-3/
CATEGORIES:LGC Major Events
END:VEVENT
BEGIN:VEVENT
DTSTART;VALUE=DATE:20261216
DTEND;VALUE=DATE:20261217
DTSTAMP:20260421T025652
CREATED:20251226T060525Z
LAST-MODIFIED:20251226T060525Z
UID:10005295-1797379200-1797465599@www.leuragolfclub.com.au
SUMMARY:Stableford Singles + 2B Multiplier
DESCRIPTION:
URL:https://www.leuragolfclub.com.au/event/stableford-singles-2b-multiplier-2/2026-12-16/
CATEGORIES:Wednesday Medley Comp
END:VEVENT
BEGIN:VEVENT
DTSTART;VALUE=DATE:20261217
DTEND;VALUE=DATE:20261218
DTSTAMP:20260421T025652
CREATED:20260102T050607Z
LAST-MODIFIED:20260102T050932Z
UID:10005379-1797465600-1797551999@www.leuragolfclub.com.au
SUMMARY:Trivia @ 7pm
DESCRIPTION:When: Every Thursday\, questions begin at 7 pm\nEntry Fee: Only $2 per player\nPrizes: Get ready to win delightful prizes including wine\, club vouchers\, and delicious chocolates.\n\nDon’t miss out on the action! Our bistro opens at 5:30 pm\, perfect for grabbing a bite before the trivia starts. Create your own table with friends and family\, and make it a night to remember. Whether you’re a trivia buff or just looking for a lively evening out\, there’s something for everyone.
URL:https://www.leuragolfclub.com.au/event/trivia-7pm-4/2026-12-17/
CATEGORIES:LGC Function
END:VEVENT
BEGIN:VEVENT
DTSTART;VALUE=DATE:20261218
DTEND;VALUE=DATE:20270203
DTSTAMP:20260421T025652
CREATED:20251226T041428Z
LAST-MODIFIED:20251226T041428Z
UID:10005243-1797552000-1801612799@www.leuragolfclub.com.au
SUMMARY:School Holidays
DESCRIPTION:
URL:https://www.leuragolfclub.com.au/event/school-holidays-26/
CATEGORIES:Holidays
END:VEVENT
BEGIN:VEVENT
DTSTART;VALUE=DATE:20261219
DTEND;VALUE=DATE:20261220
DTSTAMP:20260421T025652
CREATED:20251226T052907Z
LAST-MODIFIED:20251226T052907Z
UID:10005262-1797638400-1797724799@www.leuragolfclub.com.au
SUMMARY:Stableford Singles + 2B Aggregate
DESCRIPTION:
URL:https://www.leuragolfclub.com.au/event/stableford-singles-2b-aggregate-2/2026-12-19/
CATEGORIES:Saturday Medley Comp
END:VEVENT
BEGIN:VEVENT
DTSTART;VALUE=DATE:20261223
DTEND;VALUE=DATE:20261224
DTSTAMP:20260421T025652
CREATED:20251226T061202Z
LAST-MODIFIED:20251226T061202Z
UID:10005307-1797984000-1798070399@www.leuragolfclub.com.au
SUMMARY:Stableford Singles + 2BBB
DESCRIPTION:
URL:https://www.leuragolfclub.com.au/event/stableford-singles-2bbb-22/2026-12-23/
CATEGORIES:Wednesday Medley Comp
END:VEVENT
BEGIN:VEVENT
DTSTART;VALUE=DATE:20261225
DTEND;VALUE=DATE:20261226
DTSTAMP:20260421T025652
CREATED:20231221T210622Z
LAST-MODIFIED:20240101T021611Z
UID:10003640-1798156800-1798243199@www.leuragolfclub.com.au
SUMMARY:Christmas Day
DESCRIPTION:
URL:https://www.leuragolfclub.com.au/event/christmas-day-2/2026-12-25/
CATEGORIES:Holidays
END:VEVENT
BEGIN:VEVENT
DTSTART;VALUE=DATE:20261226
DTEND;VALUE=DATE:20261227
DTSTAMP:20260421T025652
CREATED:20231221T210702Z
LAST-MODIFIED:20240101T021535Z
UID:10003645-1798243200-1798329599@www.leuragolfclub.com.au
SUMMARY:Boxing Day
DESCRIPTION:
URL:https://www.leuragolfclub.com.au/event/boxing-day-2/2026-12-26/
CATEGORIES:Holidays
END:VEVENT
BEGIN:VEVENT
DTSTART;VALUE=DATE:20261226
DTEND;VALUE=DATE:20261227
DTSTAMP:20260421T025652
CREATED:20251226T035718Z
LAST-MODIFIED:20260420T010957Z
UID:10005244-1798243200-1798329599@www.leuragolfclub.com.au
SUMMARY:Par Singles + 2BBB
DESCRIPTION:
URL:https://www.leuragolfclub.com.au/event/par-singles-2bbb-9/2026-12-26/
CATEGORIES:Saturday Medley Comp
END:VEVENT
BEGIN:VEVENT
DTSTART;VALUE=DATE:20261230
DTEND;VALUE=DATE:20261231
DTSTAMP:20260421T025652
CREATED:20260101T045643Z
LAST-MODIFIED:20260101T045747Z
UID:10005323-1798617600-1798650000@www.leuragolfclub.com.au
SUMMARY:2 Player Ambrose
DESCRIPTION:
URL:https://www.leuragolfclub.com.au/event/2-player-ambrose-8/2026-12-30/
CATEGORIES:Wednesday Medley Comp
END:VEVENT
BEGIN:VEVENT
DTSTART;VALUE=DATE:20270101
DTEND;VALUE=DATE:20270102
DTSTAMP:20260421T025652
CREATED:20231221T210919Z
LAST-MODIFIED:20231227T034851Z
UID:10003650-1798761600-1798847999@www.leuragolfclub.com.au
SUMMARY:New Years Day
DESCRIPTION:
URL:https://www.leuragolfclub.com.au/event/new-years-day/2027-01-01/
CATEGORIES:Holidays
END:VEVENT
BEGIN:VEVENT
DTSTART;VALUE=DATE:20270106
DTEND;VALUE=DATE:20270107
DTSTAMP:20260421T025652
CREATED:20251226T055100Z
LAST-MODIFIED:20251226T055100Z
UID:10005282-1799193600-1799279999@www.leuragolfclub.com.au
SUMMARY:Stableford Singles + 2BBB
DESCRIPTION:
URL:https://www.leuragolfclub.com.au/event/stableford-singles-2bbb-21/2027-01-06/
CATEGORIES:Wednesday Medley Comp
END:VEVENT
BEGIN:VEVENT
DTSTART;VALUE=DATE:20270113
DTEND;VALUE=DATE:20270114
DTSTAMP:20260421T025652
CREATED:20251226T054744Z
LAST-MODIFIED:20251226T054744Z
UID:10005269-1799798400-1799884799@www.leuragolfclub.com.au
SUMMARY:Par Singles + 2BBB
DESCRIPTION:
URL:https://www.leuragolfclub.com.au/event/par-singles-2bbb-10/2027-01-13/
CATEGORIES:Wednesday Medley Comp
END:VEVENT
BEGIN:VEVENT
DTSTART;VALUE=DATE:20270116
DTEND;VALUE=DATE:20270117
DTSTAMP:20260421T025652
CREATED:20251226T052645Z
LAST-MODIFIED:20251226T052645Z
UID:10005256-1800057600-1800143999@www.leuragolfclub.com.au
SUMMARY:Stableford Singles + 2B Multiplier
DESCRIPTION:
URL:https://www.leuragolfclub.com.au/event/stableford-singles-2b-multiplier/2027-01-16/
CATEGORIES:Saturday Medley Comp
END:VEVENT
BEGIN:VEVENT
DTSTART;VALUE=DATE:20270120
DTEND;VALUE=DATE:20270121
DTSTAMP:20260421T025652
CREATED:20251226T060400Z
LAST-MODIFIED:20251226T060754Z
UID:10005289-1800403200-1800489599@www.leuragolfclub.com.au
SUMMARY:Stableford Singles + 2B Aggregate
DESCRIPTION:
URL:https://www.leuragolfclub.com.au/event/stableford-singles-2b-aggregate-3/2027-01-20/
CATEGORIES:Wednesday Medley Comp
END:VEVENT
BEGIN:VEVENT
DTSTART;VALUE=DATE:20270126
DTEND;VALUE=DATE:20270127
DTSTAMP:20260421T025652
CREATED:20231221T211923Z
LAST-MODIFIED:20231231T005108Z
UID:10003659-1800921600-1801007999@www.leuragolfclub.com.au
SUMMARY:Australia Day
DESCRIPTION:
URL:https://www.leuragolfclub.com.au/event/australia-day-2/2027-01-26/
CATEGORIES:Holidays
END:VEVENT
BEGIN:VEVENT
DTSTART;VALUE=DATE:20270127
DTEND;VALUE=DATE:20270128
DTSTAMP:20260421T025652
CREATED:20251226T061202Z
LAST-MODIFIED:20251226T061202Z
UID:10005308-1801008000-1801094399@www.leuragolfclub.com.au
SUMMARY:Stableford Singles + 2BBB
DESCRIPTION:
URL:https://www.leuragolfclub.com.au/event/stableford-singles-2bbb-22/2027-01-27/
CATEGORIES:Wednesday Medley Comp
END:VEVENT
BEGIN:VEVENT
DTSTART;VALUE=DATE:20270425
DTEND;VALUE=DATE:20270426
DTSTAMP:20260421T025652
CREATED:20241105T004209Z
LAST-MODIFIED:20241105T004210Z
UID:10004272-1808611200-1808697599@www.leuragolfclub.com.au
SUMMARY:Anzac Day
DESCRIPTION:
URL:https://www.leuragolfclub.com.au/event/anzac-day-2-2/2027-04-25/
CATEGORIES:Holidays
END:VEVENT
BEGIN:VEVENT
DTSTART;VALUE=DATE:20270614
DTEND;VALUE=DATE:20270615
DTSTAMP:20260421T025652
CREATED:20231221T212146Z
LAST-MODIFIED:20240101T012503Z
UID:10003664-1812931200-1813017599@www.leuragolfclub.com.au
SUMMARY:King's Birthday
DESCRIPTION:
URL:https://www.leuragolfclub.com.au/event/kings-birthday/2027-06-14/
CATEGORIES:Holidays
END:VEVENT
BEGIN:VEVENT
DTSTART;VALUE=DATE:20271004
DTEND;VALUE=DATE:20271005
DTSTAMP:20260421T025652
CREATED:20231221T212243Z
LAST-MODIFIED:20231227T034952Z
UID:10003669-1822608000-1822694399@www.leuragolfclub.com.au
SUMMARY:Labour Day
DESCRIPTION:
URL:https://www.leuragolfclub.com.au/event/labour-day-2/2027-10-04/
CATEGORIES:Holidays
END:VEVENT
BEGIN:VEVENT
DTSTART;VALUE=DATE:20271225
DTEND;VALUE=DATE:20271226
DTSTAMP:20260421T025652
CREATED:20231221T210622Z
LAST-MODIFIED:20240101T021611Z
UID:10003641-1829692800-1829779199@www.leuragolfclub.com.au
SUMMARY:Christmas Day
DESCRIPTION:
URL:https://www.leuragolfclub.com.au/event/christmas-day-2/2027-12-25/
CATEGORIES:Holidays
END:VEVENT
BEGIN:VEVENT
DTSTART;VALUE=DATE:20271226
DTEND;VALUE=DATE:20271227
DTSTAMP:20260421T025652
CREATED:20231221T210702Z
LAST-MODIFIED:20240101T021535Z
UID:10003646-1829779200-1829865599@www.leuragolfclub.com.au
SUMMARY:Boxing Day
DESCRIPTION:
URL:https://www.leuragolfclub.com.au/event/boxing-day-2/2027-12-26/
CATEGORIES:Holidays
END:VEVENT
BEGIN:VEVENT
DTSTART;VALUE=DATE:20280101
DTEND;VALUE=DATE:20280102
DTSTAMP:20260421T025652
CREATED:20231221T210919Z
LAST-MODIFIED:20231227T034851Z
UID:10003651-1830297600-1830383999@www.leuragolfclub.com.au
SUMMARY:New Years Day
DESCRIPTION:
URL:https://www.leuragolfclub.com.au/event/new-years-day/2028-01-01/
CATEGORIES:Holidays
END:VEVENT
BEGIN:VEVENT
DTSTART;VALUE=DATE:20280126
DTEND;VALUE=DATE:20280127
DTSTAMP:20260421T025652
CREATED:20231221T211923Z
LAST-MODIFIED:20231231T005108Z
UID:10003660-1832457600-1832543999@www.leuragolfclub.com.au
SUMMARY:Australia Day
DESCRIPTION:
URL:https://www.leuragolfclub.com.au/event/australia-day-2/2028-01-26/
CATEGORIES:Holidays
END:VEVENT
BEGIN:VEVENT
DTSTART;VALUE=DATE:20280425
DTEND;VALUE=DATE:20280426
DTSTAMP:20260421T025652
CREATED:20241105T004209Z
LAST-MODIFIED:20241105T004210Z
UID:10004273-1840233600-1840319999@www.leuragolfclub.com.au
SUMMARY:Anzac Day
DESCRIPTION:
URL:https://www.leuragolfclub.com.au/event/anzac-day-2-2/2028-04-25/
CATEGORIES:Holidays
END:VEVENT
BEGIN:VEVENT
DTSTART;VALUE=DATE:20280612
DTEND;VALUE=DATE:20280613
DTSTAMP:20260421T025652
CREATED:20231221T212146Z
LAST-MODIFIED:20240101T012503Z
UID:10003665-1844380800-1844467199@www.leuragolfclub.com.au
SUMMARY:King's Birthday
DESCRIPTION:
URL:https://www.leuragolfclub.com.au/event/kings-birthday/2028-06-12/
CATEGORIES:Holidays
END:VEVENT
BEGIN:VEVENT
DTSTART;VALUE=DATE:20281002
DTEND;VALUE=DATE:20281003
DTSTAMP:20260421T025652
CREATED:20231221T212243Z
LAST-MODIFIED:20231227T034952Z
UID:10003670-1854057600-1854143999@www.leuragolfclub.com.au
SUMMARY:Labour Day
DESCRIPTION:
URL:https://www.leuragolfclub.com.au/event/labour-day-2/2028-10-02/
CATEGORIES:Holidays
END:VEVENT
BEGIN:VEVENT
DTSTART;VALUE=DATE:20290425
DTEND;VALUE=DATE:20290426
DTSTAMP:20260421T025652
CREATED:20241105T004209Z
LAST-MODIFIED:20241105T004210Z
UID:10004274-1871769600-1871855999@www.leuragolfclub.com.au
SUMMARY:Anzac Day
DESCRIPTION:
URL:https://www.leuragolfclub.com.au/event/anzac-day-2-2/2029-04-25/
CATEGORIES:Holidays
END:VEVENT
END:VCALENDAR