BEGIN:VCALENDAR
VERSION:2.0
PRODID:-//Leura Golf Club - ECPv6.13.2.1//NONSGML v1.0//EN
CALSCALE:GREGORIAN
METHOD:PUBLISH
X-WR-CALNAME:Leura Golf Club
X-ORIGINAL-URL:https://www.leuragolfclub.com.au
X-WR-CALDESC:Events for Leura Golf Club
REFRESH-INTERVAL;VALUE=DURATION:PT1H
X-Robots-Tag:noindex
X-PUBLISHED-TTL:PT1H
BEGIN:VTIMEZONE
TZID:Australia/Melbourne
BEGIN:STANDARD
TZOFFSETFROM:+1100
TZOFFSETTO:+1000
TZNAME:AEST
DTSTART:20230401T160000
END:STANDARD
BEGIN:DAYLIGHT
TZOFFSETFROM:+1000
TZOFFSETTO:+1100
TZNAME:AEDT
DTSTART:20230930T160000
END:DAYLIGHT
END:VTIMEZONE
BEGIN:VEVENT
DTSTART;VALUE=DATE:20230407
DTEND;VALUE=DATE:20230408
DTSTAMP:20260422T013045
CREATED:20221212T032253Z
LAST-MODIFIED:20221212T032253Z
UID:10003445-1680825600-1680911999@www.leuragolfclub.com.au
SUMMARY:Good Friday
DESCRIPTION:
URL:https://www.leuragolfclub.com.au/event/good-friday-4/
END:VEVENT
BEGIN:VEVENT
DTSTART;VALUE=DATE:20230406
DTEND;VALUE=DATE:20230407
DTSTAMP:20260422T013045
CREATED:20230104T224506Z
LAST-MODIFIED:20230104T224700Z
UID:10003501-1680739200-1680825599@www.leuragolfclub.com.au
SUMMARY:Trivia @ 7pm
DESCRIPTION:
URL:https://www.leuragolfclub.com.au/event/trivia-7pm/2023-04-06/
CATEGORIES:LGC Function
END:VEVENT
BEGIN:VEVENT
DTSTART;VALUE=DATE:20230405
DTEND;VALUE=DATE:20230406
DTSTAMP:20260422T013045
CREATED:20211115T234200Z
LAST-MODIFIED:20221212T041308Z
UID:10003253-1680652800-1680739199@www.leuragolfclub.com.au
SUMMARY:Medley Stableford Singles + 2BBB
DESCRIPTION:
URL:https://www.leuragolfclub.com.au/event/medley-stableford-singles-2bbb-19/2023-04-05/
CATEGORIES:Wednesday Medley Comp
END:VEVENT
BEGIN:VEVENT
DTSTART;VALUE=DATE:20230404
DTEND;VALUE=DATE:20230405
DTSTAMP:20260422T013045
CREATED:20230204T232009Z
LAST-MODIFIED:20230301T183820Z
UID:10003550-1680566400-1680652799@www.leuragolfclub.com.au
SUMMARY:9 Hole Comp
DESCRIPTION:Women’s 9 hole comp in the morning and social play at other times.
URL:https://www.leuragolfclub.com.au/event/9-hole-comp/2023-04-04/
CATEGORIES:Tuesday Comp
END:VEVENT
BEGIN:VEVENT
DTSTART;VALUE=DATE:20230401
DTEND;VALUE=DATE:20230402
DTSTAMP:20260422T013045
CREATED:20221226T021250Z
LAST-MODIFIED:20221226T021250Z
UID:10003051-1680307200-1680393599@www.leuragolfclub.com.au
SUMMARY:Medley Stableford Singles (white tees)
DESCRIPTION:
URL:https://www.leuragolfclub.com.au/event/medley-stableford-singles-white-tees-6/2023-04-01/
CATEGORIES:Saturday Medley Comp
END:VEVENT
BEGIN:VEVENT
DTSTART;VALUE=DATE:20230401
DTEND;VALUE=DATE:20230402
DTSTAMP:20260422T013045
CREATED:20221226T021041Z
LAST-MODIFIED:20231221T222624Z
UID:10003026-1680307200-1680393599@www.leuragolfclub.com.au
SUMMARY:Men’s Monthly Medal + Medley Stroke
DESCRIPTION:Visitors welcome. Visitors can win the competition but not the Medal.
URL:https://www.leuragolfclub.com.au/event/mens-monthly-medal-medley-stroke-8-2023-02-04/2023-04-01/
CATEGORIES:Saturday Medley Comp
END:VEVENT
BEGIN:VEVENT
DTSTART;VALUE=DATE:20230331
DTEND;VALUE=DATE:20230401
DTSTAMP:20260422T013045
CREATED:20230104T202254Z
LAST-MODIFIED:20230204T232931Z
UID:10003487-1680220800-1680307199@www.leuragolfclub.com.au
SUMMARY:Medley Twilight 11 hole Comp from 2.30pm
DESCRIPTION:This competition is intended to be fun and for members and guests to have friendly\, social intercourse during and after the game.  \nConditions of Play \n\nTee off from 2:30 pm\, playing from white markers for men and red for women\nFee is $10 per player\nCompetition will be played over 11 holes from 1st to 11th\nCompetition will be conducted on the Stableford scoring system\nHandicaps are converted from your daily GA handicaps\nPrizes will be awarded for 1st ($30)\, 2nd ($20)\, 3rd ($15) and second last ($10)\nEach player will be allowed one Mulligan (allowed to replay a shot)\nOne club length preferred lies\, otherwise normal rules of golf apply\nA nearest-the-pin competition will be held on the 11th hole ($10)\nAll prizes are added to members’ cards\, visitors will be given vouchers.\n\nPoints \n\n1st\, 2nd\, and 3rd on each day will receive 4\, 3\, and 2 points respectively\, and each participant on the day will get one point for turning up (an incentive to turn up every week 😁).\nPoints will be recorded cumulatively and the player with the most points at the end of the season will receive a $150 credit on their membership card.\n\nPutting Competition – BE INNIT TO WINNIT! \n\nFollowing its success at the Christmas Twilight event\, the putting competition will resume every Friday\nEntry fee is $2 for two attempts\nHave a go while waiting for your tee time\nAnyone who sinks a putt wins $20 credit on their membership card\, visitors will receive a voucher.\n\nSocial Members and beginners are welcome and will be allocated a handicap of 36 for men and 45 for women. This provides an opportunity for non-golfers to learn and experience our beloved game and hopefully get hooked on it like the rest of we golf tragics. \nWe encourage players to stay on for a drink\, presentation of prizes and dinner in the Bistro after your game. \nPlease ring the Proshop (0452 246 011) to make a booking\, and also indicate whether you will be staying on for the presentation and dinner in the Bistro afterwards.
URL:https://www.leuragolfclub.com.au/event/twilight-comp-from-2-30pm/2023-03-31/
CATEGORIES:LGC other comp
END:VEVENT
BEGIN:VEVENT
DTSTART;VALUE=DATE:20230330
DTEND;VALUE=DATE:20230331
DTSTAMP:20260422T013045
CREATED:20230104T224506Z
LAST-MODIFIED:20230104T224700Z
UID:10003500-1680134400-1680220799@www.leuragolfclub.com.au
SUMMARY:Trivia @ 7pm
DESCRIPTION:
URL:https://www.leuragolfclub.com.au/event/trivia-7pm/2023-03-30/
CATEGORIES:LGC Function
END:VEVENT
BEGIN:VEVENT
DTSTART;VALUE=DATE:20230329
DTEND;VALUE=DATE:20230330
DTSTAMP:20260422T013045
CREATED:20221212T042045Z
LAST-MODIFIED:20221212T042329Z
UID:10003014-1680048000-1680134399@www.leuragolfclub.com.au
SUMMARY:Medley 2 Person Ambrose
DESCRIPTION:
URL:https://www.leuragolfclub.com.au/event/medley-2-person-ambrose-2/2023-03-29/
CATEGORIES:Wednesday Medley Comp
END:VEVENT
BEGIN:VEVENT
DTSTART;VALUE=DATE:20230328
DTEND;VALUE=DATE:20230329
DTSTAMP:20260422T013045
CREATED:20230204T232009Z
LAST-MODIFIED:20230301T183820Z
UID:10003549-1679961600-1680047999@www.leuragolfclub.com.au
SUMMARY:9 Hole Comp
DESCRIPTION:Women’s 9 hole comp in the morning and social play at other times.
URL:https://www.leuragolfclub.com.au/event/9-hole-comp/2023-03-28/
CATEGORIES:Tuesday Comp
END:VEVENT
BEGIN:VEVENT
DTSTART;VALUE=DATE:20230325
DTEND;VALUE=DATE:20230326
DTSTAMP:20260422T013045
CREATED:20221226T022134Z
LAST-MODIFIED:20231221T215535Z
UID:10003066-1679702400-1679788799@www.leuragolfclub.com.au
SUMMARY:Medley Par Singles + 2BBB
DESCRIPTION:
URL:https://www.leuragolfclub.com.au/event/medley-par-singles-2bbb-6/2023-03-25/
CATEGORIES:Saturday Medley Comp
END:VEVENT
BEGIN:VEVENT
DTSTART;VALUE=DATE:20230324
DTEND;VALUE=DATE:20230325
DTSTAMP:20260422T013045
CREATED:20230104T202254Z
LAST-MODIFIED:20230204T232931Z
UID:10003486-1679616000-1679702399@www.leuragolfclub.com.au
SUMMARY:Medley Twilight 11 hole Comp from 2.30pm
DESCRIPTION:This competition is intended to be fun and for members and guests to have friendly\, social intercourse during and after the game.  \nConditions of Play \n\nTee off from 2:30 pm\, playing from white markers for men and red for women\nFee is $10 per player\nCompetition will be played over 11 holes from 1st to 11th\nCompetition will be conducted on the Stableford scoring system\nHandicaps are converted from your daily GA handicaps\nPrizes will be awarded for 1st ($30)\, 2nd ($20)\, 3rd ($15) and second last ($10)\nEach player will be allowed one Mulligan (allowed to replay a shot)\nOne club length preferred lies\, otherwise normal rules of golf apply\nA nearest-the-pin competition will be held on the 11th hole ($10)\nAll prizes are added to members’ cards\, visitors will be given vouchers.\n\nPoints \n\n1st\, 2nd\, and 3rd on each day will receive 4\, 3\, and 2 points respectively\, and each participant on the day will get one point for turning up (an incentive to turn up every week 😁).\nPoints will be recorded cumulatively and the player with the most points at the end of the season will receive a $150 credit on their membership card.\n\nPutting Competition – BE INNIT TO WINNIT! \n\nFollowing its success at the Christmas Twilight event\, the putting competition will resume every Friday\nEntry fee is $2 for two attempts\nHave a go while waiting for your tee time\nAnyone who sinks a putt wins $20 credit on their membership card\, visitors will receive a voucher.\n\nSocial Members and beginners are welcome and will be allocated a handicap of 36 for men and 45 for women. This provides an opportunity for non-golfers to learn and experience our beloved game and hopefully get hooked on it like the rest of we golf tragics. \nWe encourage players to stay on for a drink\, presentation of prizes and dinner in the Bistro after your game. \nPlease ring the Proshop (0452 246 011) to make a booking\, and also indicate whether you will be staying on for the presentation and dinner in the Bistro afterwards.
URL:https://www.leuragolfclub.com.au/event/twilight-comp-from-2-30pm/2023-03-24/
CATEGORIES:LGC other comp
END:VEVENT
BEGIN:VEVENT
DTSTART;VALUE=DATE:20230323
DTEND;VALUE=DATE:20230324
DTSTAMP:20260422T013045
CREATED:20230104T224506Z
LAST-MODIFIED:20230104T224700Z
UID:10003499-1679529600-1679615999@www.leuragolfclub.com.au
SUMMARY:Trivia @ 7pm
DESCRIPTION:
URL:https://www.leuragolfclub.com.au/event/trivia-7pm/2023-03-23/
CATEGORIES:LGC Function
END:VEVENT
BEGIN:VEVENT
DTSTART;VALUE=DATE:20230322
DTEND;VALUE=DATE:20230323
DTSTAMP:20260422T013045
CREATED:20221212T041815Z
LAST-MODIFIED:20221212T041815Z
UID:10003451-1679443200-1679529599@www.leuragolfclub.com.au
SUMMARY:Medley Stableford Singles + 2BBB
DESCRIPTION:
URL:https://www.leuragolfclub.com.au/event/medley-stableford-singles-2bbb-15/2023-03-22/
CATEGORIES:Wednesday Medley Comp
END:VEVENT
BEGIN:VEVENT
DTSTART;VALUE=DATE:20230321
DTEND;VALUE=DATE:20230322
DTSTAMP:20260422T013045
CREATED:20230204T232009Z
LAST-MODIFIED:20230301T183820Z
UID:10003548-1679356800-1679443199@www.leuragolfclub.com.au
SUMMARY:9 Hole Comp
DESCRIPTION:Women’s 9 hole comp in the morning and social play at other times.
URL:https://www.leuragolfclub.com.au/event/9-hole-comp/2023-03-21/
CATEGORIES:Tuesday Comp
END:VEVENT
BEGIN:VEVENT
DTSTART;VALUE=DATE:20230318
DTEND;VALUE=DATE:20230319
DTSTAMP:20260422T013045
CREATED:20221226T024302Z
LAST-MODIFIED:20231221T215258Z
UID:10003463-1679097600-1679183999@www.leuragolfclub.com.au
SUMMARY:Medley Stableford Singles + 2B Multiplier
DESCRIPTION:
URL:https://www.leuragolfclub.com.au/event/medley-stableford-singles-2b-multiplier-5/2023-03-18/
CATEGORIES:Saturday Medley Comp
END:VEVENT
BEGIN:VEVENT
DTSTART;VALUE=DATE:20230318
DTEND;VALUE=DATE:20230319
DTSTAMP:20260422T013045
CREATED:20180626T023936Z
LAST-MODIFIED:20180626T023936Z
UID:10002652-1679097600-1679183999@www.leuragolfclub.com.au
SUMMARY:Stableford + 2B Aggregate
DESCRIPTION:Medley competition – visitors welcome. \nComp closes at 4pm so please ensure that your tee time will allow you to finish in time.
URL:https://www.leuragolfclub.com.au/event/stableford-2b-aggregate/2023-03-18/
CATEGORIES:Saturday Medley Comp
END:VEVENT
BEGIN:VEVENT
DTSTART;VALUE=DATE:20230317
DTEND;VALUE=DATE:20230318
DTSTAMP:20260422T013045
CREATED:20230104T202254Z
LAST-MODIFIED:20230204T232931Z
UID:10003485-1679011200-1679097599@www.leuragolfclub.com.au
SUMMARY:Medley Twilight 11 hole Comp from 2.30pm
DESCRIPTION:This competition is intended to be fun and for members and guests to have friendly\, social intercourse during and after the game.  \nConditions of Play \n\nTee off from 2:30 pm\, playing from white markers for men and red for women\nFee is $10 per player\nCompetition will be played over 11 holes from 1st to 11th\nCompetition will be conducted on the Stableford scoring system\nHandicaps are converted from your daily GA handicaps\nPrizes will be awarded for 1st ($30)\, 2nd ($20)\, 3rd ($15) and second last ($10)\nEach player will be allowed one Mulligan (allowed to replay a shot)\nOne club length preferred lies\, otherwise normal rules of golf apply\nA nearest-the-pin competition will be held on the 11th hole ($10)\nAll prizes are added to members’ cards\, visitors will be given vouchers.\n\nPoints \n\n1st\, 2nd\, and 3rd on each day will receive 4\, 3\, and 2 points respectively\, and each participant on the day will get one point for turning up (an incentive to turn up every week 😁).\nPoints will be recorded cumulatively and the player with the most points at the end of the season will receive a $150 credit on their membership card.\n\nPutting Competition – BE INNIT TO WINNIT! \n\nFollowing its success at the Christmas Twilight event\, the putting competition will resume every Friday\nEntry fee is $2 for two attempts\nHave a go while waiting for your tee time\nAnyone who sinks a putt wins $20 credit on their membership card\, visitors will receive a voucher.\n\nSocial Members and beginners are welcome and will be allocated a handicap of 36 for men and 45 for women. This provides an opportunity for non-golfers to learn and experience our beloved game and hopefully get hooked on it like the rest of we golf tragics. \nWe encourage players to stay on for a drink\, presentation of prizes and dinner in the Bistro after your game. \nPlease ring the Proshop (0452 246 011) to make a booking\, and also indicate whether you will be staying on for the presentation and dinner in the Bistro afterwards.
URL:https://www.leuragolfclub.com.au/event/twilight-comp-from-2-30pm/2023-03-17/
CATEGORIES:LGC other comp
END:VEVENT
BEGIN:VEVENT
DTSTART;VALUE=DATE:20230316
DTEND;VALUE=DATE:20230317
DTSTAMP:20260422T013045
CREATED:20230104T224506Z
LAST-MODIFIED:20230104T224700Z
UID:10003498-1678924800-1679011199@www.leuragolfclub.com.au
SUMMARY:Trivia @ 7pm
DESCRIPTION:
URL:https://www.leuragolfclub.com.au/event/trivia-7pm/2023-03-16/
CATEGORIES:LGC Function
END:VEVENT
BEGIN:VEVENT
DTSTART;VALUE=DATE:20230315
DTEND;VALUE=DATE:20230316
DTSTAMP:20260422T013045
CREATED:20220123T004010Z
LAST-MODIFIED:20221230T021827Z
UID:10003326-1678838400-1678924799@www.leuragolfclub.com.au
SUMMARY:Medley Stableford Singles + 2B Aggregate
DESCRIPTION:
URL:https://www.leuragolfclub.com.au/event/medley-stableford-singles-2b-aggregate-4/2023-03-15/
CATEGORIES:Wednesday Medley Comp
END:VEVENT
BEGIN:VEVENT
DTSTART;VALUE=DATE:20230314
DTEND;VALUE=DATE:20230315
DTSTAMP:20260422T013045
CREATED:20230204T232009Z
LAST-MODIFIED:20230301T183820Z
UID:10003547-1678752000-1678838399@www.leuragolfclub.com.au
SUMMARY:9 Hole Comp
DESCRIPTION:Women’s 9 hole comp in the morning and social play at other times.
URL:https://www.leuragolfclub.com.au/event/9-hole-comp/2023-03-14/
CATEGORIES:Tuesday Comp
END:VEVENT
BEGIN:VEVENT
DTSTART;VALUE=DATE:20230311
DTEND;VALUE=DATE:20230312
DTSTAMP:20260422T013045
CREATED:20220123T011417Z
LAST-MODIFIED:20221226T022321Z
UID:10003353-1678492800-1678579199@www.leuragolfclub.com.au
SUMMARY:Medley Stableford Singles + 2BBB
DESCRIPTION:
URL:https://www.leuragolfclub.com.au/event/medley-stableford-singles-2bbb-20-2023-01-14/2023-03-11/
CATEGORIES:Saturday Medley Comp
END:VEVENT
BEGIN:VEVENT
DTSTART;VALUE=DATE:20230310
DTEND;VALUE=DATE:20230311
DTSTAMP:20260422T013045
CREATED:20230104T202254Z
LAST-MODIFIED:20230204T232931Z
UID:10003484-1678406400-1678492799@www.leuragolfclub.com.au
SUMMARY:Medley Twilight 11 hole Comp from 2.30pm
DESCRIPTION:This competition is intended to be fun and for members and guests to have friendly\, social intercourse during and after the game.  \nConditions of Play \n\nTee off from 2:30 pm\, playing from white markers for men and red for women\nFee is $10 per player\nCompetition will be played over 11 holes from 1st to 11th\nCompetition will be conducted on the Stableford scoring system\nHandicaps are converted from your daily GA handicaps\nPrizes will be awarded for 1st ($30)\, 2nd ($20)\, 3rd ($15) and second last ($10)\nEach player will be allowed one Mulligan (allowed to replay a shot)\nOne club length preferred lies\, otherwise normal rules of golf apply\nA nearest-the-pin competition will be held on the 11th hole ($10)\nAll prizes are added to members’ cards\, visitors will be given vouchers.\n\nPoints \n\n1st\, 2nd\, and 3rd on each day will receive 4\, 3\, and 2 points respectively\, and each participant on the day will get one point for turning up (an incentive to turn up every week 😁).\nPoints will be recorded cumulatively and the player with the most points at the end of the season will receive a $150 credit on their membership card.\n\nPutting Competition – BE INNIT TO WINNIT! \n\nFollowing its success at the Christmas Twilight event\, the putting competition will resume every Friday\nEntry fee is $2 for two attempts\nHave a go while waiting for your tee time\nAnyone who sinks a putt wins $20 credit on their membership card\, visitors will receive a voucher.\n\nSocial Members and beginners are welcome and will be allocated a handicap of 36 for men and 45 for women. This provides an opportunity for non-golfers to learn and experience our beloved game and hopefully get hooked on it like the rest of we golf tragics. \nWe encourage players to stay on for a drink\, presentation of prizes and dinner in the Bistro after your game. \nPlease ring the Proshop (0452 246 011) to make a booking\, and also indicate whether you will be staying on for the presentation and dinner in the Bistro afterwards.
URL:https://www.leuragolfclub.com.au/event/twilight-comp-from-2-30pm/2023-03-10/
CATEGORIES:LGC other comp
END:VEVENT
BEGIN:VEVENT
DTSTART;VALUE=DATE:20230309
DTEND;VALUE=DATE:20230310
DTSTAMP:20260422T013045
CREATED:20230104T224506Z
LAST-MODIFIED:20230104T224700Z
UID:10003497-1678320000-1678406399@www.leuragolfclub.com.au
SUMMARY:Trivia @ 7pm
DESCRIPTION:
URL:https://www.leuragolfclub.com.au/event/trivia-7pm/2023-03-09/
CATEGORIES:LGC Function
END:VEVENT
BEGIN:VEVENT
DTSTART;VALUE=DATE:20230307
DTEND;VALUE=DATE:20230308
DTSTAMP:20260422T013045
CREATED:20230204T232009Z
LAST-MODIFIED:20230301T183820Z
UID:10003546-1678147200-1678233599@www.leuragolfclub.com.au
SUMMARY:9 Hole Comp
DESCRIPTION:Women’s 9 hole comp in the morning and social play at other times.
URL:https://www.leuragolfclub.com.au/event/9-hole-comp/2023-03-07/
CATEGORIES:Tuesday Comp
END:VEVENT
BEGIN:VEVENT
DTSTART;VALUE=DATE:20230304
DTEND;VALUE=DATE:20230305
DTSTAMP:20260422T013045
CREATED:20221226T021250Z
LAST-MODIFIED:20221226T021250Z
UID:10003050-1677888000-1677974399@www.leuragolfclub.com.au
SUMMARY:Medley Stableford Singles (white tees)
DESCRIPTION:
URL:https://www.leuragolfclub.com.au/event/medley-stableford-singles-white-tees-6/2023-03-04/
CATEGORIES:Saturday Medley Comp
END:VEVENT
BEGIN:VEVENT
DTSTART;VALUE=DATE:20230304
DTEND;VALUE=DATE:20230305
DTSTAMP:20260422T013045
CREATED:20221226T021041Z
LAST-MODIFIED:20231221T222624Z
UID:10003025-1677888000-1677974399@www.leuragolfclub.com.au
SUMMARY:Men’s Monthly Medal + Medley Stroke
DESCRIPTION:Visitors welcome. Visitors can win the competition but not the Medal.
URL:https://www.leuragolfclub.com.au/event/mens-monthly-medal-medley-stroke-8-2023-02-04/2023-03-04/
CATEGORIES:Saturday Medley Comp
END:VEVENT
BEGIN:VEVENT
DTSTART;VALUE=DATE:20230303
DTEND;VALUE=DATE:20230304
DTSTAMP:20260422T013045
CREATED:20230104T202254Z
LAST-MODIFIED:20230204T232931Z
UID:10003483-1677801600-1677887999@www.leuragolfclub.com.au
SUMMARY:Medley Twilight 11 hole Comp from 2.30pm
DESCRIPTION:This competition is intended to be fun and for members and guests to have friendly\, social intercourse during and after the game.  \nConditions of Play \n\nTee off from 2:30 pm\, playing from white markers for men and red for women\nFee is $10 per player\nCompetition will be played over 11 holes from 1st to 11th\nCompetition will be conducted on the Stableford scoring system\nHandicaps are converted from your daily GA handicaps\nPrizes will be awarded for 1st ($30)\, 2nd ($20)\, 3rd ($15) and second last ($10)\nEach player will be allowed one Mulligan (allowed to replay a shot)\nOne club length preferred lies\, otherwise normal rules of golf apply\nA nearest-the-pin competition will be held on the 11th hole ($10)\nAll prizes are added to members’ cards\, visitors will be given vouchers.\n\nPoints \n\n1st\, 2nd\, and 3rd on each day will receive 4\, 3\, and 2 points respectively\, and each participant on the day will get one point for turning up (an incentive to turn up every week 😁).\nPoints will be recorded cumulatively and the player with the most points at the end of the season will receive a $150 credit on their membership card.\n\nPutting Competition – BE INNIT TO WINNIT! \n\nFollowing its success at the Christmas Twilight event\, the putting competition will resume every Friday\nEntry fee is $2 for two attempts\nHave a go while waiting for your tee time\nAnyone who sinks a putt wins $20 credit on their membership card\, visitors will receive a voucher.\n\nSocial Members and beginners are welcome and will be allocated a handicap of 36 for men and 45 for women. This provides an opportunity for non-golfers to learn and experience our beloved game and hopefully get hooked on it like the rest of we golf tragics. \nWe encourage players to stay on for a drink\, presentation of prizes and dinner in the Bistro after your game. \nPlease ring the Proshop (0452 246 011) to make a booking\, and also indicate whether you will be staying on for the presentation and dinner in the Bistro afterwards.
URL:https://www.leuragolfclub.com.au/event/twilight-comp-from-2-30pm/2023-03-03/
CATEGORIES:LGC other comp
END:VEVENT
BEGIN:VEVENT
DTSTART;VALUE=DATE:20230302
DTEND;VALUE=DATE:20230303
DTSTAMP:20260422T013045
CREATED:20230104T224506Z
LAST-MODIFIED:20230104T224700Z
UID:10003496-1677715200-1677801599@www.leuragolfclub.com.au
SUMMARY:Trivia @ 7pm
DESCRIPTION:
URL:https://www.leuragolfclub.com.au/event/trivia-7pm/2023-03-02/
CATEGORIES:LGC Function
END:VEVENT
BEGIN:VEVENT
DTSTART;VALUE=DATE:20230301
DTEND;VALUE=DATE:20230302
DTSTAMP:20260422T013045
CREATED:20211115T234200Z
LAST-MODIFIED:20221212T041308Z
UID:10003252-1677628800-1677715199@www.leuragolfclub.com.au
SUMMARY:Medley Stableford Singles + 2BBB
DESCRIPTION:
URL:https://www.leuragolfclub.com.au/event/medley-stableford-singles-2bbb-19/2023-03-01/
CATEGORIES:Wednesday Medley Comp
END:VEVENT
END:VCALENDAR