BEGIN:VCALENDAR
VERSION:2.0
PRODID:-//Leura Golf Club - ECPv6.13.2.1//NONSGML v1.0//EN
CALSCALE:GREGORIAN
METHOD:PUBLISH
X-WR-CALNAME:Leura Golf Club
X-ORIGINAL-URL:https://www.leuragolfclub.com.au
X-WR-CALDESC:Events for Leura Golf Club
REFRESH-INTERVAL;VALUE=DURATION:PT1H
X-Robots-Tag:noindex
X-PUBLISHED-TTL:PT1H
BEGIN:VTIMEZONE
TZID:Australia/Melbourne
BEGIN:STANDARD
TZOFFSETFROM:+1100
TZOFFSETTO:+1000
TZNAME:AEST
DTSTART:20200404T160000
END:STANDARD
BEGIN:DAYLIGHT
TZOFFSETFROM:+1000
TZOFFSETTO:+1100
TZNAME:AEDT
DTSTART:20201003T160000
END:DAYLIGHT
END:VTIMEZONE
BEGIN:VEVENT
DTSTART;VALUE=DATE:20200523
DTEND;VALUE=DATE:20200524
DTSTAMP:20260424T005143
CREATED:20200423T061803Z
LAST-MODIFIED:20200518T043357Z
UID:10002688-1590192000-1590278399@www.leuragolfclub.com.au
SUMMARY:Medley - Singles Stableford + 2B Aggregate
DESCRIPTION:
URL:https://www.leuragolfclub.com.au/event/medley-singles-stableford-2/
CATEGORIES:Saturday Medley Comp
END:VEVENT
BEGIN:VEVENT
DTSTART;VALUE=DATE:20200520
DTEND;VALUE=DATE:20200521
DTSTAMP:20260424T005143
CREATED:20200403T025946Z
LAST-MODIFIED:20200518T043306Z
UID:10002686-1589932800-1590019199@www.leuragolfclub.com.au
SUMMARY:Medley - Singles Stableford + 2BBB
DESCRIPTION:
URL:https://www.leuragolfclub.com.au/event/medley-singles-stableford-2bbb/
CATEGORIES:Wednesday Medley Comp
END:VEVENT
BEGIN:VEVENT
DTSTART;VALUE=DATE:20200519
DTEND;VALUE=DATE:20200520
DTSTAMP:20260424T005143
CREATED:20200606T064020Z
LAST-MODIFIED:20200628T010757Z
UID:10002714-1589846400-1589932799@www.leuragolfclub.com.au
SUMMARY:Tuesday Medley Comp
DESCRIPTION:All players welcome.
URL:https://www.leuragolfclub.com.au/event/tuesday-medley-comp-2020-06-25/2020-05-19/
END:VEVENT
BEGIN:VEVENT
DTSTART;VALUE=DATE:20200516
DTEND;VALUE=DATE:20200517
DTSTAMP:20260424T005143
CREATED:20191025T234041Z
LAST-MODIFIED:20200423T061451Z
UID:10002874-1589587200-1589673599@www.leuragolfclub.com.au
SUMMARY:Medley - Singles Par
DESCRIPTION:
URL:https://www.leuragolfclub.com.au/event/par-singles-2bbb-2020-05-16/
CATEGORIES:Saturday Medley Comp
END:VEVENT
BEGIN:VEVENT
DTSTART;VALUE=DATE:20200516
DTEND;VALUE=DATE:20200517
DTSTAMP:20260424T005143
CREATED:20180626T023936Z
LAST-MODIFIED:20180626T023936Z
UID:10002618-1589587200-1589673599@www.leuragolfclub.com.au
SUMMARY:Stableford + 2B Aggregate
DESCRIPTION:Medley competition – visitors welcome. \nComp closes at 4pm so please ensure that your tee time will allow you to finish in time.
URL:https://www.leuragolfclub.com.au/event/stableford-2b-aggregate/2020-05-16/
CATEGORIES:Saturday Medley Comp
END:VEVENT
BEGIN:VEVENT
DTSTART;VALUE=DATE:20200512
DTEND;VALUE=DATE:20200513
DTSTAMP:20260424T005143
CREATED:20200606T064020Z
LAST-MODIFIED:20200628T010757Z
UID:10002713-1589241600-1589327999@www.leuragolfclub.com.au
SUMMARY:Tuesday Medley Comp
DESCRIPTION:All players welcome.
URL:https://www.leuragolfclub.com.au/event/tuesday-medley-comp-2020-06-25/2020-05-12/
END:VEVENT
BEGIN:VEVENT
DTSTART;VALUE=DATE:20200509
DTEND;VALUE=DATE:20200510
DTSTAMP:20260424T005143
CREATED:20191025T230010Z
LAST-MODIFIED:20200423T061346Z
UID:10002852-1588982400-1589068799@www.leuragolfclub.com.au
SUMMARY:Medley - Singles Stableford
DESCRIPTION:Qualifying event for State ‘Let’s Play Ambrose”. This is a 2 Person Ambrose state championship.
URL:https://www.leuragolfclub.com.au/event/single-stableford-2bbb-2-2020-05-09/
CATEGORIES:Saturday Medley Comp
END:VEVENT
BEGIN:VEVENT
DTSTART;VALUE=DATE:20200505
DTEND;VALUE=DATE:20200506
DTSTAMP:20260424T005143
CREATED:20200606T064020Z
LAST-MODIFIED:20200628T010757Z
UID:10002712-1588636800-1588723199@www.leuragolfclub.com.au
SUMMARY:Tuesday Medley Comp
DESCRIPTION:All players welcome.
URL:https://www.leuragolfclub.com.au/event/tuesday-medley-comp-2020-06-25/2020-05-05/
END:VEVENT
BEGIN:VEVENT
DTSTART;VALUE=DATE:20200502
DTEND;VALUE=DATE:20200503
DTSTAMP:20260424T005143
CREATED:20191025T232909Z
LAST-MODIFIED:20200423T061220Z
UID:10002862-1588377600-1588463999@www.leuragolfclub.com.au
SUMMARY:Monthly Medal (men) + Medley Stroke
DESCRIPTION:
URL:https://www.leuragolfclub.com.au/event/monthly-medal-2-2020-05-02/
CATEGORIES:Saturday Medley Comp
END:VEVENT
BEGIN:VEVENT
DTSTART;VALUE=DATE:20200429
DTEND;VALUE=DATE:20200430
DTSTAMP:20260424T005143
CREATED:20191025T230854Z
LAST-MODIFIED:20200403T024003Z
UID:10002515-1588118400-1588204799@www.leuragolfclub.com.au
SUMMARY:Medley - Singles Stableford
DESCRIPTION:
URL:https://www.leuragolfclub.com.au/event/irish-foursomes-4/
CATEGORIES:Wednesday Medley Comp
END:VEVENT
BEGIN:VEVENT
DTSTART;VALUE=DATE:20200428
DTEND;VALUE=DATE:20200429
DTSTAMP:20260424T005143
CREATED:20200606T064020Z
LAST-MODIFIED:20200628T010757Z
UID:10002711-1588032000-1588118399@www.leuragolfclub.com.au
SUMMARY:Tuesday Medley Comp
DESCRIPTION:All players welcome.
URL:https://www.leuragolfclub.com.au/event/tuesday-medley-comp-2020-06-25/2020-04-28/
END:VEVENT
BEGIN:VEVENT
DTSTART;VALUE=DATE:20200425
DTEND;VALUE=DATE:20200426
DTSTAMP:20260424T005143
CREATED:20191025T234511Z
LAST-MODIFIED:20200403T023821Z
UID:10002888-1587772800-1587859199@www.leuragolfclub.com.au
SUMMARY:Medley -Singles Stableford
DESCRIPTION:
URL:https://www.leuragolfclub.com.au/event/single-stableford-2b-multiplier-2-2020-04-25/
CATEGORIES:Saturday Medley Comp
END:VEVENT
BEGIN:VEVENT
DTSTART;VALUE=DATE:20200422
DTEND;VALUE=DATE:20200423
DTSTAMP:20260424T005143
CREATED:20191025T230132Z
LAST-MODIFIED:20200403T023556Z
UID:10002855-1587513600-1587599999@www.leuragolfclub.com.au
SUMMARY:Medley - Singles Stableford
DESCRIPTION:
URL:https://www.leuragolfclub.com.au/event/single-stableford-2b-multiplier-2020-04-22/
CATEGORIES:Wednesday Medley Comp
END:VEVENT
BEGIN:VEVENT
DTSTART;VALUE=DATE:20200421
DTEND;VALUE=DATE:20200422
DTSTAMP:20260424T005143
CREATED:20200606T064020Z
LAST-MODIFIED:20200628T010757Z
UID:10002710-1587427200-1587513599@www.leuragolfclub.com.au
SUMMARY:Tuesday Medley Comp
DESCRIPTION:All players welcome.
URL:https://www.leuragolfclub.com.au/event/tuesday-medley-comp-2020-06-25/2020-04-21/
END:VEVENT
BEGIN:VEVENT
DTSTART;VALUE=DATE:20200418
DTEND;VALUE=DATE:20200419
DTSTAMP:20260424T005143
CREATED:20191025T234041Z
LAST-MODIFIED:20200403T023353Z
UID:10002873-1587168000-1587254399@www.leuragolfclub.com.au
SUMMARY:Medley - Singles Par
DESCRIPTION:
URL:https://www.leuragolfclub.com.au/event/par-singles-2bbb-2020-04-18/
CATEGORIES:Saturday Medley Comp
END:VEVENT
BEGIN:VEVENT
DTSTART;VALUE=DATE:20200418
DTEND;VALUE=DATE:20200419
DTSTAMP:20260424T005143
CREATED:20180626T023936Z
LAST-MODIFIED:20180626T023936Z
UID:10002617-1587168000-1587254399@www.leuragolfclub.com.au
SUMMARY:Stableford + 2B Aggregate
DESCRIPTION:Medley competition – visitors welcome. \nComp closes at 4pm so please ensure that your tee time will allow you to finish in time.
URL:https://www.leuragolfclub.com.au/event/stableford-2b-aggregate/2020-04-18/
CATEGORIES:Saturday Medley Comp
END:VEVENT
BEGIN:VEVENT
DTSTART;VALUE=DATE:20200415
DTEND;VALUE=DATE:20200416
DTSTAMP:20260424T005143
CREATED:20191025T225521Z
LAST-MODIFIED:20200403T025746Z
UID:10002495-1586908800-1586995199@www.leuragolfclub.com.au
SUMMARY:Medley - Singles Stroke
DESCRIPTION:
URL:https://www.leuragolfclub.com.au/event/single-stableford-2bbb-2020-04-01-2020-04-15/2020-04-15/
CATEGORIES:Wednesday Medley Comp
END:VEVENT
BEGIN:VEVENT
DTSTART;VALUE=DATE:20200414
DTEND;VALUE=DATE:20200415
DTSTAMP:20260424T005143
CREATED:20200606T064020Z
LAST-MODIFIED:20200628T010757Z
UID:10002709-1586822400-1586908799@www.leuragolfclub.com.au
SUMMARY:Tuesday Medley Comp
DESCRIPTION:All players welcome.
URL:https://www.leuragolfclub.com.au/event/tuesday-medley-comp-2020-06-25/2020-04-14/
END:VEVENT
BEGIN:VEVENT
DTSTART;TZID=Australia/Melbourne:20200412T080000
DTEND;TZID=Australia/Melbourne:20200412T170000
DTSTAMP:20260424T005143
CREATED:20191026T001846Z
LAST-MODIFIED:20191026T001846Z
UID:10002891-1586678400-1586710800@www.leuragolfclub.com.au
SUMMARY:Easter Day
DESCRIPTION:
URL:https://www.leuragolfclub.com.au/event/easter-day-2/
END:VEVENT
BEGIN:VEVENT
DTSTART;VALUE=DATE:20200411
DTEND;VALUE=DATE:20200412
DTSTAMP:20260424T005143
CREATED:20200403T023049Z
LAST-MODIFIED:20200403T023159Z
UID:10002684-1586563200-1586649599@www.leuragolfclub.com.au
SUMMARY:Medley - Singles Stableford
DESCRIPTION:
URL:https://www.leuragolfclub.com.au/event/medley-singles-stableford/
CATEGORIES:Saturday Medley Comp
END:VEVENT
BEGIN:VEVENT
DTSTART;VALUE=DATE:20200410
DTEND;VALUE=DATE:20200411
DTSTAMP:20260424T005143
CREATED:20191026T001617Z
LAST-MODIFIED:20191026T001617Z
UID:10002890-1586476800-1586563199@www.leuragolfclub.com.au
SUMMARY:Good Friday
DESCRIPTION:
URL:https://www.leuragolfclub.com.au/event/good-friday-2-2/
CATEGORIES:Other
END:VEVENT
BEGIN:VEVENT
DTSTART;VALUE=DATE:20200408
DTEND;VALUE=DATE:20200409
DTSTAMP:20260424T005143
CREATED:20191025T225822Z
LAST-MODIFIED:20200403T024934Z
UID:10002510-1586304000-1586390399@www.leuragolfclub.com.au
SUMMARY:Medley - Singles Stableford
DESCRIPTION:
URL:https://www.leuragolfclub.com.au/event/single-stableford-2b-aggregate-2020-04-08/
CATEGORIES:Wednesday Medley Comp
END:VEVENT
BEGIN:VEVENT
DTSTART;VALUE=DATE:20200407
DTEND;VALUE=DATE:20200408
DTSTAMP:20260424T005143
CREATED:20200606T064020Z
LAST-MODIFIED:20200628T010757Z
UID:10002708-1586217600-1586303999@www.leuragolfclub.com.au
SUMMARY:Tuesday Medley Comp
DESCRIPTION:All players welcome.
URL:https://www.leuragolfclub.com.au/event/tuesday-medley-comp-2020-06-25/2020-04-07/
END:VEVENT
BEGIN:VEVENT
DTSTART;VALUE=DATE:20200404
DTEND;VALUE=DATE:20200405
DTSTAMP:20260424T005143
CREATED:20191025T232909Z
LAST-MODIFIED:20200403T020955Z
UID:10002861-1585958400-1586044799@www.leuragolfclub.com.au
SUMMARY:Monthly Medal (Men) + Medley Stroke
DESCRIPTION:Men’s Medal event. Visitors are welcome\, can win the event but not the medal.
URL:https://www.leuragolfclub.com.au/event/monthly-medal-2-2020-04-04/
CATEGORIES:Saturday Medley Comp
END:VEVENT
BEGIN:VEVENT
DTSTART;VALUE=DATE:20200401
DTEND;VALUE=DATE:20200402
DTSTAMP:20260424T005143
CREATED:20231120T001207Z
LAST-MODIFIED:20231120T001207Z
UID:10002494-1585699200-1585785599@www.leuragolfclub.com.au
SUMMARY:Single Stableford + 2BBB
DESCRIPTION:
URL:https://www.leuragolfclub.com.au/event/single-stableford-2bbb-2020-01-15/2020-04-01/
CATEGORIES:Wednesday Medley Comp
END:VEVENT
BEGIN:VEVENT
DTSTART;VALUE=DATE:20200401
DTEND;VALUE=DATE:20200402
DTSTAMP:20260424T005143
CREATED:20191025T225521Z
LAST-MODIFIED:20200403T025522Z
UID:10002488-1585699200-1585785599@www.leuragolfclub.com.au
SUMMARY:Medley - Singles Par
DESCRIPTION:
URL:https://www.leuragolfclub.com.au/event/single-stableford-2bbb-2020-04-01/
CATEGORIES:Wednesday Medley Comp
END:VEVENT
BEGIN:VEVENT
DTSTART;VALUE=DATE:20200331
DTEND;VALUE=DATE:20200401
DTSTAMP:20260424T005143
CREATED:20200606T064020Z
LAST-MODIFIED:20200628T010757Z
UID:10002707-1585612800-1585699199@www.leuragolfclub.com.au
SUMMARY:Tuesday Medley Comp
DESCRIPTION:All players welcome.
URL:https://www.leuragolfclub.com.au/event/tuesday-medley-comp-2020-06-25/2020-03-31/
END:VEVENT
BEGIN:VEVENT
DTSTART;VALUE=DATE:20200328
DTEND;VALUE=DATE:20200329
DTSTAMP:20260424T005143
CREATED:20200311T050148Z
LAST-MODIFIED:20200311T050339Z
UID:10002682-1585353600-1585439999@www.leuragolfclub.com.au
SUMMARY:Single Stableford + 2B Aggregate
DESCRIPTION:
URL:https://www.leuragolfclub.com.au/event/single-stableford-2b-aggregate-3/
CATEGORIES:Saturday Medley Comp
END:VEVENT
BEGIN:VEVENT
DTSTART;VALUE=DATE:20200324
DTEND;VALUE=DATE:20200325
DTSTAMP:20260424T005143
CREATED:20200606T064020Z
LAST-MODIFIED:20200628T010757Z
UID:10002706-1585008000-1585094399@www.leuragolfclub.com.au
SUMMARY:Tuesday Medley Comp
DESCRIPTION:All players welcome.
URL:https://www.leuragolfclub.com.au/event/tuesday-medley-comp-2020-06-25/2020-03-24/
END:VEVENT
BEGIN:VEVENT
DTSTART;TZID=Australia/Melbourne:20200321T080000
DTEND;TZID=Australia/Melbourne:20200321T170000
DTSTAMP:20260424T005143
CREATED:20200311T050051Z
LAST-MODIFIED:20200311T050435Z
UID:10002923-1584777600-1584810000@www.leuragolfclub.com.au
SUMMARY:Par Singles + 2BBB
DESCRIPTION:
URL:https://www.leuragolfclub.com.au/event/par-singles-2bbb-2/
CATEGORIES:Saturday Medley Comp
END:VEVENT
END:VCALENDAR