BEGIN:VCALENDAR
VERSION:2.0
PRODID:-//Leura Golf Club - ECPv6.13.2.1//NONSGML v1.0//EN
CALSCALE:GREGORIAN
METHOD:PUBLISH
X-WR-CALNAME:Leura Golf Club
X-ORIGINAL-URL:https://www.leuragolfclub.com.au
X-WR-CALDESC:Events for Leura Golf Club
REFRESH-INTERVAL;VALUE=DURATION:PT1H
X-Robots-Tag:noindex
X-PUBLISHED-TTL:PT1H
BEGIN:VTIMEZONE
TZID:Australia/Melbourne
BEGIN:STANDARD
TZOFFSETFROM:+1100
TZOFFSETTO:+1000
TZNAME:AEST
DTSTART:20200404T160000
END:STANDARD
BEGIN:DAYLIGHT
TZOFFSETFROM:+1000
TZOFFSETTO:+1100
TZNAME:AEDT
DTSTART:20201003T160000
END:DAYLIGHT
END:VTIMEZONE
BEGIN:VEVENT
DTSTART;VALUE=DATE:20200909
DTEND;VALUE=DATE:20200910
DTSTAMP:20260423T194832
CREATED:20191025T225822Z
LAST-MODIFIED:20200528T005012Z
UID:10002844-1599609600-1599695999@www.leuragolfclub.com.au
SUMMARY:Medley - Par Singles + 2BBB
DESCRIPTION:
URL:https://www.leuragolfclub.com.au/event/single-stableford-2b-aggregate-2020-04-08-2020-06-10/2020-09-09/
CATEGORIES:Wednesday Medley Comp
END:VEVENT
BEGIN:VEVENT
DTSTART;VALUE=DATE:20200908
DTEND;VALUE=DATE:20200909
DTSTAMP:20260423T194832
CREATED:20200628T011222Z
LAST-MODIFIED:20200628T011311Z
UID:10002727-1599523200-1599609599@www.leuragolfclub.com.au
SUMMARY:Tuesday Medley Comp
DESCRIPTION:
URL:https://www.leuragolfclub.com.au/event/tuesday-medley-comp/2020-09-08/
END:VEVENT
BEGIN:VEVENT
DTSTART;VALUE=DATE:20200905
DTEND;VALUE=DATE:20200906
DTSTAMP:20260423T194832
CREATED:20200702T045905Z
LAST-MODIFIED:20200822T041121Z
UID:10002929-1599264000-1599350399@www.leuragolfclub.com.au
SUMMARY:Men's Club Championships - Rd 2 (Medley stroke in conjunction)
DESCRIPTION:CONDITIONS OF PLAY – CLUB CHAMPIONSHIPS (MEN’S) 2020\nENTRANCE FEE $60\, PAYABLE PRIOR TO ROUND 1\n\nThe competition will be played according to the ‘Rules of Golf’ including applicable Local Rules. Competitors must be members of Leura Golf Club and hold a Golf Australia handicap. In addition\, members’ attention is drawn to By-Law 7 (see below) regarding eligibility.\nThe competition will consist of three rounds of 18 holes of stroke play from the blue tees on Saturdays\, 22\, 29 August and 5 September 2020 with the spare Saturday being 12 September. Whether the ball will be played as it lies or whether there will be preferred lies will be decided closer to the day. Earliest tee time shall be 7.00 am\, the latest 12.30 pm.\nFor Round 3 all players still participating in the championships will play in groups of three commencing at 8.30 am\, first the C graders\, then B graders\, then A graders. Groups will be decided by the Match Committee.\nAlso for Round 3; those not playing in the championships but playing in the daily medley stroke competition (refer paragraph 11) must hit off not later than 8.12 am.\nAll three rounds will be played off Daily Handicaps applicable at the commencement of Round 1.\nThe competition will be played in three grades\, namely:\n\nA grade – Daily handicap of 12 or less\nB grade – Daily handicap higher than 12 to less than 20\nC grade – Daily handicap of 20 to 36\n\n\nThe championship winner in each grade will be the competitor who returns the best aggregate scratch score over the three rounds. There will also be a net winner in each grade. In conjunction there will be a Seniors’ championship (aged 60 or over at commencement of competition) which will be a scratch event only. There will be prizes for the Runners-up.\nIn the event of a tie winners will be decided:\n\nIn the case of the best aggregate scratch score for A\, B and C grades championships\, by a sudden death playoff. The tied participants shall play one extra hole at a time with those still tied for the lowest score moving on to the next hole until a winner has been determined. The playoff holes shall be holes 1\, 11\,12 and 18\, repeated as necessary.\nIn all other cases\, including the Seniors’ championship\, by count backs as applied by Golf Link.\n\n\nAll disputes must be in writing and will be decided by the Match Committee. Decisions will be final.\nIf in the opinion of the Match committee\, in conjunction with the Greenkeeper\, the course should be closed due to inclement weather\, the round affected and subsequent rounds shall be rescheduled to the Saturdays following. If more than one round cannot be played the championships shall be reduced to two rounds. If necessary\, rounds to make up the two rounds shall be scheduled by the Match Committee.\nOn the three original Saturdays and\, if used\, the spare Saturday there will be a daily medley stroke competition for which competitions current on the day handicaps will be applicable.\n\nMATCH COMMITTEE – LEURA GOLF CLUB \nBy-law 7   \nCLUB CHAMPIONSHIP ELIGIBILITY:\nTo be eligible to play in any Club Championship event\, a Member shall have completed at least two (2) monthly medal rounds or at least five (5) competition rounds at Leura Golf Club in the twelve months immediately preceding the Club Championships. \nNOTE: Due to COVID-19 restrictions it is not now possible to set a date for the Major Events Presentation evening. The formal presentation to championship winners shall be delayed until such time as a date can be set. \nLOCAL RULES –CLUB CHAMPIONSHIPS (MEN’S) – 2020\nREFERENCE – RULES OF GOLF – 2019 \nLOCAL RULES\nThe LGC Local Rules apply to the Club Championships except as noted\, expanded and/or clarified below. \nIMMOVABLE OBSTRUCTIONS – Rule 16\nIncludes the artificial surfaces and sides of roads and paths including gravel paths. \nIMMOVABLE OBSTRUCTIONS CLOSE TO PUTTING GREEN  \nSPRINKLER HEADS\nRelief may be taken under Rule 16.1b if a sprinkler head or other immovable obstruction is on the line of play and is within two club lengths of the putting green\, and within two club lengths of the ball provided that there will be no relief if the line of play is clearly unreasonable. \n12TH HOLE\nThe C graders’ 12th hole local rule shall not apply for the days upon which the championships are being played. (That is the local rule shall not be applicable for C graders playing in the championships nor in the daily medley stroke competition). \nDROP ZONE\nThere is a clearly defined drop zone alongside\, and for play to\, the 6th green (left hand side) for relief from the nearby designated hedge area. \nSLOW PLAY – Rule 5.6a\nSlow play penalties will be imposed. \nGeneral penalty for breach of Local Rules – 2 strokes. \nMATCH COMMITTEE.
URL:https://www.leuragolfclub.com.au/event/mens-club-championships-rd-2-medley-stroke-in-conjunction/
CATEGORIES:LGC Major Events
END:VEVENT
BEGIN:VEVENT
DTSTART;VALUE=DATE:20200905
DTEND;VALUE=DATE:20200906
DTSTAMP:20260423T194832
CREATED:20191025T232909Z
LAST-MODIFIED:20200528T005701Z
UID:10002866-1599264000-1599350399@www.leuragolfclub.com.au
SUMMARY:Monthly Medal (men) + Medley Stroke
DESCRIPTION:Men’s Medal event. Visitors and women are welcome\, can win the event but not the medal.
URL:https://www.leuragolfclub.com.au/event/monthly-medal-2-2020-06-06/2020-09-05/
CATEGORIES:Saturday Medley Comp
END:VEVENT
BEGIN:VEVENT
DTSTART;VALUE=DATE:20200902
DTEND;VALUE=DATE:20200903
DTSTAMP:20260423T194832
CREATED:20191025T225521Z
LAST-MODIFIED:20200528T004837Z
UID:10002505-1599004800-1599091199@www.leuragolfclub.com.au
SUMMARY:Medley - Stableford Singles + 2BBB
DESCRIPTION:
URL:https://www.leuragolfclub.com.au/event/single-stableford-2bbb-2020-04-01-2020-06-03/2020-09-02/
CATEGORIES:Wednesday Medley Comp
END:VEVENT
BEGIN:VEVENT
DTSTART;VALUE=DATE:20200901
DTEND;VALUE=DATE:20200902
DTSTAMP:20260423T194832
CREATED:20200628T011222Z
LAST-MODIFIED:20200628T011311Z
UID:10002726-1598918400-1599004799@www.leuragolfclub.com.au
SUMMARY:Tuesday Medley Comp
DESCRIPTION:
URL:https://www.leuragolfclub.com.au/event/tuesday-medley-comp/2020-09-01/
END:VEVENT
BEGIN:VEVENT
DTSTART;VALUE=DATE:20200829
DTEND;VALUE=DATE:20200830
DTSTAMP:20260423T194832
CREATED:20200702T045543Z
LAST-MODIFIED:20200822T041159Z
UID:10002927-1598659200-1598745599@www.leuragolfclub.com.au
SUMMARY:Men's Club Championships - Rd 1 (Medley stroke in conjunction)
DESCRIPTION:CONDITIONS OF PLAY – CLUB CHAMPIONSHIPS (MEN’S) 2020\nENTRANCE FEE $60\, PAYABLE PRIOR TO ROUND 1\n\nThe competition will be played according to the ‘Rules of Golf’ including applicable Local Rules. Competitors must be members of Leura Golf Club and hold a Golf Australia handicap. In addition\, members’ attention is drawn to By-Law 7 (see below) regarding eligibility.\nThe competition will consist of three rounds of 18 holes of stroke play from the blue tees on Saturdays\, 22\, 29 August and 5 September 2020 with the spare Saturday being 12 September. Whether the ball will be played as it lies or whether there will be preferred lies will be decided closer to the day. Earliest tee time shall be 7.00 am\, the latest 12.30 pm.\nFor Round 3 all players still participating in the championships will play in groups of three commencing at 8.30 am\, first the C graders\, then B graders\, then A graders. Groups will be decided by the Match Committee.\nAlso for Round 3; those not playing in the championships but playing in the daily medley stroke competition (refer paragraph11) must hit off not later than 8.12 am.\nAll three rounds will be played off Daily Handicaps applicable at the commencement of Round 1.\nThe competition will be played in three grades\, namely:\n\nA grade – Daily handicap of 12 or less\nB grade – Daily handicap higher than 12 to less than 20\nC grade – Daily handicap of 20 to 36\n\n\nThe championship winner in each grade will be the competitor who returns the best aggregate scratch score over the three rounds. There will also be a net winner in each grade. In conjunction there will be a Seniors’ championship (aged 60 or over at commencement of competition) which will be a scratch event only. There will be prizes for the Runners-up.\nIn the event of a tie winners will be decided:\n\nIn the case of the best aggregate scratch score for A\, B and C grades championships\, by a sudden death playoff. The tied participants shall play one extra hole at a time with those still tied for the lowest score moving on to the next hole until a winner has been determined. The playoff holes shall be holes 1\, 11\,12 and 18\, repeated as necessary.\nIn all other cases\, including the Seniors’ championship\, by count backs as applied by Golf Link.\n\n\nAll disputes must be in writing and will be decided by the Match Committee. Decisions will be final.\nIf in the opinion of the Match committee\, in conjunction with the Greenkeeper\, the course should be closed due to inclement weather\, the round affected and subsequent rounds shall be rescheduled to the Saturdays following. If more than one round cannot be played the championships shall be reduced to two rounds. If necessary\, rounds to make up the two rounds shall be scheduled by the Match Committee.\nOn the three original Saturdays and\, if used\, the spare Saturday there will be a daily medley stroke competition for which competitions current on the day handicaps will be applicable.\n\nMATCH COMMITTEE – LEURA GOLF CLUB \nBy-law 7   \nCLUB CHAMPIONSHIP ELIGIBILITY:\nTo be eligible to play in any Club Championship event\, a Member shall have completed at least two (2) monthly medal rounds or at least five (5) competition rounds at Leura Golf Club in the twelve months immediately preceding the Club Championships. \nNOTE: Due to COVID-19 restrictions it is not now possible to set a date for the Major Events Presentation evening. The formal presentation to championship winners shall be delayed until such time as a date can be set. \nLOCAL RULES –CLUB CHAMPIONSHIPS (MEN’S) – 2020\nREFERENCE – RULES OF GOLF – 2019 \nLOCAL RULES\nThe LGC Local Rules apply to the Club Championships except as noted\, expanded and/or clarified below. \nIMMOVABLE OBSTRUCTIONS – Rule 16\nIncludes the artificial surfaces and sides of roads and paths including gravel paths. \nIMMOVABLE OBSTRUCTIONS CLOSE TO PUTTING GREEN  \nSPRINKLER HEADS\nRelief may be taken under Rule 16.1b if a sprinkler head or other immovable obstruction is on the line of play and is within two club lengths of the putting green\, and within two club lengths of the ball provided that there will be no relief if the line of play is clearly unreasonable. \n12TH HOLE\nThe C graders’ 12th hole local rule shall not apply for the days upon which the championships are being played. (That is the local rule shall not be applicable for C graders playing in the championships nor in the daily medley stroke competition). \nDROP ZONE\nThere is a clearly defined drop zone alongside\, and for play to\, the 6th green (left hand side) for relief from the nearby designated hedge area. \nSLOW PLAY – Rule 5.6a\nSlow play penalties will be imposed. \nGeneral penalty for breach of Local Rules – 2 strokes. \nMATCH COMMITTEE.
URL:https://www.leuragolfclub.com.au/event/mens-club-championships-rd-1/
CATEGORIES:LGC Major Events
END:VEVENT
BEGIN:VEVENT
DTSTART;VALUE=DATE:20200826
DTEND;VALUE=DATE:20200827
DTSTAMP:20260423T194832
CREATED:20191025T230132Z
LAST-MODIFIED:20200528T010932Z
UID:10002859-1598400000-1598486399@www.leuragolfclub.com.au
SUMMARY:Medley - Stableford Singles + 2B Multiplier
DESCRIPTION:
URL:https://www.leuragolfclub.com.au/event/single-stableford-2b-multiplier-2020-04-22-2020-06-24-2020-07-22/2020-08-26/
CATEGORIES:Wednesday Medley Comp
END:VEVENT
BEGIN:VEVENT
DTSTART;VALUE=DATE:20200825
DTEND;VALUE=DATE:20200826
DTSTAMP:20260423T194832
CREATED:20200628T011222Z
LAST-MODIFIED:20200628T011311Z
UID:10002725-1598313600-1598399999@www.leuragolfclub.com.au
SUMMARY:Tuesday Medley Comp
DESCRIPTION:
URL:https://www.leuragolfclub.com.au/event/tuesday-medley-comp/2020-08-25/
END:VEVENT
BEGIN:VEVENT
DTSTART;VALUE=DATE:20200823
DTEND;VALUE=DATE:20200824
DTSTAMP:20260423T194832
CREATED:20200727T060700Z
LAST-MODIFIED:20200816T025315Z
UID:10002954-1598140800-1598227199@www.leuragolfclub.com.au
SUMMARY:2 Person Keno Mixed Ambrose Qualifier
DESCRIPTION:Qualifying event for the Keno Ambrose 2 Person Mixed Regional Final
URL:https://www.leuragolfclub.com.au/event/mixed-keno-qualifier/
CATEGORIES:LGC other comp
END:VEVENT
BEGIN:VEVENT
DTSTART;TZID=Australia/Melbourne:20200822T080000
DTEND;TZID=Australia/Melbourne:20200822T170000
DTSTAMP:20260423T194832
CREATED:20200822T041353Z
LAST-MODIFIED:20200822T041502Z
UID:10002956-1598083200-1598115600@www.leuragolfclub.com.au
SUMMARY:Medley - Stableford Singles
DESCRIPTION:
URL:https://www.leuragolfclub.com.au/event/medley-stableford-singles/
CATEGORIES:Saturday Medley Comp
END:VEVENT
BEGIN:VEVENT
DTSTART;VALUE=DATE:20200819
DTEND;VALUE=DATE:20200820
DTSTAMP:20260423T194832
CREATED:20191025T225521Z
LAST-MODIFIED:20200702T045309Z
UID:10002501-1597795200-1597881599@www.leuragolfclub.com.au
SUMMARY:Medley - Stableford Singles + 2B Aggregate
DESCRIPTION:
URL:https://www.leuragolfclub.com.au/event/single-stableford-2bbb-2020-04-01-2020-04-15-2020-08-19/
CATEGORIES:Wednesday Medley Comp
END:VEVENT
BEGIN:VEVENT
DTSTART;VALUE=DATE:20200818
DTEND;VALUE=DATE:20200819
DTSTAMP:20260423T194832
CREATED:20200628T011222Z
LAST-MODIFIED:20200628T011311Z
UID:10002724-1597708800-1597795199@www.leuragolfclub.com.au
SUMMARY:Tuesday Medley Comp
DESCRIPTION:
URL:https://www.leuragolfclub.com.au/event/tuesday-medley-comp/2020-08-18/
END:VEVENT
BEGIN:VEVENT
DTSTART;VALUE=DATE:20200815
DTEND;VALUE=DATE:20200816
DTSTAMP:20260423T194832
CREATED:20191025T234041Z
LAST-MODIFIED:20200822T041445Z
UID:10002876-1597449600-1597535999@www.leuragolfclub.com.au
SUMMARY:Medley - Stableford Singles + 2BBB
DESCRIPTION:
URL:https://www.leuragolfclub.com.au/event/medley-stableford-singles-2bbb-4/
CATEGORIES:Saturday Medley Comp
END:VEVENT
BEGIN:VEVENT
DTSTART;VALUE=DATE:20200815
DTEND;VALUE=DATE:20200816
DTSTAMP:20260423T194832
CREATED:20180626T023936Z
LAST-MODIFIED:20180626T023936Z
UID:10002621-1597449600-1597535999@www.leuragolfclub.com.au
SUMMARY:Stableford + 2B Aggregate
DESCRIPTION:Medley competition – visitors welcome. \nComp closes at 4pm so please ensure that your tee time will allow you to finish in time.
URL:https://www.leuragolfclub.com.au/event/stableford-2b-aggregate/2020-08-15/
CATEGORIES:Saturday Medley Comp
END:VEVENT
BEGIN:VEVENT
DTSTART;VALUE=DATE:20200812
DTEND;VALUE=DATE:20200813
DTSTAMP:20260423T194832
CREATED:20191025T225822Z
LAST-MODIFIED:20200528T005012Z
UID:10002843-1597190400-1597276799@www.leuragolfclub.com.au
SUMMARY:Medley - Par Singles + 2BBB
DESCRIPTION:
URL:https://www.leuragolfclub.com.au/event/single-stableford-2b-aggregate-2020-04-08-2020-06-10/2020-08-12/
CATEGORIES:Wednesday Medley Comp
END:VEVENT
BEGIN:VEVENT
DTSTART;VALUE=DATE:20200811
DTEND;VALUE=DATE:20200812
DTSTAMP:20260423T194832
CREATED:20200628T011222Z
LAST-MODIFIED:20200628T011311Z
UID:10002723-1597104000-1597190399@www.leuragolfclub.com.au
SUMMARY:Tuesday Medley Comp
DESCRIPTION:
URL:https://www.leuragolfclub.com.au/event/tuesday-medley-comp/2020-08-11/
END:VEVENT
BEGIN:VEVENT
DTSTART;VALUE=DATE:20200808
DTEND;VALUE=DATE:20200809
DTSTAMP:20260423T194832
CREATED:20200702T044846Z
LAST-MODIFIED:20200702T044919Z
UID:10002925-1596844800-1596931199@www.leuragolfclub.com.au
SUMMARY:Medley - Stableford Singles + 2BBB
DESCRIPTION:
URL:https://www.leuragolfclub.com.au/event/medley-stableford-singles-2bbb-2/
CATEGORIES:Saturday Medley Comp
END:VEVENT
BEGIN:VEVENT
DTSTART;VALUE=DATE:20200804
DTEND;VALUE=DATE:20200805
DTSTAMP:20260423T194832
CREATED:20200628T011222Z
LAST-MODIFIED:20200628T011311Z
UID:10002722-1596499200-1596585599@www.leuragolfclub.com.au
SUMMARY:Tuesday Medley Comp
DESCRIPTION:
URL:https://www.leuragolfclub.com.au/event/tuesday-medley-comp/2020-08-04/
END:VEVENT
BEGIN:VEVENT
DTSTART;VALUE=DATE:20200801
DTEND;VALUE=DATE:20200802
DTSTAMP:20260423T194832
CREATED:20191025T232909Z
LAST-MODIFIED:20200528T005701Z
UID:10002865-1596240000-1596326399@www.leuragolfclub.com.au
SUMMARY:Monthly Medal (men) + Medley Stroke
DESCRIPTION:Men’s Medal event. Visitors and women are welcome\, can win the event but not the medal.
URL:https://www.leuragolfclub.com.au/event/monthly-medal-2-2020-06-06/2020-08-01/
CATEGORIES:Saturday Medley Comp
END:VEVENT
BEGIN:VEVENT
DTSTART;VALUE=DATE:20200729
DTEND;VALUE=DATE:20200730
DTSTAMP:20260423T194832
CREATED:20191025T231106Z
LAST-MODIFIED:20200702T042039Z
UID:10002516-1595980800-1596067199@www.leuragolfclub.com.au
SUMMARY:Medley - Stableford Singles + 2B Aggregate
DESCRIPTION:
URL:https://www.leuragolfclub.com.au/event/medley-stableford-singles-2b-aggregate/
CATEGORIES:Wednesday Medley Comp
END:VEVENT
BEGIN:VEVENT
DTSTART;VALUE=DATE:20200728
DTEND;VALUE=DATE:20200729
DTSTAMP:20260423T194832
CREATED:20200628T011222Z
LAST-MODIFIED:20200628T011311Z
UID:10002721-1595894400-1595980799@www.leuragolfclub.com.au
SUMMARY:Tuesday Medley Comp
DESCRIPTION:
URL:https://www.leuragolfclub.com.au/event/tuesday-medley-comp/2020-07-28/
END:VEVENT
BEGIN:VEVENT
DTSTART;VALUE=DATE:20200725
DTEND;VALUE=DATE:20200726
DTSTAMP:20260423T194832
CREATED:20191025T234244Z
LAST-MODIFIED:20200702T043440Z
UID:10002883-1595635200-1595721599@www.leuragolfclub.com.au
SUMMARY:Keno Men's 2 Ball Ambrose (Medley Ambrose in conjunction)
DESCRIPTION:Qualifying round for Regional Finals.
URL:https://www.leuragolfclub.com.au/event/single-stableford-2b-aggregate-2-2020-07-25/
CATEGORIES:LGC Major Events,Saturday Medley Comp
END:VEVENT
BEGIN:VEVENT
DTSTART;VALUE=DATE:20200722
DTEND;VALUE=DATE:20200723
DTSTAMP:20260423T194832
CREATED:20191025T230132Z
LAST-MODIFIED:20200528T010932Z
UID:10002858-1595376000-1595462399@www.leuragolfclub.com.au
SUMMARY:Medley - Stableford Singles + 2B Multiplier
DESCRIPTION:
URL:https://www.leuragolfclub.com.au/event/single-stableford-2b-multiplier-2020-04-22-2020-06-24-2020-07-22/2020-07-22/
CATEGORIES:Wednesday Medley Comp
END:VEVENT
BEGIN:VEVENT
DTSTART;VALUE=DATE:20200721
DTEND;VALUE=DATE:20200722
DTSTAMP:20260423T194832
CREATED:20200628T011222Z
LAST-MODIFIED:20200628T011311Z
UID:10002720-1595289600-1595375999@www.leuragolfclub.com.au
SUMMARY:Tuesday Medley Comp
DESCRIPTION:
URL:https://www.leuragolfclub.com.au/event/tuesday-medley-comp/2020-07-21/
END:VEVENT
BEGIN:VEVENT
DTSTART;VALUE=DATE:20200719
DTEND;VALUE=DATE:20200720
DTSTAMP:20260423T194832
CREATED:20200702T043717Z
LAST-MODIFIED:20200702T043717Z
UID:10002767-1595116800-1595203199@www.leuragolfclub.com.au
SUMMARY:School Holidays
DESCRIPTION:
URL:https://www.leuragolfclub.com.au/event/school-holidays/2020-07-19/
END:VEVENT
BEGIN:VEVENT
DTSTART;VALUE=DATE:20200718
DTEND;VALUE=DATE:20200719
DTSTAMP:20260423T194832
CREATED:20200702T043717Z
LAST-MODIFIED:20200702T043717Z
UID:10002766-1595030400-1595116799@www.leuragolfclub.com.au
SUMMARY:School Holidays
DESCRIPTION:
URL:https://www.leuragolfclub.com.au/event/school-holidays/2020-07-18/
END:VEVENT
BEGIN:VEVENT
DTSTART;VALUE=DATE:20200718
DTEND;VALUE=DATE:20200719
DTSTAMP:20260423T194832
CREATED:20180626T023936Z
LAST-MODIFIED:20180626T023936Z
UID:10002620-1595030400-1595116799@www.leuragolfclub.com.au
SUMMARY:Stableford + 2B Aggregate
DESCRIPTION:Medley competition – visitors welcome. \nComp closes at 4pm so please ensure that your tee time will allow you to finish in time.
URL:https://www.leuragolfclub.com.au/event/stableford-2b-aggregate/2020-07-18/
CATEGORIES:Saturday Medley Comp
END:VEVENT
BEGIN:VEVENT
DTSTART;VALUE=DATE:20200717
DTEND;VALUE=DATE:20200718
DTSTAMP:20260423T194832
CREATED:20200702T043717Z
LAST-MODIFIED:20200702T043717Z
UID:10002765-1594944000-1595030399@www.leuragolfclub.com.au
SUMMARY:School Holidays
DESCRIPTION:
URL:https://www.leuragolfclub.com.au/event/school-holidays/2020-07-17/
END:VEVENT
BEGIN:VEVENT
DTSTART;VALUE=DATE:20200716
DTEND;VALUE=DATE:20200717
DTSTAMP:20260423T194832
CREATED:20200702T043717Z
LAST-MODIFIED:20200702T043717Z
UID:10002764-1594857600-1594943999@www.leuragolfclub.com.au
SUMMARY:School Holidays
DESCRIPTION:
URL:https://www.leuragolfclub.com.au/event/school-holidays/2020-07-16/
END:VEVENT
END:VCALENDAR