BEGIN:VCALENDAR
VERSION:2.0
PRODID:-//Leura Golf Club - ECPv6.13.2.1//NONSGML v1.0//EN
CALSCALE:GREGORIAN
METHOD:PUBLISH
X-WR-CALNAME:Leura Golf Club
X-ORIGINAL-URL:https://www.leuragolfclub.com.au
X-WR-CALDESC:Events for Leura Golf Club
REFRESH-INTERVAL;VALUE=DURATION:PT1H
X-Robots-Tag:noindex
X-PUBLISHED-TTL:PT1H
BEGIN:VTIMEZONE
TZID:Australia/Melbourne
BEGIN:STANDARD
TZOFFSETFROM:+1100
TZOFFSETTO:+1000
TZNAME:AEST
DTSTART:20210403T160000
END:STANDARD
BEGIN:DAYLIGHT
TZOFFSETFROM:+1000
TZOFFSETTO:+1100
TZNAME:AEDT
DTSTART:20211002T160000
END:DAYLIGHT
END:VTIMEZONE
BEGIN:VEVENT
DTSTART;VALUE=DATE:20210220
DTEND;VALUE=DATE:20210221
DTSTAMP:20260423T164518
CREATED:20180626T023936Z
LAST-MODIFIED:20180626T023936Z
UID:10002627-1613779200-1613865599@www.leuragolfclub.com.au
SUMMARY:Stableford + 2B Aggregate
DESCRIPTION:Medley competition – visitors welcome. \nComp closes at 4pm so please ensure that your tee time will allow you to finish in time.
URL:https://www.leuragolfclub.com.au/event/stableford-2b-aggregate/2021-02-20/
CATEGORIES:Saturday Medley Comp
END:VEVENT
BEGIN:VEVENT
DTSTART;VALUE=DATE:20210217
DTEND;VALUE=DATE:20210218
DTSTAMP:20260423T164518
CREATED:20201226T054341Z
LAST-MODIFIED:20201226T054403Z
UID:10003093-1613520000-1613606399@www.leuragolfclub.com.au
SUMMARY:Medley Stroke
DESCRIPTION:
URL:https://www.leuragolfclub.com.au/event/medley-stroke/2021-02-17/
CATEGORIES:Wednesday Medley Comp
END:VEVENT
BEGIN:VEVENT
DTSTART;VALUE=DATE:20210216
DTEND;VALUE=DATE:20210217
DTSTAMP:20260423T164518
CREATED:20201227T033826Z
LAST-MODIFIED:20201227T033826Z
UID:10003135-1613433600-1613519999@www.leuragolfclub.com.au
SUMMARY:Tuesday Medley Comp
DESCRIPTION:
URL:https://www.leuragolfclub.com.au/event/tuesday-medley-comp-3/2021-02-16/
END:VEVENT
BEGIN:VEVENT
DTSTART;VALUE=DATE:20210214
DTEND;VALUE=DATE:20210215
DTSTAMP:20260423T164518
CREATED:20201226T035612Z
LAST-MODIFIED:20201227T040750Z
UID:10003013-1613260800-1613347199@www.leuragolfclub.com.au
SUMMARY:Men's District Pennants @ Leura
DESCRIPTION:
URL:https://www.leuragolfclub.com.au/event/mens-district-pennants-leura/
CATEGORIES:BM District Event
END:VEVENT
BEGIN:VEVENT
DTSTART;VALUE=DATE:20210213
DTEND;VALUE=DATE:20210214
DTSTAMP:20260423T164518
CREATED:20201226T034050Z
LAST-MODIFIED:20201226T034050Z
UID:10002992-1613174400-1613260799@www.leuragolfclub.com.au
SUMMARY:Medley Stableford Singles + 2BBB
DESCRIPTION:
URL:https://www.leuragolfclub.com.au/event/medley-stableford-singles-2bbb-6/2021-02-13/
CATEGORIES:Saturday Medley Comp
END:VEVENT
BEGIN:VEVENT
DTSTART;VALUE=DATE:20210210
DTEND;VALUE=DATE:20210211
DTSTAMP:20260423T164518
CREATED:20201226T052214Z
LAST-MODIFIED:20201226T054201Z
UID:10003062-1612915200-1613001599@www.leuragolfclub.com.au
SUMMARY:Medley Par + 2BBB
DESCRIPTION:
URL:https://www.leuragolfclub.com.au/event/medley-stableford-singles-2bbb-8/2021-02-10/
CATEGORIES:Wednesday Medley Comp
END:VEVENT
BEGIN:VEVENT
DTSTART;VALUE=DATE:20210209
DTEND;VALUE=DATE:20210210
DTSTAMP:20260423T164518
CREATED:20201227T033826Z
LAST-MODIFIED:20201227T033826Z
UID:10003134-1612828800-1612915199@www.leuragolfclub.com.au
SUMMARY:Tuesday Medley Comp
DESCRIPTION:
URL:https://www.leuragolfclub.com.au/event/tuesday-medley-comp-3/2021-02-09/
END:VEVENT
BEGIN:VEVENT
DTSTART;VALUE=DATE:20210207
DTEND;VALUE=DATE:20210208
DTSTAMP:20260423T164518
CREATED:20201227T040255Z
LAST-MODIFIED:20201227T040728Z
UID:10003161-1612656000-1612742399@www.leuragolfclub.com.au
SUMMARY:Men's District Pennants @ Wentworth Falls
DESCRIPTION:
URL:https://www.leuragolfclub.com.au/event/mens-district-pennants-wentworth-falls/
CATEGORIES:BM District Event
END:VEVENT
BEGIN:VEVENT
DTSTART;VALUE=DATE:20210206
DTEND;VALUE=DATE:20210207
DTSTAMP:20260423T164518
CREATED:20201226T032611Z
LAST-MODIFIED:20201226T032611Z
UID:10002978-1612569600-1612655999@www.leuragolfclub.com.au
SUMMARY:Men's Monthly Medal + Medley Stroke
DESCRIPTION:Men’s Medal event. Visitors and women are welcome\, can win the event but not the medal.
URL:https://www.leuragolfclub.com.au/event/mens-monthly-medal-medley-stroke/2021-02-06/
CATEGORIES:Saturday Medley Comp
END:VEVENT
BEGIN:VEVENT
DTSTART;VALUE=DATE:20210203
DTEND;VALUE=DATE:20210204
DTSTAMP:20260423T164518
CREATED:20201226T052109Z
LAST-MODIFIED:20201226T053932Z
UID:10003037-1612310400-1612396799@www.leuragolfclub.com.au
SUMMARY:Medley Stableford Singles + 2BBB
DESCRIPTION:
URL:https://www.leuragolfclub.com.au/event/medley-stableford-singles-2bbb-7/2021-02-03/
CATEGORIES:Wednesday Medley Comp
END:VEVENT
BEGIN:VEVENT
DTSTART;VALUE=DATE:20210202
DTEND;VALUE=DATE:20210203
DTSTAMP:20260423T164518
CREATED:20201227T033826Z
LAST-MODIFIED:20201227T033826Z
UID:10003133-1612224000-1612310399@www.leuragolfclub.com.au
SUMMARY:Tuesday Medley Comp
DESCRIPTION:
URL:https://www.leuragolfclub.com.au/event/tuesday-medley-comp-3/2021-02-02/
END:VEVENT
BEGIN:VEVENT
DTSTART;VALUE=DATE:20210131
DTEND;VALUE=DATE:20210201
DTSTAMP:20260423T164518
CREATED:20201227T040146Z
LAST-MODIFIED:20201227T040739Z
UID:10003160-1612051200-1612137599@www.leuragolfclub.com.au
SUMMARY:Men's District Pennants @ Lithgow
DESCRIPTION:
URL:https://www.leuragolfclub.com.au/event/mens-district-pennants-lithgow/
CATEGORIES:BM District Event
END:VEVENT
BEGIN:VEVENT
DTSTART;VALUE=DATE:20210130
DTEND;VALUE=DATE:20210131
DTSTAMP:20260423T164518
CREATED:20201226T035049Z
LAST-MODIFIED:20210118T234438Z
UID:10003012-1611964800-1612051199@www.leuragolfclub.com.au
SUMMARY:Medley 4 Person Ambrose
DESCRIPTION:Conditions of Play for 4B Ambrose as played at LGC\nPlayed in teams of four\, however if there are only three in a group it may be played as a team of three. Winning team is the team that takes the least number of strokes to complete the round after deducting handicap from the team’s gross score. \nHandicap of a four-person team is combined Daily handicap divided by 8. \n Handicap of a three-person team is combined Daily handicap divided by 6. \n Each player’s tee shot must be selected on at least 3 holes in a four-person team and in a three-person team on at least 4 holes. \nExcept on the putting green\, the chosen ball must be marked and each team member’s ball placed and played within one club length of the mark not closer to the hole and on the same area of the course. \nOn the putting green the chosen ball must be marked and each team member’s ball placed and played within one putter head of the mark not closer to the hole. \nOnce a ball is holed that is the end of the hole. \nMatch Committee April 2019
URL:https://www.leuragolfclub.com.au/event/medley-4-person-ambrose-2/
CATEGORIES:Saturday Medley Comp
END:VEVENT
BEGIN:VEVENT
DTSTART;VALUE=DATE:20210129
DTEND;VALUE=DATE:20210130
DTSTAMP:20260423T164518
CREATED:20201228T011154Z
LAST-MODIFIED:20201228T012045Z
UID:10003177-1611878400-1611964799@www.leuragolfclub.com.au
SUMMARY:NSW Amateur Championship
DESCRIPTION:For more informatio go to https://www.golfnsw.org.au/
URL:https://www.leuragolfclub.com.au/event/nsw-amateur-championship/2021-01-29/
END:VEVENT
BEGIN:VEVENT
DTSTART;VALUE=DATE:20210128
DTEND;VALUE=DATE:20210129
DTSTAMP:20260423T164518
CREATED:20201228T011154Z
LAST-MODIFIED:20201228T012045Z
UID:10003176-1611792000-1611878399@www.leuragolfclub.com.au
SUMMARY:NSW Amateur Championship
DESCRIPTION:For more informatio go to https://www.golfnsw.org.au/
URL:https://www.leuragolfclub.com.au/event/nsw-amateur-championship/2021-01-28/
END:VEVENT
BEGIN:VEVENT
DTSTART;VALUE=DATE:20210127
DTEND;VALUE=DATE:20210128
DTSTAMP:20260423T164518
CREATED:20201228T011154Z
LAST-MODIFIED:20201228T012045Z
UID:10003175-1611705600-1611791999@www.leuragolfclub.com.au
SUMMARY:NSW Amateur Championship
DESCRIPTION:For more informatio go to https://www.golfnsw.org.au/
URL:https://www.leuragolfclub.com.au/event/nsw-amateur-championship/2021-01-27/
END:VEVENT
BEGIN:VEVENT
DTSTART;VALUE=DATE:20210127
DTEND;VALUE=DATE:20210128
DTSTAMP:20260423T164518
CREATED:20201226T052938Z
LAST-MODIFIED:20201226T055112Z
UID:10003084-1611705600-1611791999@www.leuragolfclub.com.au
SUMMARY:Medley Stableford Singles + 2B Multiplier
DESCRIPTION:
URL:https://www.leuragolfclub.com.au/event/medley-stableford-singles-2b-multiplier-3/2021-01-27/
CATEGORIES:Wednesday Medley Comp
END:VEVENT
BEGIN:VEVENT
DTSTART;VALUE=DATE:20210126
DTEND;VALUE=DATE:20210127
DTSTAMP:20260423T164518
CREATED:20201228T011154Z
LAST-MODIFIED:20201228T012045Z
UID:10003174-1611619200-1611705599@www.leuragolfclub.com.au
SUMMARY:NSW Amateur Championship
DESCRIPTION:For more informatio go to https://www.golfnsw.org.au/
URL:https://www.leuragolfclub.com.au/event/nsw-amateur-championship/2021-01-26/
END:VEVENT
BEGIN:VEVENT
DTSTART;VALUE=DATE:20210126
DTEND;VALUE=DATE:20210127
DTSTAMP:20260423T164518
CREATED:20201227T033826Z
LAST-MODIFIED:20201227T033826Z
UID:10003132-1611619200-1611705599@www.leuragolfclub.com.au
SUMMARY:Tuesday Medley Comp
DESCRIPTION:
URL:https://www.leuragolfclub.com.au/event/tuesday-medley-comp-3/2021-01-26/
END:VEVENT
BEGIN:VEVENT
DTSTART;VALUE=DATE:20210126
DTEND;VALUE=DATE:20210127
DTSTAMP:20260423T164518
CREATED:20201226T022117Z
LAST-MODIFIED:20201226T022117Z
UID:10002970-1611619200-1611705599@www.leuragolfclub.com.au
SUMMARY:Australia Day
DESCRIPTION:
URL:https://www.leuragolfclub.com.au/event/australia-day/
END:VEVENT
BEGIN:VEVENT
DTSTART;VALUE=DATE:20210125
DTEND;VALUE=DATE:20210126
DTSTAMP:20260423T164518
CREATED:20201228T011154Z
LAST-MODIFIED:20201228T012045Z
UID:10003173-1611532800-1611619199@www.leuragolfclub.com.au
SUMMARY:NSW Amateur Championship
DESCRIPTION:For more informatio go to https://www.golfnsw.org.au/
URL:https://www.leuragolfclub.com.au/event/nsw-amateur-championship/2021-01-25/
END:VEVENT
BEGIN:VEVENT
DTSTART;VALUE=DATE:20210123
DTEND;VALUE=DATE:20210124
DTSTAMP:20260423T164518
CREATED:20201226T034741Z
LAST-MODIFIED:20201226T035341Z
UID:10003006-1611360000-1611446399@www.leuragolfclub.com.au
SUMMARY:Medley Stableford Singles + 2B Aggregate
DESCRIPTION:
URL:https://www.leuragolfclub.com.au/event/medley-stableford-singles-2b-aggregate-2/2021-01-23/
CATEGORIES:Saturday Medley Comp
END:VEVENT
BEGIN:VEVENT
DTSTART;TZID=Australia/Melbourne:20210120T080000
DTEND;TZID=Australia/Melbourne:20210120T170000
DTSTAMP:20260423T164518
CREATED:20201226T053742Z
LAST-MODIFIED:20201226T053742Z
UID:10003091-1611129600-1611162000@www.leuragolfclub.com.au
SUMMARY:Medley Stableford Singles + 2BBB
DESCRIPTION:
URL:https://www.leuragolfclub.com.au/event/medley-stableford-singles-2bbb-9/
CATEGORIES:Wednesday Medley Comp
END:VEVENT
BEGIN:VEVENT
DTSTART;VALUE=DATE:20210119
DTEND;VALUE=DATE:20210120
DTSTAMP:20260423T164518
CREATED:20201227T033826Z
LAST-MODIFIED:20201227T033826Z
UID:10003131-1611014400-1611100799@www.leuragolfclub.com.au
SUMMARY:Tuesday Medley Comp
DESCRIPTION:
URL:https://www.leuragolfclub.com.au/event/tuesday-medley-comp-3/2021-01-19/
END:VEVENT
BEGIN:VEVENT
DTSTART;VALUE=DATE:20210116
DTEND;VALUE=DATE:20210117
DTSTAMP:20260423T164518
CREATED:20201226T034556Z
LAST-MODIFIED:20201226T034556Z
UID:10002997-1610755200-1610841599@www.leuragolfclub.com.au
SUMMARY:Medley Par Singles + 2BBB
DESCRIPTION:
URL:https://www.leuragolfclub.com.au/event/medley-par-singles-2bbb/2021-01-16/
CATEGORIES:Saturday Medley Comp
END:VEVENT
BEGIN:VEVENT
DTSTART;VALUE=DATE:20210116
DTEND;VALUE=DATE:20210117
DTSTAMP:20260423T164518
CREATED:20180626T023936Z
LAST-MODIFIED:20180626T023936Z
UID:10002626-1610755200-1610841599@www.leuragolfclub.com.au
SUMMARY:Stableford + 2B Aggregate
DESCRIPTION:Medley competition – visitors welcome. \nComp closes at 4pm so please ensure that your tee time will allow you to finish in time.
URL:https://www.leuragolfclub.com.au/event/stableford-2b-aggregate/2021-01-16/
CATEGORIES:Saturday Medley Comp
END:VEVENT
BEGIN:VEVENT
DTSTART;VALUE=DATE:20210113
DTEND;VALUE=DATE:20210114
DTSTAMP:20260423T164518
CREATED:20201226T052214Z
LAST-MODIFIED:20201226T054201Z
UID:10003061-1610496000-1610582399@www.leuragolfclub.com.au
SUMMARY:Medley Par + 2BBB
DESCRIPTION:
URL:https://www.leuragolfclub.com.au/event/medley-stableford-singles-2bbb-8/2021-01-13/
CATEGORIES:Wednesday Medley Comp
END:VEVENT
BEGIN:VEVENT
DTSTART;VALUE=DATE:20210112
DTEND;VALUE=DATE:20210113
DTSTAMP:20260423T164518
CREATED:20201227T033826Z
LAST-MODIFIED:20201227T033826Z
UID:10003130-1610409600-1610495999@www.leuragolfclub.com.au
SUMMARY:Tuesday Medley Comp
DESCRIPTION:
URL:https://www.leuragolfclub.com.au/event/tuesday-medley-comp-3/2021-01-12/
END:VEVENT
BEGIN:VEVENT
DTSTART;VALUE=DATE:20210109
DTEND;VALUE=DATE:20210110
DTSTAMP:20260423T164518
CREATED:20201226T034050Z
LAST-MODIFIED:20201226T034050Z
UID:10002991-1610150400-1610236799@www.leuragolfclub.com.au
SUMMARY:Medley Stableford Singles + 2BBB
DESCRIPTION:
URL:https://www.leuragolfclub.com.au/event/medley-stableford-singles-2bbb-6/2021-01-09/
CATEGORIES:Saturday Medley Comp
END:VEVENT
BEGIN:VEVENT
DTSTART;VALUE=DATE:20210106
DTEND;VALUE=DATE:20210107
DTSTAMP:20260423T164518
CREATED:20201226T052109Z
LAST-MODIFIED:20201226T053932Z
UID:10003036-1609891200-1609977599@www.leuragolfclub.com.au
SUMMARY:Medley Stableford Singles + 2BBB
DESCRIPTION:
URL:https://www.leuragolfclub.com.au/event/medley-stableford-singles-2bbb-7/2021-01-06/
CATEGORIES:Wednesday Medley Comp
END:VEVENT
END:VCALENDAR