BEGIN:VCALENDAR
VERSION:2.0
PRODID:-//Leura Golf Club - ECPv6.13.2.1//NONSGML v1.0//EN
CALSCALE:GREGORIAN
METHOD:PUBLISH
X-WR-CALNAME:Leura Golf Club
X-ORIGINAL-URL:https://www.leuragolfclub.com.au
X-WR-CALDESC:Events for Leura Golf Club
REFRESH-INTERVAL;VALUE=DURATION:PT1H
X-Robots-Tag:noindex
X-PUBLISHED-TTL:PT1H
BEGIN:VTIMEZONE
TZID:Australia/Melbourne
BEGIN:STANDARD
TZOFFSETFROM:+1100
TZOFFSETTO:+1000
TZNAME:AEST
DTSTART:20190406T160000
END:STANDARD
BEGIN:DAYLIGHT
TZOFFSETFROM:+1000
TZOFFSETTO:+1100
TZNAME:AEDT
DTSTART:20191005T160000
END:DAYLIGHT
BEGIN:STANDARD
TZOFFSETFROM:+1100
TZOFFSETTO:+1000
TZNAME:AEST
DTSTART:20200404T160000
END:STANDARD
BEGIN:DAYLIGHT
TZOFFSETFROM:+1000
TZOFFSETTO:+1100
TZNAME:AEDT
DTSTART:20201003T160000
END:DAYLIGHT
END:VTIMEZONE
BEGIN:VEVENT
DTSTART;VALUE=DATE:20200211
DTEND;VALUE=DATE:20200212
DTSTAMP:20260424T022620
CREATED:20200606T064020Z
LAST-MODIFIED:20200628T010757Z
UID:10002700-1581379200-1581465599@www.leuragolfclub.com.au
SUMMARY:Tuesday Medley Comp
DESCRIPTION:All players welcome.
URL:https://www.leuragolfclub.com.au/event/tuesday-medley-comp-2020-06-25/2020-02-11/
END:VEVENT
BEGIN:VEVENT
DTSTART;VALUE=DATE:20200209
DTEND;VALUE=DATE:20200210
DTSTAMP:20260424T022620
CREATED:20191026T002920Z
LAST-MODIFIED:20191026T002920Z
UID:10002893-1581206400-1581292799@www.leuragolfclub.com.au
SUMMARY:Blue Mountains District Pennants
DESCRIPTION:
URL:https://www.leuragolfclub.com.au/event/blue-mountains-district-pennants-2/2020-02-09/
CATEGORIES:BM District Event
END:VEVENT
BEGIN:VEVENT
DTSTART;VALUE=DATE:20200208
DTEND;VALUE=DATE:20200209
DTSTAMP:20260424T022620
CREATED:20191025T230010Z
LAST-MODIFIED:20191026T000810Z
UID:10002850-1581120000-1581206399@www.leuragolfclub.com.au
SUMMARY:Single Stableford + 2BBB
DESCRIPTION:
URL:https://www.leuragolfclub.com.au/event/single-stableford-2bbb-2/2020-02-08/
CATEGORIES:Saturday Medley Comp
END:VEVENT
BEGIN:VEVENT
DTSTART;VALUE=DATE:20200205
DTEND;VALUE=DATE:20200206
DTSTAMP:20260424T022620
CREATED:20231120T001207Z
LAST-MODIFIED:20231120T001207Z
UID:10002492-1580860800-1580947199@www.leuragolfclub.com.au
SUMMARY:Single Stableford + 2BBB
DESCRIPTION:
URL:https://www.leuragolfclub.com.au/event/single-stableford-2bbb-2020-01-15/2020-02-05/
CATEGORIES:Wednesday Medley Comp
END:VEVENT
BEGIN:VEVENT
DTSTART;VALUE=DATE:20200204
DTEND;VALUE=DATE:20200205
DTSTAMP:20260424T022620
CREATED:20200606T064020Z
LAST-MODIFIED:20200628T010757Z
UID:10002699-1580774400-1580860799@www.leuragolfclub.com.au
SUMMARY:Tuesday Medley Comp
DESCRIPTION:All players welcome.
URL:https://www.leuragolfclub.com.au/event/tuesday-medley-comp-2020-06-25/2020-02-04/
END:VEVENT
BEGIN:VEVENT
DTSTART;VALUE=DATE:20200202
DTEND;VALUE=DATE:20200203
DTSTAMP:20260424T022620
CREATED:20191026T002920Z
LAST-MODIFIED:20191026T002920Z
UID:10002892-1580601600-1580687999@www.leuragolfclub.com.au
SUMMARY:Blue Mountains District Pennants
DESCRIPTION:
URL:https://www.leuragolfclub.com.au/event/blue-mountains-district-pennants-2/2020-02-02/
CATEGORIES:BM District Event
END:VEVENT
BEGIN:VEVENT
DTSTART;VALUE=DATE:20200201
DTEND;VALUE=DATE:20200202
DTSTAMP:20260424T022620
CREATED:20191025T232909Z
LAST-MODIFIED:20191025T232909Z
UID:10002520-1580515200-1580601599@www.leuragolfclub.com.au
SUMMARY:Monthly Medal
DESCRIPTION:Men’s Medal event. Visitors are welcome\, can win the event but not the medal.
URL:https://www.leuragolfclub.com.au/event/monthly-medal-2/2020-02-01/
CATEGORIES:Saturday Medley Comp
END:VEVENT
BEGIN:VEVENT
DTSTART;VALUE=DATE:20200129
DTEND;VALUE=DATE:20200130
DTSTAMP:20260424T022620
CREATED:20191025T230604Z
LAST-MODIFIED:20191025T230604Z
UID:10002513-1580256000-1580342399@www.leuragolfclub.com.au
SUMMARY:2 Person Ambrose
DESCRIPTION:
URL:https://www.leuragolfclub.com.au/event/2-person-ambrose-3/
CATEGORIES:Wednesday Medley Comp
END:VEVENT
BEGIN:VEVENT
DTSTART;VALUE=DATE:20200125
DTEND;VALUE=DATE:20200126
DTSTAMP:20260424T022620
CREATED:20191025T234244Z
LAST-MODIFIED:20191026T000936Z
UID:10002880-1579910400-1579996799@www.leuragolfclub.com.au
SUMMARY:Single Stableford + 2B Aggregate
DESCRIPTION:
URL:https://www.leuragolfclub.com.au/event/single-stableford-2b-aggregate-2/2020-01-25/
CATEGORIES:Saturday Medley Comp
END:VEVENT
BEGIN:VEVENT
DTSTART;VALUE=DATE:20200122
DTEND;VALUE=DATE:20200123
DTSTAMP:20260424T022620
CREATED:20191025T230132Z
LAST-MODIFIED:20191025T230236Z
UID:10002854-1579651200-1579737599@www.leuragolfclub.com.au
SUMMARY:Single Stableford + 2B Multiplier
DESCRIPTION:
URL:https://www.leuragolfclub.com.au/event/single-stableford-2b-multiplier/
CATEGORIES:Wednesday Medley Comp
END:VEVENT
BEGIN:VEVENT
DTSTART;VALUE=DATE:20200118
DTEND;VALUE=DATE:20200119
DTSTAMP:20260424T022620
CREATED:20191025T234041Z
LAST-MODIFIED:20191026T000559Z
UID:10002869-1579305600-1579391999@www.leuragolfclub.com.au
SUMMARY:Par Singles + 2BBB
DESCRIPTION:
URL:https://www.leuragolfclub.com.au/event/par-singles-2bbb/2020-01-18/
CATEGORIES:Saturday Medley Comp
END:VEVENT
BEGIN:VEVENT
DTSTART;VALUE=DATE:20200118
DTEND;VALUE=DATE:20200119
DTSTAMP:20260424T022620
CREATED:20180626T023936Z
LAST-MODIFIED:20180626T023936Z
UID:10002614-1579305600-1579391999@www.leuragolfclub.com.au
SUMMARY:Stableford + 2B Aggregate
DESCRIPTION:Medley competition – visitors welcome. \nComp closes at 4pm so please ensure that your tee time will allow you to finish in time.
URL:https://www.leuragolfclub.com.au/event/stableford-2b-aggregate/2020-01-18/
CATEGORIES:Saturday Medley Comp
END:VEVENT
BEGIN:VEVENT
DTSTART;VALUE=DATE:20200115
DTEND;VALUE=DATE:20200116
DTSTAMP:20260424T022620
CREATED:20191025T225521Z
LAST-MODIFIED:20191206T045606Z
UID:10002489-1579046400-1579132799@www.leuragolfclub.com.au
SUMMARY:Single Stableford + 2BBB
DESCRIPTION:
URL:https://www.leuragolfclub.com.au/event/single-stableford-2bbb-2020-01-15/2020-01-15/
CATEGORIES:Wednesday Medley Comp
END:VEVENT
BEGIN:VEVENT
DTSTART;VALUE=DATE:20200111
DTEND;VALUE=DATE:20200112
DTSTAMP:20260424T022620
CREATED:20191025T230010Z
LAST-MODIFIED:20191026T000810Z
UID:10002849-1578700800-1578787199@www.leuragolfclub.com.au
SUMMARY:Single Stableford + 2BBB
DESCRIPTION:
URL:https://www.leuragolfclub.com.au/event/single-stableford-2bbb-2/2020-01-11/
CATEGORIES:Saturday Medley Comp
END:VEVENT
BEGIN:VEVENT
DTSTART;VALUE=DATE:20200108
DTEND;VALUE=DATE:20200109
DTSTAMP:20260424T022620
CREATED:20191025T225822Z
LAST-MODIFIED:20191025T225822Z
UID:10002509-1578441600-1578527999@www.leuragolfclub.com.au
SUMMARY:Single Stableford + 2B Aggregate
DESCRIPTION:
URL:https://www.leuragolfclub.com.au/event/single-stableford-2b-aggregate/
CATEGORIES:Wednesday Medley Comp
END:VEVENT
BEGIN:VEVENT
DTSTART;VALUE=DATE:20200104
DTEND;VALUE=DATE:20200105
DTSTAMP:20260424T022620
CREATED:20191025T232909Z
LAST-MODIFIED:20191025T232909Z
UID:10002519-1578096000-1578182399@www.leuragolfclub.com.au
SUMMARY:Monthly Medal
DESCRIPTION:Men’s Medal event. Visitors are welcome\, can win the event but not the medal.
URL:https://www.leuragolfclub.com.au/event/monthly-medal-2/2020-01-04/
CATEGORIES:Saturday Medley Comp
END:VEVENT
BEGIN:VEVENT
DTSTART;VALUE=DATE:20200101
DTEND;VALUE=DATE:20200102
DTSTAMP:20260424T022620
CREATED:20191025T225521Z
LAST-MODIFIED:20191206T045641Z
UID:10002487-1577836800-1577923199@www.leuragolfclub.com.au
SUMMARY:New Year's Day - course closed
DESCRIPTION:
URL:https://www.leuragolfclub.com.au/event/single-stableford-2bbb/
END:VEVENT
BEGIN:VEVENT
DTSTART;VALUE=DATE:20191228
DTEND;VALUE=DATE:20191229
DTSTAMP:20260424T022620
CREATED:20181209T222036Z
LAST-MODIFIED:20181210T015922Z
UID:10002798-1577491200-1577577599@www.leuragolfclub.com.au
SUMMARY:Stableford + 2 Ball Mutiplier
DESCRIPTION:Competition closing times (can be varied at the discretion of the starter) \n\nDaylight Saving – Competitions will be closed at 4.30pm on Tuesday and Wednesday\, 5.00pm on Friday and 5.30pm on a Saturday.\nEastern Standard Time – Competitions will be closed at 3.30pm on Tuesday and Wednesday\, 4.00pm on Friday and 4.30pm on a Saturday. Therefore players must take ownership of their speed of play and book tee times in accordance with these times.\n\nNo exceptions will be considered for late returned cards. A DNF will be recorded past comp closure times.
URL:https://www.leuragolfclub.com.au/event/stableford-2-ball-mutiplier/2019-12-28/
CATEGORIES:Saturday Medley Comp
END:VEVENT
BEGIN:VEVENT
DTSTART;VALUE=DATE:20191226
DTEND;VALUE=DATE:20191227
DTSTAMP:20260424T022620
CREATED:20191206T045404Z
LAST-MODIFIED:20191206T045442Z
UID:10002921-1577318400-1577404799@www.leuragolfclub.com.au
SUMMARY:Boxing Day - course closed
DESCRIPTION:
URL:https://www.leuragolfclub.com.au/event/christmas-day-course-closed-2/
END:VEVENT
BEGIN:VEVENT
DTSTART;TZID=Australia/Melbourne:20191225T080000
DTEND;TZID=Australia/Melbourne:20191225T170000
DTSTAMP:20260424T022620
CREATED:20181210T050953Z
LAST-MODIFIED:20181210T050953Z
UID:10002472-1577260800-1577293200@www.leuragolfclub.com.au
SUMMARY:Christmas Day - course closed
DESCRIPTION:
URL:https://www.leuragolfclub.com.au/event/christmas-day-course-closed/
END:VEVENT
BEGIN:VEVENT
DTSTART;VALUE=DATE:20191221
DTEND;VALUE=DATE:20191222
DTSTAMP:20260424T022620
CREATED:20181209T221326Z
LAST-MODIFIED:20181210T045753Z
UID:10002788-1576886400-1576972799@www.leuragolfclub.com.au
SUMMARY:Singles v Par + 2BBB
DESCRIPTION:Competition closing times (can be varied at the discretion of the starter) \n\nDaylight Saving – Competitions will be closed at 4.30pm on Tuesday and Wednesday\, 5.00pm on Friday and 5.30pm on a Saturday.\nEastern Standard Time – Competitions will be closed at 3.30pm on Tuesday and Wednesday\, 4.00pm on Friday and 4.30pm on a Saturday. Therefore players must take ownership of their speed of play and book tee times in accordance with these times.\n\nNo exceptions will be considered for late returned cards. A DNF will be recorded past comp closure times.
URL:https://www.leuragolfclub.com.au/event/singles-v-par-2bbb/2019-12-21/
CATEGORIES:Saturday Medley Comp
END:VEVENT
BEGIN:VEVENT
DTSTART;VALUE=DATE:20191221
DTEND;VALUE=DATE:20191222
DTSTAMP:20260424T022620
CREATED:20180626T023936Z
LAST-MODIFIED:20180626T023936Z
UID:10002613-1576886400-1576972799@www.leuragolfclub.com.au
SUMMARY:Stableford + 2B Aggregate
DESCRIPTION:Medley competition – visitors welcome. \nComp closes at 4pm so please ensure that your tee time will allow you to finish in time.
URL:https://www.leuragolfclub.com.au/event/stableford-2b-aggregate/2019-12-21/
CATEGORIES:Saturday Medley Comp
END:VEVENT
BEGIN:VEVENT
DTSTART;VALUE=DATE:20191218
DTEND;VALUE=DATE:20191219
DTSTAMP:20260424T022620
CREATED:20231120T001150Z
LAST-MODIFIED:20231120T001150Z
UID:10002446-1576627200-1576713599@www.leuragolfclub.com.au
SUMMARY:Stableford Singles + 2BBB
DESCRIPTION:
URL:https://www.leuragolfclub.com.au/event/stableford-singles-2bbb-2/2019-12-18/
CATEGORIES:Wednesday Medley Comp
END:VEVENT
BEGIN:VEVENT
DTSTART;VALUE=DATE:20191214
DTEND;VALUE=DATE:20191215
DTSTAMP:20260424T022620
CREATED:20181209T060304Z
LAST-MODIFIED:20191206T044829Z
UID:10002780-1576281600-1576367999@www.leuragolfclub.com.au
SUMMARY:Presidents v Captains - 2B Ambrose
DESCRIPTION:8.30 am shotgun start + sausage sizzle at conclusion. Please be at the Proshop by 8.15 to receive your starting tee.\n \nConditions of Play for 2B Ambrose as played at LGC\nPlayed in teams of two. Winning team is the team that takes the least number of strokes to complete the round after deducting handicap from the team’s gross score. \nHandicap is combined Daily handicap divided by 4. \nEach player’s tee shot must be selected on at least 6 holes. \nExcept on the putting green\, the chosen ball must be marked and each team member’s ball placed and played within one club length of the mark not closer to the hole and on the same area of the course. \nOn the putting green the chosen ball must be marked and each team member’s ball placed and played within one putter head of the mark not closer to the hole. \nOnce a ball is holed that is the end of the hole. \nMatch Committee April 2019
URL:https://www.leuragolfclub.com.au/event/presidents-v-captains-stableford-2b-ambrose/
CATEGORIES:LGC Major Events
END:VEVENT
BEGIN:VEVENT
DTSTART;VALUE=DATE:20191211
DTEND;VALUE=DATE:20191212
DTSTAMP:20260424T022620
CREATED:20181210T023834Z
LAST-MODIFIED:20181210T023834Z
UID:10002460-1576022400-1576108799@www.leuragolfclub.com.au
SUMMARY:Stableford Singles + 2B Aggregate
DESCRIPTION:Competition closing times (can be varied at the discretion of the starter) \n\nDaylight Saving – Competitions will be closed at 4.30pm on Tuesday and Wednesday\, 5.00pm on Friday and 5.30pm on a Saturday.\nEastern Standard Time – Competitions will be closed at 3.30pm on Tuesday and Wednesday\, 4.00pm on Friday and 4.30pm on a Saturday. Therefore players must take ownership of their speed of play and book tee times in accordance with these times.\n\nNo exceptions will be considered for late returned cards. A DNF will be recorded past comp closure times.
URL:https://www.leuragolfclub.com.au/event/stableford-singles-2b-aggregate/2019-12-11/
CATEGORIES:Wednesday Medley Comp
END:VEVENT
BEGIN:VEVENT
DTSTART;VALUE=DATE:20191208
DTEND;VALUE=DATE:20191209
DTSTAMP:20260424T022620
CREATED:20181210T053805Z
LAST-MODIFIED:20181210T053805Z
UID:10002485-1575763200-1575849599@www.leuragolfclub.com.au
SUMMARY:Lithgow Open
DESCRIPTION:
URL:https://www.leuragolfclub.com.au/event/lithgow-open-2/
CATEGORIES:Other
END:VEVENT
BEGIN:VEVENT
DTSTART;VALUE=DATE:20191207
DTEND;VALUE=DATE:20191208
DTSTAMP:20260424T022620
CREATED:20181209T053731Z
LAST-MODIFIED:20181209T053731Z
UID:10002770-1575676800-1575763199@www.leuragolfclub.com.au
SUMMARY:Monthly Medal + Gold Medal
DESCRIPTION:
URL:https://www.leuragolfclub.com.au/event/monthly-medal-gold-medal-2/
CATEGORIES:LGC Major Events
END:VEVENT
BEGIN:VEVENT
DTSTART;VALUE=DATE:20191204
DTEND;VALUE=DATE:20191205
DTSTAMP:20260424T022620
CREATED:20181210T023701Z
LAST-MODIFIED:20181210T024130Z
UID:10002434-1575417600-1575503999@www.leuragolfclub.com.au
SUMMARY:Stableford Singles + 2BBB
DESCRIPTION:
URL:https://www.leuragolfclub.com.au/event/stableford-singles-2bbb-2/2019-12-04/
CATEGORIES:Wednesday Medley Comp
END:VEVENT
BEGIN:VEVENT
DTSTART;VALUE=DATE:20191201
DTEND;VALUE=DATE:20191202
DTSTAMP:20260424T022620
CREATED:20181210T053732Z
LAST-MODIFIED:20181210T053732Z
UID:10002484-1575158400-1575244799@www.leuragolfclub.com.au
SUMMARY:Portland Open
DESCRIPTION:
URL:https://www.leuragolfclub.com.au/event/portland-open-2/
CATEGORIES:Other
END:VEVENT
BEGIN:VEVENT
DTSTART;VALUE=DATE:20191130
DTEND;VALUE=DATE:20191201
DTSTAMP:20260424T022620
CREATED:20181209T222403Z
LAST-MODIFIED:20191125T041358Z
UID:10002799-1575072000-1575158399@www.leuragolfclub.com.au
SUMMARY:Stableford + 2BBB
DESCRIPTION:Competition closing times (can be varied at the discretion of the starter) \n\nDaylight Saving – Competitions will be closed at 4.30pm on Tuesday and Wednesday\, 5.00pm on Friday and 5.30pm on a Saturday.\nEastern Standard Time – Competitions will be closed at 3.30pm on Tuesday and Wednesday\, 4.00pm on Friday and 4.30pm on a Saturday. Therefore players must take ownership of their speed of play and book tee times in accordance with these times.\n\nNo exceptions will be considered for late returned cards. A DNF will be recorded past comp closure times.
URL:https://www.leuragolfclub.com.au/event/4-person-ambrose/
CATEGORIES:Saturday Medley Comp
END:VEVENT
END:VCALENDAR