BEGIN:VCALENDAR
VERSION:2.0
PRODID:-//Leura Golf Club - ECPv6.13.2.1//NONSGML v1.0//EN
CALSCALE:GREGORIAN
METHOD:PUBLISH
X-WR-CALNAME:Leura Golf Club
X-ORIGINAL-URL:https://www.leuragolfclub.com.au
X-WR-CALDESC:Events for Leura Golf Club
REFRESH-INTERVAL;VALUE=DURATION:PT1H
X-Robots-Tag:noindex
X-PUBLISHED-TTL:PT1H
BEGIN:VTIMEZONE
TZID:Australia/Melbourne
BEGIN:STANDARD
TZOFFSETFROM:+1100
TZOFFSETTO:+1000
TZNAME:AEST
DTSTART:20190406T160000
END:STANDARD
BEGIN:DAYLIGHT
TZOFFSETFROM:+1000
TZOFFSETTO:+1100
TZNAME:AEDT
DTSTART:20191005T160000
END:DAYLIGHT
END:VTIMEZONE
BEGIN:VEVENT
DTSTART;VALUE=DATE:20190605
DTEND;VALUE=DATE:20190606
DTSTAMP:20260424T050930
CREATED:20181210T023701Z
LAST-MODIFIED:20181210T024130Z
UID:10002428-1559692800-1559779199@www.leuragolfclub.com.au
SUMMARY:Stableford Singles + 2BBB
DESCRIPTION:
URL:https://www.leuragolfclub.com.au/event/stableford-singles-2bbb-2/2019-06-05/
CATEGORIES:Wednesday Medley Comp
END:VEVENT
BEGIN:VEVENT
DTSTART;VALUE=DATE:20190601
DTEND;VALUE=DATE:20190602
DTSTAMP:20260424T050930
CREATED:20181209T052917Z
LAST-MODIFIED:20181209T053445Z
UID:10002747-1559347200-1559433599@www.leuragolfclub.com.au
SUMMARY:Monthly Medal
DESCRIPTION:
URL:https://www.leuragolfclub.com.au/event/monthly-medal-white-course-single-stableford/2019-06-01/
CATEGORIES:Saturday Medley Comp
END:VEVENT
BEGIN:VEVENT
DTSTART;VALUE=DATE:20190529
DTEND;VALUE=DATE:20190530
DTSTAMP:20260424T050930
CREATED:20181210T042746Z
LAST-MODIFIED:20190528T014956Z
UID:10002805-1559088000-1559174399@www.leuragolfclub.com.au
SUMMARY:Bisque Par Singles
DESCRIPTION:Conditions of Play for Bisque Par as played at LGC\nThis event is a variation of the Individual Par competition\, where players allocate their full handicap to each hole however they like. In this Bisque Par competition\, players will determine their handicap stroke allocation for a hole after playing that hole (and mark that allocation on the score card at that time). The allocation of handicap strokes will obviously cease once the player’s full handicap has been used. The game is then played as an Individual Par competition\, and scored in the same fashion. \nMatch Committee April 2019 \nCompetition closing times (can be varied at the discretion of the starter) \n\nDaylight Saving – Competitions will be closed at 4.30pm on Tuesday and Wednesday\, 5.00pm on Friday and 5.30pm on a Saturday.\nEastern Standard Time – Competitions will be closed at 3.30pm on Tuesday and Wednesday\, 4.00pm on Friday and 4.30pm on a Saturday. Therefore players must take ownership of their speed of play and book tee times in accordance with these times.\n\nNo exceptions will be considered for late returned cards. A DNF will be recorded past comp closure times.
URL:https://www.leuragolfclub.com.au/event/bisque-par-singles-2/
CATEGORIES:Wednesday Medley Comp
END:VEVENT
BEGIN:VEVENT
DTSTART;VALUE=DATE:20190525
DTEND;VALUE=DATE:20190526
DTSTAMP:20260424T050930
CREATED:20181209T221910Z
LAST-MODIFIED:20181210T022936Z
UID:10002790-1558742400-1558828799@www.leuragolfclub.com.au
SUMMARY:Stableford + 2 Ball Aggregate
DESCRIPTION:Competition closing times (can be varied at the discretion of the starter) \n\nDaylight Saving – Competitions will be closed at 4.30pm on Tuesday and Wednesday\, 5.00pm on Friday and 5.30pm on a Saturday.\nEastern Standard Time – Competitions will be closed at 3.30pm on Tuesday and Wednesday\, 4.00pm on Friday and 4.30pm on a Saturday. Therefore players must take ownership of their speed of play and book tee times in accordance with these times.\n\nNo exceptions will be considered for late returned cards. A DNF will be recorded past comp closure times.
URL:https://www.leuragolfclub.com.au/event/stableford-2-ball-aggregate-2/2019-05-25/
CATEGORIES:Saturday Medley Comp
END:VEVENT
BEGIN:VEVENT
DTSTART;VALUE=DATE:20190522
DTEND;VALUE=DATE:20190523
DTSTAMP:20260424T050930
CREATED:20181210T024446Z
LAST-MODIFIED:20181210T024446Z
UID:10002465-1558483200-1558569599@www.leuragolfclub.com.au
SUMMARY:Stableford Singles + 2 Ball Multiplier
DESCRIPTION:Competition closing times (can be varied at the discretion of the starter) \n\nDaylight Saving – Competitions will be closed at 4.30pm on Tuesday and Wednesday\, 5.00pm on Friday and 5.30pm on a Saturday.\nEastern Standard Time – Competitions will be closed at 3.30pm on Tuesday and Wednesday\, 4.00pm on Friday and 4.30pm on a Saturday. Therefore players must take ownership of their speed of play and book tee times in accordance with these times.\n\nNo exceptions will be considered for late returned cards. A DNF will be recorded past comp closure times.
URL:https://www.leuragolfclub.com.au/event/stableford-singles-2-ball-multiplier/2019-05-22/
CATEGORIES:Wednesday Medley Comp
END:VEVENT
BEGIN:VEVENT
DTSTART;VALUE=DATE:20190519
DTEND;VALUE=DATE:20190520
DTSTAMP:20260424T050930
CREATED:20190114T055947Z
LAST-MODIFIED:20190118T031939Z
UID:10002821-1558224000-1558310399@www.leuragolfclub.com.au
SUMMARY:Mixed Foursomes Championships
DESCRIPTION:MIXED FOURSOMES CHAMPIONSHIPS – 2019\nCONDITIONS OF PLAY – RULES OF GOLF APPLY.\n18 HOLE COMPETITION – $20 PER PLAYER. \n\nBoth partners must be members of Leura Golf Club. This is a championship event so By-law 7 applies – see below. For the purposes of these Conditions of Play “Club Championships” where used in the by-law shall mean “Mixed Foursomes Championships”.\nIt will be decided closer to\, or on the day\, whether the ball will be played as it lies or whether preferred lies will apply.\nAggregate handicap of partners is halved i.e. (10 + 26)/2 = 18 handicap.\nMen tee off on all odd numbered holes i.e. 1st\, 3rd etc.\nWomen tee off on all even numbered holes i.e. 2nd 4th etc.\nAfter teeing off the shot is then alternated between partners until the ball is in the hole.\nMen play off blue markers – Women from red.\nIf an air shot occurs then partner must play next shot.\nAbnormal Course Conditions – relief is allowed in accordance with Rule 16.\nStaked Trees – see No Play Zones Local Rule.\nIf your partner hits a ball out of bounds then the alternate player must hit another from the same spot adding a one shot penalty.\nNo relief from tyre tracks – it is not a local rule.\n\nNote – this is a stroke event (alternating shots by partners) – trophies for scratch winner and runner-up\, also trophies for net winner and runner-up. \nMatch Committee – June 2019 \nBy-Law 7 – Club Championship Eligibility:\nTo be eligible to play in the Club Championships\, a member shall have completed at least 2 monthly medal rounds or at least 5 competition rounds at Leura Golf Club in the 12 months immediately preceding the Club Championships.
URL:https://www.leuragolfclub.com.au/event/mixed-foursomes-championships-2/
CATEGORIES:LGC Major Events
END:VEVENT
BEGIN:VEVENT
DTSTART;VALUE=DATE:20190518
DTEND;VALUE=DATE:20190519
DTSTAMP:20260424T050930
CREATED:20181209T221326Z
LAST-MODIFIED:20181210T045753Z
UID:10002783-1558137600-1558223999@www.leuragolfclub.com.au
SUMMARY:Singles v Par + 2BBB
DESCRIPTION:Competition closing times (can be varied at the discretion of the starter) \n\nDaylight Saving – Competitions will be closed at 4.30pm on Tuesday and Wednesday\, 5.00pm on Friday and 5.30pm on a Saturday.\nEastern Standard Time – Competitions will be closed at 3.30pm on Tuesday and Wednesday\, 4.00pm on Friday and 4.30pm on a Saturday. Therefore players must take ownership of their speed of play and book tee times in accordance with these times.\n\nNo exceptions will be considered for late returned cards. A DNF will be recorded past comp closure times.
URL:https://www.leuragolfclub.com.au/event/singles-v-par-2bbb/2019-05-18/
CATEGORIES:Saturday Medley Comp
END:VEVENT
BEGIN:VEVENT
DTSTART;VALUE=DATE:20190518
DTEND;VALUE=DATE:20190519
DTSTAMP:20260424T050930
CREATED:20180626T023936Z
LAST-MODIFIED:20180626T023936Z
UID:10002606-1558137600-1558223999@www.leuragolfclub.com.au
SUMMARY:Stableford + 2B Aggregate
DESCRIPTION:Medley competition – visitors welcome. \nComp closes at 4pm so please ensure that your tee time will allow you to finish in time.
URL:https://www.leuragolfclub.com.au/event/stableford-2b-aggregate/2019-05-18/
CATEGORIES:Saturday Medley Comp
END:VEVENT
BEGIN:VEVENT
DTSTART;VALUE=DATE:20190515
DTEND;VALUE=DATE:20190516
DTSTAMP:20260424T050930
CREATED:20231120T001150Z
LAST-MODIFIED:20231120T001150Z
UID:10002439-1557878400-1557964799@www.leuragolfclub.com.au
SUMMARY:Stableford Singles + 2BBB
DESCRIPTION:
URL:https://www.leuragolfclub.com.au/event/stableford-singles-2bbb-2/2019-05-15/
CATEGORIES:Wednesday Medley Comp
END:VEVENT
BEGIN:VEVENT
DTSTART;VALUE=DATE:20190511
DTEND;VALUE=DATE:20190512
DTSTAMP:20260424T050930
CREATED:20181209T060037Z
LAST-MODIFIED:20181210T044850Z
UID:10002775-1557532800-1557619199@www.leuragolfclub.com.au
SUMMARY:Stableford Singles + 2BBB
DESCRIPTION:
URL:https://www.leuragolfclub.com.au/event/stableford-singles-2bbb/2019-05-11/
CATEGORIES:Saturday Medley Comp
END:VEVENT
BEGIN:VEVENT
DTSTART;VALUE=DATE:20190508
DTEND;VALUE=DATE:20190509
DTSTAMP:20260424T050930
CREATED:20181210T023834Z
LAST-MODIFIED:20181210T023834Z
UID:10002453-1557273600-1557359999@www.leuragolfclub.com.au
SUMMARY:Stableford Singles + 2B Aggregate
DESCRIPTION:Competition closing times (can be varied at the discretion of the starter) \n\nDaylight Saving – Competitions will be closed at 4.30pm on Tuesday and Wednesday\, 5.00pm on Friday and 5.30pm on a Saturday.\nEastern Standard Time – Competitions will be closed at 3.30pm on Tuesday and Wednesday\, 4.00pm on Friday and 4.30pm on a Saturday. Therefore players must take ownership of their speed of play and book tee times in accordance with these times.\n\nNo exceptions will be considered for late returned cards. A DNF will be recorded past comp closure times.
URL:https://www.leuragolfclub.com.au/event/stableford-singles-2b-aggregate/2019-05-08/
CATEGORIES:Wednesday Medley Comp
END:VEVENT
BEGIN:VEVENT
DTSTART;VALUE=DATE:20190504
DTEND;VALUE=DATE:20190505
DTSTAMP:20260424T050930
CREATED:20181209T052917Z
LAST-MODIFIED:20181209T053445Z
UID:10002746-1556928000-1557014399@www.leuragolfclub.com.au
SUMMARY:Monthly Medal
DESCRIPTION:
URL:https://www.leuragolfclub.com.au/event/monthly-medal-white-course-single-stableford/2019-05-04/
CATEGORIES:Saturday Medley Comp
END:VEVENT
BEGIN:VEVENT
DTSTART;VALUE=DATE:20190501
DTEND;VALUE=DATE:20190502
DTSTAMP:20260424T050930
CREATED:20181210T023701Z
LAST-MODIFIED:20181210T024130Z
UID:10002427-1556668800-1556755199@www.leuragolfclub.com.au
SUMMARY:Stableford Singles + 2BBB
DESCRIPTION:
URL:https://www.leuragolfclub.com.au/event/stableford-singles-2bbb-2/2019-05-01/
CATEGORIES:Wednesday Medley Comp
END:VEVENT
BEGIN:VEVENT
DTSTART;VALUE=DATE:20190427
DTEND;VALUE=DATE:20190428
DTSTAMP:20260424T050930
CREATED:20181209T222036Z
LAST-MODIFIED:20181210T015922Z
UID:10002795-1556323200-1556409599@www.leuragolfclub.com.au
SUMMARY:Stableford + 2 Ball Mutiplier
DESCRIPTION:Competition closing times (can be varied at the discretion of the starter) \n\nDaylight Saving – Competitions will be closed at 4.30pm on Tuesday and Wednesday\, 5.00pm on Friday and 5.30pm on a Saturday.\nEastern Standard Time – Competitions will be closed at 3.30pm on Tuesday and Wednesday\, 4.00pm on Friday and 4.30pm on a Saturday. Therefore players must take ownership of their speed of play and book tee times in accordance with these times.\n\nNo exceptions will be considered for late returned cards. A DNF will be recorded past comp closure times.
URL:https://www.leuragolfclub.com.au/event/stableford-2-ball-mutiplier/2019-04-27/
CATEGORIES:Saturday Medley Comp
END:VEVENT
BEGIN:VEVENT
DTSTART;VALUE=DATE:20190424
DTEND;VALUE=DATE:20190425
DTSTAMP:20260424T050930
CREATED:20181210T024446Z
LAST-MODIFIED:20181210T024446Z
UID:10002464-1556064000-1556150399@www.leuragolfclub.com.au
SUMMARY:Stableford Singles + 2 Ball Multiplier
DESCRIPTION:Competition closing times (can be varied at the discretion of the starter) \n\nDaylight Saving – Competitions will be closed at 4.30pm on Tuesday and Wednesday\, 5.00pm on Friday and 5.30pm on a Saturday.\nEastern Standard Time – Competitions will be closed at 3.30pm on Tuesday and Wednesday\, 4.00pm on Friday and 4.30pm on a Saturday. Therefore players must take ownership of their speed of play and book tee times in accordance with these times.\n\nNo exceptions will be considered for late returned cards. A DNF will be recorded past comp closure times.
URL:https://www.leuragolfclub.com.au/event/stableford-singles-2-ball-multiplier/2019-04-24/
CATEGORIES:Wednesday Medley Comp
END:VEVENT
BEGIN:VEVENT
DTSTART;VALUE=DATE:20190422
DTEND;VALUE=DATE:20190423
DTSTAMP:20260424T050930
CREATED:20181210T050743Z
LAST-MODIFIED:20190206T035252Z
UID:10002813-1555891200-1555977599@www.leuragolfclub.com.au
SUMMARY:Easter Monday
DESCRIPTION:
URL:https://www.leuragolfclub.com.au/event/good-friday/
CATEGORIES:Other
END:VEVENT
BEGIN:VEVENT
DTSTART;VALUE=DATE:20190421
DTEND;VALUE=DATE:20190422
DTSTAMP:20260424T050930
CREATED:20190206T035514Z
LAST-MODIFIED:20190206T035559Z
UID:10002827-1555804800-1555891199@www.leuragolfclub.com.au
SUMMARY:Relton Shield
DESCRIPTION:Relton Shield is a mixed Stableford 2BBB event.
URL:https://www.leuragolfclub.com.au/event/relton-shield/
CATEGORIES:LGC Major Events
END:VEVENT
BEGIN:VEVENT
DTSTART;VALUE=DATE:20190421
DTEND;VALUE=DATE:20190422
DTSTAMP:20260424T050930
CREATED:20190206T034810Z
LAST-MODIFIED:20190206T034810Z
UID:10002825-1555804800-1555891199@www.leuragolfclub.com.au
SUMMARY:Easter Day
DESCRIPTION:
URL:https://www.leuragolfclub.com.au/event/easter-day/
CATEGORIES:Other
END:VEVENT
BEGIN:VEVENT
DTSTART;VALUE=DATE:20190420
DTEND;VALUE=DATE:20190421
DTSTAMP:20260424T050930
CREATED:20181210T045547Z
LAST-MODIFIED:20190115T014936Z
UID:10002812-1555718400-1555804799@www.leuragolfclub.com.au
SUMMARY:Wallace Cup (Stableford 2BBB) + Stableford Singles
DESCRIPTION:Wallace Cup is a Stableford 2BBB competition. It is an open event.
URL:https://www.leuragolfclub.com.au/event/wallace-cup-stableford-2bbb-stableford-singles/
CATEGORIES:LGC Major Events
END:VEVENT
BEGIN:VEVENT
DTSTART;VALUE=DATE:20190420
DTEND;VALUE=DATE:20190421
DTSTAMP:20260424T050930
CREATED:20180626T023936Z
LAST-MODIFIED:20180626T023936Z
UID:10002605-1555718400-1555804799@www.leuragolfclub.com.au
SUMMARY:Stableford + 2B Aggregate
DESCRIPTION:Medley competition – visitors welcome. \nComp closes at 4pm so please ensure that your tee time will allow you to finish in time.
URL:https://www.leuragolfclub.com.au/event/stableford-2b-aggregate/2019-04-20/
CATEGORIES:Saturday Medley Comp
END:VEVENT
BEGIN:VEVENT
DTSTART;VALUE=DATE:20190419
DTEND;VALUE=DATE:20190420
DTSTAMP:20260424T050930
CREATED:20190206T034708Z
LAST-MODIFIED:20190206T034708Z
UID:10002823-1555632000-1555718399@www.leuragolfclub.com.au
SUMMARY:Good Friday
DESCRIPTION:
URL:https://www.leuragolfclub.com.au/event/good-friday-2/
CATEGORIES:Other
END:VEVENT
BEGIN:VEVENT
DTSTART;VALUE=DATE:20190417
DTEND;VALUE=DATE:20190418
DTSTAMP:20260424T050930
CREATED:20231120T001150Z
LAST-MODIFIED:20231120T001150Z
UID:10002438-1555459200-1555545599@www.leuragolfclub.com.au
SUMMARY:Stableford Singles + 2BBB
DESCRIPTION:
URL:https://www.leuragolfclub.com.au/event/stableford-singles-2bbb-2/2019-04-17/
CATEGORIES:Wednesday Medley Comp
END:VEVENT
BEGIN:VEVENT
DTSTART;VALUE=DATE:20190413
DTEND;VALUE=DATE:20190414
DTSTAMP:20260424T050930
CREATED:20181209T060037Z
LAST-MODIFIED:20181210T044850Z
UID:10002774-1555113600-1555199999@www.leuragolfclub.com.au
SUMMARY:Stableford Singles + 2BBB
DESCRIPTION:
URL:https://www.leuragolfclub.com.au/event/stableford-singles-2bbb/2019-04-13/
CATEGORIES:Saturday Medley Comp
END:VEVENT
BEGIN:VEVENT
DTSTART;VALUE=DATE:20190410
DTEND;VALUE=DATE:20190411
DTSTAMP:20260424T050930
CREATED:20181210T023834Z
LAST-MODIFIED:20181210T023834Z
UID:10002452-1554854400-1554940799@www.leuragolfclub.com.au
SUMMARY:Stableford Singles + 2B Aggregate
DESCRIPTION:Competition closing times (can be varied at the discretion of the starter) \n\nDaylight Saving – Competitions will be closed at 4.30pm on Tuesday and Wednesday\, 5.00pm on Friday and 5.30pm on a Saturday.\nEastern Standard Time – Competitions will be closed at 3.30pm on Tuesday and Wednesday\, 4.00pm on Friday and 4.30pm on a Saturday. Therefore players must take ownership of their speed of play and book tee times in accordance with these times.\n\nNo exceptions will be considered for late returned cards. A DNF will be recorded past comp closure times.
URL:https://www.leuragolfclub.com.au/event/stableford-singles-2b-aggregate/2019-04-10/
CATEGORIES:Wednesday Medley Comp
END:VEVENT
BEGIN:VEVENT
DTSTART;TZID=Australia/Melbourne:20190406T173000
DTEND;TZID=Australia/Melbourne:20190406T193000
DTSTAMP:20260424T050930
CREATED:20181210T022516Z
LAST-MODIFIED:20190318T001625Z
UID:10002422-1554571800-1554579000@www.leuragolfclub.com.au
SUMMARY:Presentation evening
DESCRIPTION:Presentation evening – 5.30 pm for 6 pm start.
URL:https://www.leuragolfclub.com.au/event/presentation-evening/
CATEGORIES:LGC Function
END:VEVENT
BEGIN:VEVENT
DTSTART;VALUE=DATE:20190406
DTEND;VALUE=DATE:20190407
DTSTAMP:20260424T050930
CREATED:20181210T022250Z
LAST-MODIFIED:20190316T223108Z
UID:10002421-1554508800-1554595199@www.leuragolfclub.com.au
SUMMARY:Club Championships Rd 3
DESCRIPTION:LEURA GOLF CLUB\nCONDITIONS OF PLAY – CLUB CHAMPIONSHIPS 2019\nENTRANCE FEE $60- PAYABLE PRIOR TO ROUND 1\n\nThe competition will be played according to the ‘Rules of Golf’ and competitors must be members of Leura Golf Club and hold a Golf Australia handicap. In addition members’ attention is drawn to By-Law 7 (see below) regarding eligibility.\nThe competition will consist of three rounds of 18 holes stroke play from the blue tees on Saturdays\, 16\, 23 and 30 March 2019. The ball will be played as it lies. There will be no preferred lies. Earliest tee time shall be 7.00 am\, the latest 12.30 pm. For Round 3 all players still participating in the championships will play in groups of three commencing at 8.30 am\, first the C graders\, then B graders\, then A graders. Groups will be decided by the Match Committee.\nAll three rounds will be played off Daily Handicaps applicable at the commencement of Round 1.\nThe competition will be played in three grades\, namely:\n\nA grade – Daily Handicap of 12 or less\nB grade – higher than 12 to less than 20\nC grade – 20 to 36\n\n\nThe championship winner in each grade will be the competitor who returns the best aggregate scratch score over the three rounds. There will also be a net winner in each grade. In conjunction there will be a Seniors’ championship (aged 60 or over at commencement of competition) which will be a scratch event only. There will be prizes for the Runners-up.\nIn the event of a tie winners will be decided by count backs as applied by Golf Link.\nAll disputes must be in writing and will be decided by the Match Committee. Decisions will be final.\nIf in the opinion of the Match committee in conjunction with the Greenkeeper the course should be closed due to inclement weather the round affected shall not be played and shall be re-scheduled to Saturday 6 April 2019 and shall be played in conjunction with the April Medal round. If more than one round cannot be played the championships shall be reduced to two rounds. If necessary\, rounds to make up the two shall be scheduled by the Match Committee.\nOn the three Saturdays there will be a daily stroke competition. Current on the day handicaps will be applicable.\nThose not playing in the championships may play single Stableford rounds from the white tees. There will be no two ball competition and Stableford players will not be eligible for NTPs.\n\nMATCH COMMITTEE – LEURA GOLF CLUB \nBy-law 7 – CLUB CHAMPIONSHIP ELIGIBILITY: \nTo be eligible to play in any Club Championship event\, a Member shall have completed at least two (2) monthly medal rounds or at least five (5) competition rounds at Leura Golf Club in the twelve months immediately preceding the Club Championships. \nNOTE: This year’s Major Events Presentation is to take place on Saturday evening 6 April. If the championships have not been concluded by then the formal presentation to championship winners shall be carried over to next year’s presentation event.
URL:https://www.leuragolfclub.com.au/event/club-championships-contingency-day/
CATEGORIES:LGC Major Events
END:VEVENT
BEGIN:VEVENT
DTSTART;VALUE=DATE:20190406
DTEND;VALUE=DATE:20190407
DTSTAMP:20260424T050930
CREATED:20181209T052917Z
LAST-MODIFIED:20181209T053445Z
UID:10002745-1554508800-1554595199@www.leuragolfclub.com.au
SUMMARY:Monthly Medal
DESCRIPTION:
URL:https://www.leuragolfclub.com.au/event/monthly-medal-white-course-single-stableford/2019-04-06/
CATEGORIES:Saturday Medley Comp
END:VEVENT
BEGIN:VEVENT
DTSTART;VALUE=DATE:20190403
DTEND;VALUE=DATE:20190404
DTSTAMP:20260424T050930
CREATED:20181210T023701Z
LAST-MODIFIED:20181210T024130Z
UID:10002426-1554249600-1554335999@www.leuragolfclub.com.au
SUMMARY:Stableford Singles + 2BBB
DESCRIPTION:
URL:https://www.leuragolfclub.com.au/event/stableford-singles-2bbb-2/2019-04-03/
CATEGORIES:Wednesday Medley Comp
END:VEVENT
BEGIN:VEVENT
DTSTART;VALUE=DATE:20190330
DTEND;VALUE=DATE:20190331
DTSTAMP:20260424T050930
CREATED:20181210T022136Z
LAST-MODIFIED:20190316T222134Z
UID:10002420-1553904000-1553990399@www.leuragolfclub.com.au
SUMMARY:Club Championships - Rd 2
DESCRIPTION:LEURA GOLF CLUB\nCONDITIONS OF PLAY – CLUB CHAMPIONSHIPS 2019\nENTRANCE FEE $60- PAYABLE PRIOR TO ROUND 1\n\nThe competition will be played according to the ‘Rules of Golf’ and competitors must be members of Leura Golf Club and hold a Golf Australia handicap. In addition members’ attention is drawn to By-Law 7 (see below) regarding eligibility.\nThe competition will consist of three rounds of 18 holes stroke play from the blue tees on Saturdays\, 16\, 23 and 30 March 2019. The ball will be played as it lies. There will be no preferred lies. Earliest tee time shall be 7.00 am\, the latest 12.30 pm. For Round 3 all players still participating in the championships will play in groups of three commencing at 8.30 am\, first the C graders\, then B graders\, then A graders. Groups will be decided by the Match Committee.\nAll three rounds will be played off Daily Handicaps applicable at the commencement of Round 1.\nThe competition will be played in three grades\, namely:\n\nA grade – Daily Handicap of 12 or less\nB grade – higher than 12 to less than 20\nC grade – 20 to 36\n\n\nThe championship winner in each grade will be the competitor who returns the best aggregate scratch score over the three rounds. There will also be a net winner in each grade. In conjunction there will be a Seniors’ championship (aged 60 or over at commencement of competition) which will be a scratch event only. There will be prizes for the Runners-up.\nIn the event of a tie winners will be decided by count backs as applied by Golf Link.\nAll disputes must be in writing and will be decided by the Match Committee. Decisions will be final.\nIf in the opinion of the Match committee in conjunction with the Greenkeeper the course should be closed due to inclement weather the round affected shall not be played and shall be re-scheduled to Saturday 6 April 2019 and shall be played in conjunction with the April Medal round. If more than one round cannot be played the championships shall be reduced to two rounds. If necessary\, rounds to make up the two shall be scheduled by the Match Committee.\nOn the three Saturdays there will be a daily stroke competition. Current on the day handicaps will be applicable.\nThose not playing in the championships may play single Stableford rounds from the white tees. There will be no two ball competition and Stableford players will not be eligible for NTPs.\n\nMATCH COMMITTEE – LEURA GOLF CLUB \nBy-law 7 – CLUB CHAMPIONSHIP ELIGIBILITY: \nTo be eligible to play in any Club Championship event\, a Member shall have completed at least two (2) monthly medal rounds or at least five (5) competition rounds at Leura Golf Club in the twelve months immediately preceding the Club Championships. \nNOTE: This year’s Major Events Presentation is to take place on Saturday evening 6 April. If the championships have not been concluded by then the formal presentation to championship winners shall be carried over to next year’s presentation event.
URL:https://www.leuragolfclub.com.au/event/club-championships-rd-3/
CATEGORIES:LGC Major Events
END:VEVENT
BEGIN:VEVENT
DTSTART;VALUE=DATE:20190327
DTEND;VALUE=DATE:20190328
DTSTAMP:20260424T050930
CREATED:20181210T024446Z
LAST-MODIFIED:20181210T024446Z
UID:10002463-1553644800-1553731199@www.leuragolfclub.com.au
SUMMARY:Stableford Singles + 2 Ball Multiplier
DESCRIPTION:Competition closing times (can be varied at the discretion of the starter) \n\nDaylight Saving – Competitions will be closed at 4.30pm on Tuesday and Wednesday\, 5.00pm on Friday and 5.30pm on a Saturday.\nEastern Standard Time – Competitions will be closed at 3.30pm on Tuesday and Wednesday\, 4.00pm on Friday and 4.30pm on a Saturday. Therefore players must take ownership of their speed of play and book tee times in accordance with these times.\n\nNo exceptions will be considered for late returned cards. A DNF will be recorded past comp closure times.
URL:https://www.leuragolfclub.com.au/event/stableford-singles-2-ball-multiplier/2019-03-27/
CATEGORIES:Wednesday Medley Comp
END:VEVENT
END:VCALENDAR