BEGIN:VCALENDAR
VERSION:2.0
PRODID:-//Leura Golf Club - ECPv6.13.2.1//NONSGML v1.0//EN
CALSCALE:GREGORIAN
METHOD:PUBLISH
X-WR-CALNAME:Leura Golf Club
X-ORIGINAL-URL:https://www.leuragolfclub.com.au
X-WR-CALDESC:Events for Leura Golf Club
REFRESH-INTERVAL;VALUE=DURATION:PT1H
X-Robots-Tag:noindex
X-PUBLISHED-TTL:PT1H
BEGIN:VTIMEZONE
TZID:Australia/Melbourne
BEGIN:STANDARD
TZOFFSETFROM:+1100
TZOFFSETTO:+1000
TZNAME:AEST
DTSTART:20190406T160000
END:STANDARD
BEGIN:DAYLIGHT
TZOFFSETFROM:+1000
TZOFFSETTO:+1100
TZNAME:AEDT
DTSTART:20191005T160000
END:DAYLIGHT
END:VTIMEZONE
BEGIN:VEVENT
DTSTART;VALUE=DATE:20191109
DTEND;VALUE=DATE:20191110
DTSTAMP:20260424T013158
CREATED:20181210T021142Z
LAST-MODIFIED:20191021T051851Z
UID:10002417-1573257600-1573343999@www.leuragolfclub.com.au
SUMMARY:LGC Fairmont Open
DESCRIPTION:FAIRMONT LEURA OPEN 2019\nConditions of Play\n\nCOMPETITION: This is an 18 hole stroke competition to be played according to the Rules of Golf. Competitors must hold a current Golf Link handicap.\nTHE BALL will be played as stipulated on the signboard adjacent to the first tee. If on the day Preferred Lies Fairways only applies and a player is unsure whether the ball is on the fairway player should seek advice from marker before preferring the ball.\nHANDICAPS (means Daily Handicaps): Men – up to 36 (A grade 12 or less\, B grade 13-19\, C grade 20-36)\, Ladies – up to 45. Current Golf Link cards must be presented to Pro Shop prior to commencement of round.\nSTARING TIMES: Players must report to the Pro Shop at least 15 minutes prior to their scheduled tee times.\nTEES: Men – Blue tees\, Ladies – Red tees.\nLOCAL RULES: Players should acquaint themselves with local rules as amended for this event before beginning their round.\nPACE OF PLAY: Course Marshalls will be on the course – please keep up with the group in front. Slow play will be penalized in accordance with Rule 5.6a.\nSTAKED TREES: A local rule is in place (see No Play Zones) and as such it is mandatory to take relief from staked trees. Failure to do so incurs a 2 stroke penalty. Relief must be taken such that the player does not touch any part of the tree\, even a single leaf\, with body or club when taking stance or during the stroke\, to do so incurs a 2 stroke penalty.\nSCORE CARDS: Competitors must ensure correct handicap is shown\, correct score is recorded for each hole and the card is signed by both player and marker.\nTIE: In the event of a tie a countback will take place as applied by Golf Link.\nINCLEMENT WEATHER: If in the opinion of the Match committee in conjunction with the Greenkeeper the course should be closed due to inclement weather the event shall not be played and shall be re-scheduled.\nPROTESTS: Should be lodged in writing with Match Committee immediately after completion of round. All disputes will be decided by the Match Committee. Decisions will be final.\nTROPHIES: One trophy per person other than NTPs or Longest Drives.\n\nLocal Rules\n\nREFERENCE – RULES OF GOLF – 2019 \nThe LGC Local Rules apply to the Fairmont Leura Open except as noted\, expanded and/or clarified below. \nIMMOVABLE OBSTRUCTIONS – Rule 16 \nIncludes the artificial surfaces and sides of roads and paths including gravel paths. \nIMMOVABLE OBSTRUCTIONS CLOSE TO PUTTING GREEN  \nSPRINKLER HEADS \nRelief may be taken under Rule 16.1b if a sprinkler head or other immovable obstruction is on the line of play and is within two club lengths of the putting green\, and within two club lengths of the ball provided that there will be no relief if the line of play is clearly unreasonable. \n12TH HOLE \nThe 12th hole local rule which is applicable to C graders only in normal competitions shall NOT apply for this event. \nDROP ZONE \nThere is a clearly defined drop zone alongside\, and for play to\, the 6th green (left hand side) for relief from the nearby designated hedge area. \nSLOW PLAY – Rule 5.6a \nSlow play penalties will be imposed. \nGeneral penalty for breach of Local Rules – 2 strokes. \nMatch Committee – Leura Golf Club
URL:https://www.leuragolfclub.com.au/event/leura-open-2/
CATEGORIES:LGC Major Events
END:VEVENT
BEGIN:VEVENT
DTSTART;VALUE=DATE:20191106
DTEND;VALUE=DATE:20191107
DTSTAMP:20260424T013158
CREATED:20181210T023701Z
LAST-MODIFIED:20181210T024130Z
UID:10002433-1572998400-1573084799@www.leuragolfclub.com.au
SUMMARY:Stableford Singles + 2BBB
DESCRIPTION:
URL:https://www.leuragolfclub.com.au/event/stableford-singles-2bbb-2/2019-11-06/
CATEGORIES:Wednesday Medley Comp
END:VEVENT
BEGIN:VEVENT
DTSTART;VALUE=DATE:20191102
DTEND;VALUE=DATE:20191104
DTSTAMP:20260424T013158
CREATED:20190224T224328Z
LAST-MODIFIED:20190224T224510Z
UID:10002829-1572652800-1572825599@www.leuragolfclub.com.au
SUMMARY:Country Championships - Bathurst
DESCRIPTION:
URL:https://www.leuragolfclub.com.au/event/country-championships/
CATEGORIES:Other
END:VEVENT
BEGIN:VEVENT
DTSTART;VALUE=DATE:20191102
DTEND;VALUE=DATE:20191103
DTSTAMP:20260424T013158
CREATED:20181209T052917Z
LAST-MODIFIED:20181209T053445Z
UID:10002751-1572652800-1572739199@www.leuragolfclub.com.au
SUMMARY:Monthly Medal
DESCRIPTION:
URL:https://www.leuragolfclub.com.au/event/monthly-medal-white-course-single-stableford/2019-11-02/
CATEGORIES:Saturday Medley Comp
END:VEVENT
BEGIN:VEVENT
DTSTART;VALUE=DATE:20191030
DTEND;VALUE=DATE:20191031
DTSTAMP:20260424T013158
CREATED:20181210T042925Z
LAST-MODIFIED:20190528T014310Z
UID:10002807-1572393600-1572479999@www.leuragolfclub.com.au
SUMMARY:Irish Foursomes
DESCRIPTION:Conditions of Play for Irish Foursomes with singles in conjunction as played at LGC\nPlayed by a team of four using Stableford scoring system. To tally the teams score: \n\nfirst six holes the best score only is tallied\,\nnext five holes the best two scores are tallied\,\nnext four holes the best three scores are tallied\, and\nfor the final three holes all scores are tallied.\n\nMatch Committee April 2019
URL:https://www.leuragolfclub.com.au/event/irish-foursomes-3/
CATEGORIES:Wednesday Medley Comp
END:VEVENT
BEGIN:VEVENT
DTSTART;VALUE=DATE:20191026
DTEND;VALUE=DATE:20191027
DTSTAMP:20260424T013158
CREATED:20181209T222036Z
LAST-MODIFIED:20181210T015922Z
UID:10002797-1572048000-1572134399@www.leuragolfclub.com.au
SUMMARY:Stableford + 2 Ball Mutiplier
DESCRIPTION:Competition closing times (can be varied at the discretion of the starter) \n\nDaylight Saving – Competitions will be closed at 4.30pm on Tuesday and Wednesday\, 5.00pm on Friday and 5.30pm on a Saturday.\nEastern Standard Time – Competitions will be closed at 3.30pm on Tuesday and Wednesday\, 4.00pm on Friday and 4.30pm on a Saturday. Therefore players must take ownership of their speed of play and book tee times in accordance with these times.\n\nNo exceptions will be considered for late returned cards. A DNF will be recorded past comp closure times.
URL:https://www.leuragolfclub.com.au/event/stableford-2-ball-mutiplier/2019-10-26/
CATEGORIES:Saturday Medley Comp
END:VEVENT
BEGIN:VEVENT
DTSTART;VALUE=DATE:20191023
DTEND;VALUE=DATE:20191024
DTSTAMP:20260424T013158
CREATED:20181210T024446Z
LAST-MODIFIED:20181210T024446Z
UID:10002469-1571788800-1571875199@www.leuragolfclub.com.au
SUMMARY:Stableford Singles + 2 Ball Multiplier
DESCRIPTION:Competition closing times (can be varied at the discretion of the starter) \n\nDaylight Saving – Competitions will be closed at 4.30pm on Tuesday and Wednesday\, 5.00pm on Friday and 5.30pm on a Saturday.\nEastern Standard Time – Competitions will be closed at 3.30pm on Tuesday and Wednesday\, 4.00pm on Friday and 4.30pm on a Saturday. Therefore players must take ownership of their speed of play and book tee times in accordance with these times.\n\nNo exceptions will be considered for late returned cards. A DNF will be recorded past comp closure times.
URL:https://www.leuragolfclub.com.au/event/stableford-singles-2-ball-multiplier/2019-10-23/
CATEGORIES:Wednesday Medley Comp
END:VEVENT
BEGIN:VEVENT
DTSTART;VALUE=DATE:20191022
DTEND;VALUE=DATE:20191023
DTSTAMP:20260424T013158
CREATED:20181209T055802Z
LAST-MODIFIED:20190816T010255Z
UID:10002771-1571702400-1571788799@www.leuragolfclub.com.au
SUMMARY:Women's Open 18 Hole Stroke Event
DESCRIPTION:WOMEN’S GOLF LEURA\n18 Hole Stroke Event Invitation\nTUESDAY 22 October 2019\nDownload Application Form\n  \nPrizes:                                            FIRST\, SECOND & THIRD PLACES \n                                                        NEAREST-THE-PINS\, LONGEST DRIVE\, STRAIGHTEST DRIVE \nEntry fee:                                      $25.00 per player \nTime:                                              8am Registration and Morning Tea \nTee Time:                                      From 9am \nGolf Carts:                                     Book motorised carts through Pro Shop – Phone 02 4785 0034 \nFacilities:                                       The Club restaurant will be closed but sandwiches can be ordered on the day \nRSVP:                                              MONDAY 14 October 2019 \n                                                          However late entries will be accepted if numbers allow \n                                                          Payment must accompany Entry Form \nCheques                                         to be made payable to “Women’s Golf Leura” \nDirect Payment Details                Women’s Golf Leura  \n                                                          BSB 032-828    Westpac             \n                                                          Account Number 120068 \n                                                          **PLEASE ENTER YOUR NAME IN REFERENCE** \nEntries to:                                       Women’s Golf Leura                  \nc/- Leura Golf Club \n                                                          Sublime Point Road\, Leura NSW 2780 \nEnquiries:\nSusie Paull – Secretary – Phone 0414 353 419 – email:  susan.paull1@gmail.com \nJanette Hall – Captain – Phone 02 4782 3719\, 0408 420 554 –email:  gh171715@bigpond.net.au
URL:https://www.leuragolfclub.com.au/event/womens-comp-medley-2-2019-10-22/
END:VEVENT
BEGIN:VEVENT
DTSTART;VALUE=DATE:20191020
DTEND;VALUE=DATE:20191021
DTSTAMP:20260424T013158
CREATED:20181210T053229Z
LAST-MODIFIED:20191004T045409Z
UID:10002479-1571529600-1571615999@www.leuragolfclub.com.au
SUMMARY:Henbury Open
DESCRIPTION:
URL:https://www.leuragolfclub.com.au/event/henbury-open-2/
CATEGORIES:Other
END:VEVENT
BEGIN:VEVENT
DTSTART;VALUE=DATE:20191019
DTEND;VALUE=DATE:20191020
DTSTAMP:20260424T013158
CREATED:20181209T221326Z
LAST-MODIFIED:20181210T045753Z
UID:10002786-1571443200-1571529599@www.leuragolfclub.com.au
SUMMARY:Singles v Par + 2BBB
DESCRIPTION:Competition closing times (can be varied at the discretion of the starter) \n\nDaylight Saving – Competitions will be closed at 4.30pm on Tuesday and Wednesday\, 5.00pm on Friday and 5.30pm on a Saturday.\nEastern Standard Time – Competitions will be closed at 3.30pm on Tuesday and Wednesday\, 4.00pm on Friday and 4.30pm on a Saturday. Therefore players must take ownership of their speed of play and book tee times in accordance with these times.\n\nNo exceptions will be considered for late returned cards. A DNF will be recorded past comp closure times.
URL:https://www.leuragolfclub.com.au/event/singles-v-par-2bbb/2019-10-19/
CATEGORIES:Saturday Medley Comp
END:VEVENT
BEGIN:VEVENT
DTSTART;VALUE=DATE:20191019
DTEND;VALUE=DATE:20191020
DTSTAMP:20260424T013158
CREATED:20180626T023936Z
LAST-MODIFIED:20180626T023936Z
UID:10002611-1571443200-1571529599@www.leuragolfclub.com.au
SUMMARY:Stableford + 2B Aggregate
DESCRIPTION:Medley competition – visitors welcome. \nComp closes at 4pm so please ensure that your tee time will allow you to finish in time.
URL:https://www.leuragolfclub.com.au/event/stableford-2b-aggregate/2019-10-19/
CATEGORIES:Saturday Medley Comp
END:VEVENT
BEGIN:VEVENT
DTSTART;VALUE=DATE:20191016
DTEND;VALUE=DATE:20191017
DTSTAMP:20260424T013158
CREATED:20231120T001150Z
LAST-MODIFIED:20231120T001150Z
UID:10002444-1571184000-1571270399@www.leuragolfclub.com.au
SUMMARY:Stableford Singles + 2BBB
DESCRIPTION:
URL:https://www.leuragolfclub.com.au/event/stableford-singles-2bbb-2/2019-10-16/
CATEGORIES:Wednesday Medley Comp
END:VEVENT
BEGIN:VEVENT
DTSTART;VALUE=DATE:20191012
DTEND;VALUE=DATE:20191013
DTSTAMP:20260424T013158
CREATED:20181209T060037Z
LAST-MODIFIED:20181210T044850Z
UID:10002778-1570838400-1570924799@www.leuragolfclub.com.au
SUMMARY:Stableford Singles + 2BBB
DESCRIPTION:
URL:https://www.leuragolfclub.com.au/event/stableford-singles-2bbb/2019-10-12/
CATEGORIES:Saturday Medley Comp
END:VEVENT
BEGIN:VEVENT
DTSTART;VALUE=DATE:20191009
DTEND;VALUE=DATE:20191010
DTSTAMP:20260424T013158
CREATED:20181210T023834Z
LAST-MODIFIED:20181210T023834Z
UID:10002458-1570579200-1570665599@www.leuragolfclub.com.au
SUMMARY:Stableford Singles + 2B Aggregate
DESCRIPTION:Competition closing times (can be varied at the discretion of the starter) \n\nDaylight Saving – Competitions will be closed at 4.30pm on Tuesday and Wednesday\, 5.00pm on Friday and 5.30pm on a Saturday.\nEastern Standard Time – Competitions will be closed at 3.30pm on Tuesday and Wednesday\, 4.00pm on Friday and 4.30pm on a Saturday. Therefore players must take ownership of their speed of play and book tee times in accordance with these times.\n\nNo exceptions will be considered for late returned cards. A DNF will be recorded past comp closure times.
URL:https://www.leuragolfclub.com.au/event/stableford-singles-2b-aggregate/2019-10-09/
CATEGORIES:Wednesday Medley Comp
END:VEVENT
BEGIN:VEVENT
DTSTART;VALUE=DATE:20191005
DTEND;VALUE=DATE:20191006
DTSTAMP:20260424T013158
CREATED:20181209T052917Z
LAST-MODIFIED:20181209T053445Z
UID:10002750-1570233600-1570319999@www.leuragolfclub.com.au
SUMMARY:Monthly Medal
DESCRIPTION:
URL:https://www.leuragolfclub.com.au/event/monthly-medal-white-course-single-stableford/2019-10-05/
CATEGORIES:Saturday Medley Comp
END:VEVENT
BEGIN:VEVENT
DTSTART;VALUE=DATE:20191002
DTEND;VALUE=DATE:20191003
DTSTAMP:20260424T013158
CREATED:20181210T023701Z
LAST-MODIFIED:20181210T024130Z
UID:10002432-1569974400-1570060799@www.leuragolfclub.com.au
SUMMARY:Stableford Singles + 2BBB
DESCRIPTION:
URL:https://www.leuragolfclub.com.au/event/stableford-singles-2bbb-2/2019-10-02/
CATEGORIES:Wednesday Medley Comp
END:VEVENT
BEGIN:VEVENT
DTSTART;VALUE=DATE:20190928
DTEND;VALUE=DATE:20190929
DTSTAMP:20260424T013158
CREATED:20181209T221910Z
LAST-MODIFIED:20181210T022936Z
UID:10002791-1569628800-1569715199@www.leuragolfclub.com.au
SUMMARY:Stableford + 2 Ball Aggregate
DESCRIPTION:Competition closing times (can be varied at the discretion of the starter) \n\nDaylight Saving – Competitions will be closed at 4.30pm on Tuesday and Wednesday\, 5.00pm on Friday and 5.30pm on a Saturday.\nEastern Standard Time – Competitions will be closed at 3.30pm on Tuesday and Wednesday\, 4.00pm on Friday and 4.30pm on a Saturday. Therefore players must take ownership of their speed of play and book tee times in accordance with these times.\n\nNo exceptions will be considered for late returned cards. A DNF will be recorded past comp closure times.
URL:https://www.leuragolfclub.com.au/event/stableford-2-ball-aggregate-2/2019-09-28/
CATEGORIES:Saturday Medley Comp
END:VEVENT
BEGIN:VEVENT
DTSTART;VALUE=DATE:20190923
DTEND;VALUE=DATE:20190928
DTSTAMP:20260424T013158
CREATED:20190707T043711Z
LAST-MODIFIED:20190707T044247Z
UID:10002839-1569196800-1569628799@www.leuragolfclub.com.au
SUMMARY:Course Closed - Spring greens renovation
DESCRIPTION:Monday 23 – After a social group at 8 am course closed for coring\nTuesday 24 – Course closed for coring\nWednesday 25 – Course closed for sanding\nThursday 26 – Course closed for sanding\nFriday 27 – Course closed for fertilising day
URL:https://www.leuragolfclub.com.au/event/course-closed-spring-greens-renovation/
CATEGORIES:Other
END:VEVENT
BEGIN:VEVENT
DTSTART;VALUE=DATE:20190922
DTEND;VALUE=DATE:20190923
DTSTAMP:20260424T013158
CREATED:20181210T053543Z
LAST-MODIFIED:20190115T013830Z
UID:10002482-1569110400-1569196799@www.leuragolfclub.com.au
SUMMARY:Wentworth Falls Open
DESCRIPTION:
URL:https://www.leuragolfclub.com.au/event/wentworth-falls-open-2/
CATEGORIES:Other
END:VEVENT
BEGIN:VEVENT
DTSTART;VALUE=DATE:20190921
DTEND;VALUE=DATE:20190922
DTSTAMP:20260424T013158
CREATED:20181209T221326Z
LAST-MODIFIED:20181210T045753Z
UID:10002785-1569024000-1569110399@www.leuragolfclub.com.au
SUMMARY:Singles v Par + 2BBB
DESCRIPTION:Competition closing times (can be varied at the discretion of the starter) \n\nDaylight Saving – Competitions will be closed at 4.30pm on Tuesday and Wednesday\, 5.00pm on Friday and 5.30pm on a Saturday.\nEastern Standard Time – Competitions will be closed at 3.30pm on Tuesday and Wednesday\, 4.00pm on Friday and 4.30pm on a Saturday. Therefore players must take ownership of their speed of play and book tee times in accordance with these times.\n\nNo exceptions will be considered for late returned cards. A DNF will be recorded past comp closure times.
URL:https://www.leuragolfclub.com.au/event/singles-v-par-2bbb/2019-09-21/
CATEGORIES:Saturday Medley Comp
END:VEVENT
BEGIN:VEVENT
DTSTART;VALUE=DATE:20190921
DTEND;VALUE=DATE:20190922
DTSTAMP:20260424T013158
CREATED:20180626T023936Z
LAST-MODIFIED:20180626T023936Z
UID:10002610-1569024000-1569110399@www.leuragolfclub.com.au
SUMMARY:Stableford + 2B Aggregate
DESCRIPTION:Medley competition – visitors welcome. \nComp closes at 4pm so please ensure that your tee time will allow you to finish in time.
URL:https://www.leuragolfclub.com.au/event/stableford-2b-aggregate/2019-09-21/
CATEGORIES:Saturday Medley Comp
END:VEVENT
BEGIN:VEVENT
DTSTART;VALUE=DATE:20190918
DTEND;VALUE=DATE:20190919
DTSTAMP:20260424T013158
CREATED:20231120T001150Z
LAST-MODIFIED:20231120T001150Z
UID:10002443-1568764800-1568851199@www.leuragolfclub.com.au
SUMMARY:Stableford Singles + 2BBB
DESCRIPTION:
URL:https://www.leuragolfclub.com.au/event/stableford-singles-2bbb-2/2019-09-18/
CATEGORIES:Wednesday Medley Comp
END:VEVENT
BEGIN:VEVENT
DTSTART;VALUE=DATE:20190915
DTEND;VALUE=DATE:20190916
DTSTAMP:20260424T013158
CREATED:20181210T053640Z
LAST-MODIFIED:20190115T013723Z
UID:10002483-1568505600-1568591999@www.leuragolfclub.com.au
SUMMARY:Blackheath Open
DESCRIPTION:
URL:https://www.leuragolfclub.com.au/event/blackheath-open-2/
CATEGORIES:Other
END:VEVENT
BEGIN:VEVENT
DTSTART;VALUE=DATE:20190914
DTEND;VALUE=DATE:20190915
DTSTAMP:20260424T013158
CREATED:20181209T060037Z
LAST-MODIFIED:20181210T044850Z
UID:10002777-1568419200-1568505599@www.leuragolfclub.com.au
SUMMARY:Stableford Singles + 2BBB
DESCRIPTION:
URL:https://www.leuragolfclub.com.au/event/stableford-singles-2bbb/2019-09-14/
CATEGORIES:Saturday Medley Comp
END:VEVENT
BEGIN:VEVENT
DTSTART;VALUE=DATE:20190911
DTEND;VALUE=DATE:20190912
DTSTAMP:20260424T013158
CREATED:20181210T023834Z
LAST-MODIFIED:20181210T023834Z
UID:10002457-1568160000-1568246399@www.leuragolfclub.com.au
SUMMARY:Stableford Singles + 2B Aggregate
DESCRIPTION:Competition closing times (can be varied at the discretion of the starter) \n\nDaylight Saving – Competitions will be closed at 4.30pm on Tuesday and Wednesday\, 5.00pm on Friday and 5.30pm on a Saturday.\nEastern Standard Time – Competitions will be closed at 3.30pm on Tuesday and Wednesday\, 4.00pm on Friday and 4.30pm on a Saturday. Therefore players must take ownership of their speed of play and book tee times in accordance with these times.\n\nNo exceptions will be considered for late returned cards. A DNF will be recorded past comp closure times.
URL:https://www.leuragolfclub.com.au/event/stableford-singles-2b-aggregate/2019-09-11/
CATEGORIES:Wednesday Medley Comp
END:VEVENT
BEGIN:VEVENT
DTSTART;VALUE=DATE:20190908
DTEND;VALUE=DATE:20190909
DTSTAMP:20260424T013158
CREATED:20181210T052328Z
LAST-MODIFIED:20190115T050425Z
UID:10002478-1567900800-1567987199@www.leuragolfclub.com.au
SUMMARY:Blue Mountains District Junior Open
DESCRIPTION:
URL:https://www.leuragolfclub.com.au/event/blue-mountains-district-junior-open/
LOCATION:Wentworth Falls Country Club\, Australia
CATEGORIES:BM District Event
END:VEVENT
BEGIN:VEVENT
DTSTART;VALUE=DATE:20190907
DTEND;VALUE=DATE:20190908
DTSTAMP:20260424T013158
CREATED:20190812T033233Z
LAST-MODIFIED:20190812T033234Z
UID:10002486-1567814400-1567900799@www.leuragolfclub.com.au
SUMMARY:Haig & Haig Shield - Rd 2
DESCRIPTION:The Haig and Haig Shield  is a stroke event over 2 weeks with the winner being the person with the best aggregate nett score for the two rounds from across all grades. \nVisitors are not eligible to win the Shield.
URL:https://www.leuragolfclub.com.au/event/haig-haig-shield-rd-2-2-2/
CATEGORIES:LGC Major Events
END:VEVENT
BEGIN:VEVENT
DTSTART;VALUE=DATE:20190907
DTEND;VALUE=DATE:20190908
DTSTAMP:20260424T013158
CREATED:20181209T052917Z
LAST-MODIFIED:20190812T033009Z
UID:10002769-1567814400-1567900799@www.leuragolfclub.com.au
SUMMARY:Monthly Medal
DESCRIPTION:
URL:https://www.leuragolfclub.com.au/event/monthly-medal-white-course-single-stableford-2019-09-07/
CATEGORIES:Saturday Medley Comp
END:VEVENT
BEGIN:VEVENT
DTSTART;VALUE=DATE:20190904
DTEND;VALUE=DATE:20190905
DTSTAMP:20260424T013158
CREATED:20181210T023701Z
LAST-MODIFIED:20181210T024130Z
UID:10002431-1567555200-1567641599@www.leuragolfclub.com.au
SUMMARY:Stableford Singles + 2BBB
DESCRIPTION:
URL:https://www.leuragolfclub.com.au/event/stableford-singles-2bbb-2/2019-09-04/
CATEGORIES:Wednesday Medley Comp
END:VEVENT
BEGIN:VEVENT
DTSTART;VALUE=DATE:20190831
DTEND;VALUE=DATE:20190901
DTSTAMP:20260424T013158
CREATED:20181210T011531Z
LAST-MODIFIED:20190528T012219Z
UID:10002802-1567209600-1567295999@www.leuragolfclub.com.au
SUMMARY:Stableford + 2BBB
DESCRIPTION:Competition closing times (can be varied at the discretion of the starter) \n\nDaylight Saving – Competitions will be closed at 4.30pm on Tuesday and Wednesday\, 5.00pm on Friday and 5.30pm on a Saturday.\nEastern Standard Time – Competitions will be closed at 3.30pm on Tuesday and Wednesday\, 4.00pm on Friday and 4.30pm on a Saturday. Therefore players must take ownership of their speed of play and book tee times in accordance with these times.\n\nNo exceptions will be considered for late returned cards. A DNF will be recorded past comp closure times.
URL:https://www.leuragolfclub.com.au/event/irish-foursomes-2/
CATEGORIES:Saturday Medley Comp
END:VEVENT
END:VCALENDAR