BEGIN:VCALENDAR
VERSION:2.0
PRODID:-//Leura Golf Club - ECPv6.13.2.1//NONSGML v1.0//EN
CALSCALE:GREGORIAN
METHOD:PUBLISH
X-WR-CALNAME:Leura Golf Club
X-ORIGINAL-URL:https://www.leuragolfclub.com.au
X-WR-CALDESC:Events for Leura Golf Club
REFRESH-INTERVAL;VALUE=DURATION:PT1H
X-Robots-Tag:noindex
X-PUBLISHED-TTL:PT1H
BEGIN:VTIMEZONE
TZID:Australia/Melbourne
BEGIN:STANDARD
TZOFFSETFROM:+1100
TZOFFSETTO:+1000
TZNAME:AEST
DTSTART:20180331T160000
END:STANDARD
BEGIN:DAYLIGHT
TZOFFSETFROM:+1000
TZOFFSETTO:+1100
TZNAME:AEDT
DTSTART:20181006T160000
END:DAYLIGHT
BEGIN:STANDARD
TZOFFSETFROM:+1100
TZOFFSETTO:+1000
TZNAME:AEST
DTSTART:20190406T160000
END:STANDARD
BEGIN:DAYLIGHT
TZOFFSETFROM:+1000
TZOFFSETTO:+1100
TZNAME:AEDT
DTSTART:20191005T160000
END:DAYLIGHT
END:VTIMEZONE
BEGIN:VEVENT
DTSTART;VALUE=DATE:20190302
DTEND;VALUE=DATE:20190303
DTSTAMP:20260424T042814
CREATED:20181209T052917Z
LAST-MODIFIED:20181209T053445Z
UID:10002744-1551484800-1551571199@www.leuragolfclub.com.au
SUMMARY:Monthly Medal
DESCRIPTION:
URL:https://www.leuragolfclub.com.au/event/monthly-medal-white-course-single-stableford/2019-03-02/
CATEGORIES:Saturday Medley Comp
END:VEVENT
BEGIN:VEVENT
DTSTART;VALUE=DATE:20190227
DTEND;VALUE=DATE:20190228
DTSTAMP:20260424T042814
CREATED:20181210T024446Z
LAST-MODIFIED:20181210T024446Z
UID:10002462-1551225600-1551311999@www.leuragolfclub.com.au
SUMMARY:Stableford Singles + 2 Ball Multiplier
DESCRIPTION:Competition closing times (can be varied at the discretion of the starter) \n\nDaylight Saving – Competitions will be closed at 4.30pm on Tuesday and Wednesday\, 5.00pm on Friday and 5.30pm on a Saturday.\nEastern Standard Time – Competitions will be closed at 3.30pm on Tuesday and Wednesday\, 4.00pm on Friday and 4.30pm on a Saturday. Therefore players must take ownership of their speed of play and book tee times in accordance with these times.\n\nNo exceptions will be considered for late returned cards. A DNF will be recorded past comp closure times.
URL:https://www.leuragolfclub.com.au/event/stableford-singles-2-ball-multiplier/2019-02-27/
CATEGORIES:Wednesday Medley Comp
END:VEVENT
BEGIN:VEVENT
DTSTART;VALUE=DATE:20190224
DTEND;VALUE=DATE:20190225
DTSTAMP:20260424T042814
CREATED:20181210T052138Z
LAST-MODIFIED:20190116T044411Z
UID:10002476-1550966400-1551052799@www.leuragolfclub.com.au
SUMMARY:Blue Mountains District Pennants
DESCRIPTION:03 Feb at Leura – Leura has a bye in Seniors and Masters.\nAt Leura 1st tee off time is 9.00 am\, last is 11.30 am.\n10 Feb at Wentworth Falls – Wentworth Falls has a bye in Seniors and Masters.\n17 Feb at Blackheath – Lithgow has a bye in Seniors\, Blackheath has a bye in Masters.\n 24 Feb at Oberon – Oberon has a bye in Masters.\n03 Mar at Lithgow – Lithgow has a bye in Masters.\n\nAny round which is called off by host course authority will be considered a draw and not re-scheduled.  \nPlay off dates and venues will be scheduled if and when they become necessary.
URL:https://www.leuragolfclub.com.au/event/blue-mountains-district-pennants/2019-02-24/
CATEGORIES:BM District Event
END:VEVENT
BEGIN:VEVENT
DTSTART;VALUE=DATE:20190223
DTEND;VALUE=DATE:20190224
DTSTAMP:20260424T042814
CREATED:20181209T222036Z
LAST-MODIFIED:20181210T015922Z
UID:10002794-1550880000-1550966399@www.leuragolfclub.com.au
SUMMARY:Stableford + 2 Ball Mutiplier
DESCRIPTION:Competition closing times (can be varied at the discretion of the starter) \n\nDaylight Saving – Competitions will be closed at 4.30pm on Tuesday and Wednesday\, 5.00pm on Friday and 5.30pm on a Saturday.\nEastern Standard Time – Competitions will be closed at 3.30pm on Tuesday and Wednesday\, 4.00pm on Friday and 4.30pm on a Saturday. Therefore players must take ownership of their speed of play and book tee times in accordance with these times.\n\nNo exceptions will be considered for late returned cards. A DNF will be recorded past comp closure times.
URL:https://www.leuragolfclub.com.au/event/stableford-2-ball-mutiplier/2019-02-23/
CATEGORIES:Saturday Medley Comp
END:VEVENT
BEGIN:VEVENT
DTSTART;VALUE=DATE:20190220
DTEND;VALUE=DATE:20190221
DTSTAMP:20260424T042814
CREATED:20231120T001150Z
LAST-MODIFIED:20231120T001150Z
UID:10002436-1550620800-1550707199@www.leuragolfclub.com.au
SUMMARY:Stableford Singles + 2BBB
DESCRIPTION:
URL:https://www.leuragolfclub.com.au/event/stableford-singles-2bbb-2/2019-02-20/
CATEGORIES:Wednesday Medley Comp
END:VEVENT
BEGIN:VEVENT
DTSTART;VALUE=DATE:20190217
DTEND;VALUE=DATE:20190218
DTSTAMP:20260424T042814
CREATED:20181210T052138Z
LAST-MODIFIED:20190116T044411Z
UID:10002475-1550361600-1550447999@www.leuragolfclub.com.au
SUMMARY:Blue Mountains District Pennants
DESCRIPTION:03 Feb at Leura – Leura has a bye in Seniors and Masters.\nAt Leura 1st tee off time is 9.00 am\, last is 11.30 am.\n10 Feb at Wentworth Falls – Wentworth Falls has a bye in Seniors and Masters.\n17 Feb at Blackheath – Lithgow has a bye in Seniors\, Blackheath has a bye in Masters.\n 24 Feb at Oberon – Oberon has a bye in Masters.\n03 Mar at Lithgow – Lithgow has a bye in Masters.\n\nAny round which is called off by host course authority will be considered a draw and not re-scheduled.  \nPlay off dates and venues will be scheduled if and when they become necessary.
URL:https://www.leuragolfclub.com.au/event/blue-mountains-district-pennants/2019-02-17/
CATEGORIES:BM District Event
END:VEVENT
BEGIN:VEVENT
DTSTART;VALUE=DATE:20190216
DTEND;VALUE=DATE:20190217
DTSTAMP:20260424T042814
CREATED:20181209T221326Z
LAST-MODIFIED:20181210T045753Z
UID:10002782-1550275200-1550361599@www.leuragolfclub.com.au
SUMMARY:Singles v Par + 2BBB
DESCRIPTION:Competition closing times (can be varied at the discretion of the starter) \n\nDaylight Saving – Competitions will be closed at 4.30pm on Tuesday and Wednesday\, 5.00pm on Friday and 5.30pm on a Saturday.\nEastern Standard Time – Competitions will be closed at 3.30pm on Tuesday and Wednesday\, 4.00pm on Friday and 4.30pm on a Saturday. Therefore players must take ownership of their speed of play and book tee times in accordance with these times.\n\nNo exceptions will be considered for late returned cards. A DNF will be recorded past comp closure times.
URL:https://www.leuragolfclub.com.au/event/singles-v-par-2bbb/2019-02-16/
CATEGORIES:Saturday Medley Comp
END:VEVENT
BEGIN:VEVENT
DTSTART;VALUE=DATE:20190216
DTEND;VALUE=DATE:20190217
DTSTAMP:20260424T042814
CREATED:20180626T023936Z
LAST-MODIFIED:20180626T023936Z
UID:10002603-1550275200-1550361599@www.leuragolfclub.com.au
SUMMARY:Stableford + 2B Aggregate
DESCRIPTION:Medley competition – visitors welcome. \nComp closes at 4pm so please ensure that your tee time will allow you to finish in time.
URL:https://www.leuragolfclub.com.au/event/stableford-2b-aggregate/2019-02-16/
CATEGORIES:Saturday Medley Comp
END:VEVENT
BEGIN:VEVENT
DTSTART;VALUE=DATE:20190213
DTEND;VALUE=DATE:20190214
DTSTAMP:20260424T042814
CREATED:20181210T023834Z
LAST-MODIFIED:20181210T023834Z
UID:10002450-1550016000-1550102399@www.leuragolfclub.com.au
SUMMARY:Stableford Singles + 2B Aggregate
DESCRIPTION:Competition closing times (can be varied at the discretion of the starter) \n\nDaylight Saving – Competitions will be closed at 4.30pm on Tuesday and Wednesday\, 5.00pm on Friday and 5.30pm on a Saturday.\nEastern Standard Time – Competitions will be closed at 3.30pm on Tuesday and Wednesday\, 4.00pm on Friday and 4.30pm on a Saturday. Therefore players must take ownership of their speed of play and book tee times in accordance with these times.\n\nNo exceptions will be considered for late returned cards. A DNF will be recorded past comp closure times.
URL:https://www.leuragolfclub.com.au/event/stableford-singles-2b-aggregate/2019-02-13/
CATEGORIES:Wednesday Medley Comp
END:VEVENT
BEGIN:VEVENT
DTSTART;VALUE=DATE:20190210
DTEND;VALUE=DATE:20190211
DTSTAMP:20260424T042814
CREATED:20181210T052138Z
LAST-MODIFIED:20190116T044411Z
UID:10002474-1549756800-1549843199@www.leuragolfclub.com.au
SUMMARY:Blue Mountains District Pennants
DESCRIPTION:03 Feb at Leura – Leura has a bye in Seniors and Masters.\nAt Leura 1st tee off time is 9.00 am\, last is 11.30 am.\n10 Feb at Wentworth Falls – Wentworth Falls has a bye in Seniors and Masters.\n17 Feb at Blackheath – Lithgow has a bye in Seniors\, Blackheath has a bye in Masters.\n 24 Feb at Oberon – Oberon has a bye in Masters.\n03 Mar at Lithgow – Lithgow has a bye in Masters.\n\nAny round which is called off by host course authority will be considered a draw and not re-scheduled.  \nPlay off dates and venues will be scheduled if and when they become necessary.
URL:https://www.leuragolfclub.com.au/event/blue-mountains-district-pennants/2019-02-10/
CATEGORIES:BM District Event
END:VEVENT
BEGIN:VEVENT
DTSTART;VALUE=DATE:20190209
DTEND;VALUE=DATE:20190210
DTSTAMP:20260424T042814
CREATED:20181209T060037Z
LAST-MODIFIED:20190202T003215Z
UID:10002779-1549670400-1549756799@www.leuragolfclub.com.au
SUMMARY:Monthly Medal
DESCRIPTION:Postponed from 2 February
URL:https://www.leuragolfclub.com.au/event/stableford-singles-2bbb-2019-02-09/
CATEGORIES:Saturday Medley Comp
END:VEVENT
BEGIN:VEVENT
DTSTART;VALUE=DATE:20190206
DTEND;VALUE=DATE:20190207
DTSTAMP:20260424T042814
CREATED:20181210T023701Z
LAST-MODIFIED:20181210T024130Z
UID:10002424-1549411200-1549497599@www.leuragolfclub.com.au
SUMMARY:Stableford Singles + 2BBB
DESCRIPTION:
URL:https://www.leuragolfclub.com.au/event/stableford-singles-2bbb-2/2019-02-06/
CATEGORIES:Wednesday Medley Comp
END:VEVENT
BEGIN:VEVENT
DTSTART;VALUE=DATE:20190203
DTEND;VALUE=DATE:20190204
DTSTAMP:20260424T042814
CREATED:20181210T052138Z
LAST-MODIFIED:20190116T044411Z
UID:10002473-1549152000-1549238399@www.leuragolfclub.com.au
SUMMARY:Blue Mountains District Pennants
DESCRIPTION:03 Feb at Leura – Leura has a bye in Seniors and Masters.\nAt Leura 1st tee off time is 9.00 am\, last is 11.30 am.\n10 Feb at Wentworth Falls – Wentworth Falls has a bye in Seniors and Masters.\n17 Feb at Blackheath – Lithgow has a bye in Seniors\, Blackheath has a bye in Masters.\n 24 Feb at Oberon – Oberon has a bye in Masters.\n03 Mar at Lithgow – Lithgow has a bye in Masters.\n\nAny round which is called off by host course authority will be considered a draw and not re-scheduled.  \nPlay off dates and venues will be scheduled if and when they become necessary.
URL:https://www.leuragolfclub.com.au/event/blue-mountains-district-pennants/2019-02-03/
CATEGORIES:BM District Event
END:VEVENT
BEGIN:VEVENT
DTSTART;VALUE=DATE:20190202
DTEND;VALUE=DATE:20190203
DTSTAMP:20260424T042814
CREATED:20181209T052917Z
LAST-MODIFIED:20190202T003705Z
UID:10002768-1549065600-1549151999@www.leuragolfclub.com.au
SUMMARY:Monthly Medal - Abandoned
DESCRIPTION:
URL:https://www.leuragolfclub.com.au/event/monthly-medal-white-course-single-stableford-2019-02-02/
CATEGORIES:Saturday Medley Comp
END:VEVENT
BEGIN:VEVENT
DTSTART;TZID=Australia/Melbourne:20190130T080000
DTEND;TZID=Australia/Melbourne:20190130T170000
DTSTAMP:20260424T042814
CREATED:20181210T042623Z
LAST-MODIFIED:20181210T042650Z
UID:10002471-1548835200-1548867600@www.leuragolfclub.com.au
SUMMARY:2 Person Ambrose
DESCRIPTION:Competition closing times (can be varied at the discretion of the starter) \n\nDaylight Saving – Competitions will be closed at 4.30pm on Tuesday and Wednesday\, 5.00pm on Friday and 5.30pm on a Saturday.\nEastern Standard Time – Competitions will be closed at 3.30pm on Tuesday and Wednesday\, 4.00pm on Friday and 4.30pm on a Saturday. Therefore players must take ownership of their speed of play and book tee times in accordance with these times.\n\nNo exceptions will be considered for late returned cards. A DNF will be recorded past comp closure times.
URL:https://www.leuragolfclub.com.au/event/2-person-ambrose-2/
CATEGORIES:Wednesday Medley Comp
END:VEVENT
BEGIN:VEVENT
DTSTART;VALUE=DATE:20190126
DTEND;VALUE=DATE:20190127
DTSTAMP:20260424T042814
CREATED:20181209T221910Z
LAST-MODIFIED:20181210T022936Z
UID:10002789-1548460800-1548547199@www.leuragolfclub.com.au
SUMMARY:Stableford + 2 Ball Aggregate
DESCRIPTION:Competition closing times (can be varied at the discretion of the starter) \n\nDaylight Saving – Competitions will be closed at 4.30pm on Tuesday and Wednesday\, 5.00pm on Friday and 5.30pm on a Saturday.\nEastern Standard Time – Competitions will be closed at 3.30pm on Tuesday and Wednesday\, 4.00pm on Friday and 4.30pm on a Saturday. Therefore players must take ownership of their speed of play and book tee times in accordance with these times.\n\nNo exceptions will be considered for late returned cards. A DNF will be recorded past comp closure times.
URL:https://www.leuragolfclub.com.au/event/stableford-2-ball-aggregate-2/2019-01-26/
CATEGORIES:Saturday Medley Comp
END:VEVENT
BEGIN:VEVENT
DTSTART;VALUE=DATE:20190123
DTEND;VALUE=DATE:20190124
DTSTAMP:20260424T042814
CREATED:20181210T024446Z
LAST-MODIFIED:20181210T024446Z
UID:10002461-1548201600-1548287999@www.leuragolfclub.com.au
SUMMARY:Stableford Singles + 2 Ball Multiplier
DESCRIPTION:Competition closing times (can be varied at the discretion of the starter) \n\nDaylight Saving – Competitions will be closed at 4.30pm on Tuesday and Wednesday\, 5.00pm on Friday and 5.30pm on a Saturday.\nEastern Standard Time – Competitions will be closed at 3.30pm on Tuesday and Wednesday\, 4.00pm on Friday and 4.30pm on a Saturday. Therefore players must take ownership of their speed of play and book tee times in accordance with these times.\n\nNo exceptions will be considered for late returned cards. A DNF will be recorded past comp closure times.
URL:https://www.leuragolfclub.com.au/event/stableford-singles-2-ball-multiplier/2019-01-23/
CATEGORIES:Wednesday Medley Comp
END:VEVENT
BEGIN:VEVENT
DTSTART;VALUE=DATE:20190119
DTEND;VALUE=DATE:20190120
DTSTAMP:20260424T042814
CREATED:20181209T221326Z
LAST-MODIFIED:20181210T045753Z
UID:10002781-1547856000-1547942399@www.leuragolfclub.com.au
SUMMARY:Singles v Par + 2BBB
DESCRIPTION:Competition closing times (can be varied at the discretion of the starter) \n\nDaylight Saving – Competitions will be closed at 4.30pm on Tuesday and Wednesday\, 5.00pm on Friday and 5.30pm on a Saturday.\nEastern Standard Time – Competitions will be closed at 3.30pm on Tuesday and Wednesday\, 4.00pm on Friday and 4.30pm on a Saturday. Therefore players must take ownership of their speed of play and book tee times in accordance with these times.\n\nNo exceptions will be considered for late returned cards. A DNF will be recorded past comp closure times.
URL:https://www.leuragolfclub.com.au/event/singles-v-par-2bbb/2019-01-19/
CATEGORIES:Saturday Medley Comp
END:VEVENT
BEGIN:VEVENT
DTSTART;VALUE=DATE:20190119
DTEND;VALUE=DATE:20190120
DTSTAMP:20260424T042814
CREATED:20180626T023936Z
LAST-MODIFIED:20180626T023936Z
UID:10002602-1547856000-1547942399@www.leuragolfclub.com.au
SUMMARY:Stableford + 2B Aggregate
DESCRIPTION:Medley competition – visitors welcome. \nComp closes at 4pm so please ensure that your tee time will allow you to finish in time.
URL:https://www.leuragolfclub.com.au/event/stableford-2b-aggregate/2019-01-19/
CATEGORIES:Saturday Medley Comp
END:VEVENT
BEGIN:VEVENT
DTSTART;VALUE=DATE:20190116
DTEND;VALUE=DATE:20190117
DTSTAMP:20260424T042814
CREATED:20231120T001150Z
LAST-MODIFIED:20231120T001150Z
UID:10002435-1547596800-1547683199@www.leuragolfclub.com.au
SUMMARY:Stableford Singles + 2BBB
DESCRIPTION:
URL:https://www.leuragolfclub.com.au/event/stableford-singles-2bbb-2/2019-01-16/
CATEGORIES:Wednesday Medley Comp
END:VEVENT
BEGIN:VEVENT
DTSTART;VALUE=DATE:20190112
DTEND;VALUE=DATE:20190113
DTSTAMP:20260424T042814
CREATED:20181209T060037Z
LAST-MODIFIED:20181210T044850Z
UID:10002772-1547251200-1547337599@www.leuragolfclub.com.au
SUMMARY:Stableford Singles + 2BBB
DESCRIPTION:
URL:https://www.leuragolfclub.com.au/event/stableford-singles-2bbb/2019-01-12/
CATEGORIES:Saturday Medley Comp
END:VEVENT
BEGIN:VEVENT
DTSTART;VALUE=DATE:20190109
DTEND;VALUE=DATE:20190110
DTSTAMP:20260424T042814
CREATED:20181210T023834Z
LAST-MODIFIED:20181210T023834Z
UID:10002449-1546992000-1547078399@www.leuragolfclub.com.au
SUMMARY:Stableford Singles + 2B Aggregate
DESCRIPTION:Competition closing times (can be varied at the discretion of the starter) \n\nDaylight Saving – Competitions will be closed at 4.30pm on Tuesday and Wednesday\, 5.00pm on Friday and 5.30pm on a Saturday.\nEastern Standard Time – Competitions will be closed at 3.30pm on Tuesday and Wednesday\, 4.00pm on Friday and 4.30pm on a Saturday. Therefore players must take ownership of their speed of play and book tee times in accordance with these times.\n\nNo exceptions will be considered for late returned cards. A DNF will be recorded past comp closure times.
URL:https://www.leuragolfclub.com.au/event/stableford-singles-2b-aggregate/2019-01-09/
CATEGORIES:Wednesday Medley Comp
END:VEVENT
BEGIN:VEVENT
DTSTART;VALUE=DATE:20190105
DTEND;VALUE=DATE:20190106
DTSTAMP:20260424T042814
CREATED:20181209T052917Z
LAST-MODIFIED:20181209T053445Z
UID:10002743-1546646400-1546732799@www.leuragolfclub.com.au
SUMMARY:Monthly Medal
DESCRIPTION:
URL:https://www.leuragolfclub.com.au/event/monthly-medal-white-course-single-stableford/2019-01-05/
CATEGORIES:Saturday Medley Comp
END:VEVENT
BEGIN:VEVENT
DTSTART;VALUE=DATE:20190102
DTEND;VALUE=DATE:20190103
DTSTAMP:20260424T042814
CREATED:20181210T023701Z
LAST-MODIFIED:20181210T024130Z
UID:10002423-1546387200-1546473599@www.leuragolfclub.com.au
SUMMARY:Stableford Singles + 2BBB
DESCRIPTION:
URL:https://www.leuragolfclub.com.au/event/stableford-singles-2bbb-2/2019-01-02/
CATEGORIES:Wednesday Medley Comp
END:VEVENT
BEGIN:VEVENT
DTSTART;VALUE=DATE:20181229
DTEND;VALUE=DATE:20181230
DTSTAMP:20260424T042814
CREATED:20231120T001221Z
LAST-MODIFIED:20231120T001221Z
UID:10002593-1546041600-1546127999@www.leuragolfclub.com.au
SUMMARY:Stableford + 2BBB
DESCRIPTION:Medley competition – visitors welcome. \nComp closes at 4pm so please ensure that your tee time will allow you to finish in time.
URL:https://www.leuragolfclub.com.au/event/stableford-2bbb-2/2018-12-29/
CATEGORIES:Saturday Medley Comp
END:VEVENT
BEGIN:VEVENT
DTSTART;VALUE=DATE:20181226
DTEND;VALUE=DATE:20181227
DTSTAMP:20260424T042814
CREATED:20231120T001220Z
LAST-MODIFIED:20231120T001220Z
UID:10002550-1545782400-1545868799@www.leuragolfclub.com.au
SUMMARY:Stableford + 2BBB
DESCRIPTION:Medley competition – visitors welcome. \nComp closes at 4pm so please ensure that your tee time will allow you to finish in time.
URL:https://www.leuragolfclub.com.au/event/stableford-2bbb/2018-12-26/
CATEGORIES:Wednesday Medley Comp
END:VEVENT
BEGIN:VEVENT
DTSTART;VALUE=DATE:20181222
DTEND;VALUE=DATE:20181223
DTSTAMP:20260424T042814
CREATED:20180626T024955Z
LAST-MODIFIED:20181210T015352Z
UID:10002668-1545436800-1545523199@www.leuragolfclub.com.au
SUMMARY:Stableford + 2B Multiplier
DESCRIPTION:Medley competition – visitors welcome. \nComp closes at 4pm so please ensure that your tee time will allow you to finish in time.
URL:https://www.leuragolfclub.com.au/event/stableford-2b-multiplier-2018-08-25/2018-12-22/
CATEGORIES:Saturday Medley Comp
END:VEVENT
BEGIN:VEVENT
DTSTART;VALUE=DATE:20181219
DTEND;VALUE=DATE:20181220
DTSTAMP:20260424T042814
CREATED:20180617T052513Z
LAST-MODIFIED:20180622T065032Z
UID:10002543-1545177600-1545263999@www.leuragolfclub.com.au
SUMMARY:Stableford + 2BBB
DESCRIPTION:Medley competition – visitors welcome. \nComp closes at 4pm so please ensure that your tee time will allow you to finish in time.
URL:https://www.leuragolfclub.com.au/event/stableford-2bbb/2018-12-19/
CATEGORIES:Wednesday Medley Comp
END:VEVENT
BEGIN:VEVENT
DTSTART;VALUE=DATE:20181218
DTEND;VALUE=DATE:20181219
DTSTAMP:20260424T042814
CREATED:20180617T052949Z
LAST-MODIFIED:20180629T074111Z
UID:10002581-1545091200-1545177599@www.leuragolfclub.com.au
SUMMARY:Women's comp + Medley
DESCRIPTION:Medley competition – visitors welcome. \nComp closes at 4pm so please ensure that your tee time will allow you to finish in time.
URL:https://www.leuragolfclub.com.au/event/womens-comp-medley/2018-12-18/
END:VEVENT
BEGIN:VEVENT
DTSTART;VALUE=DATE:20181216
DTEND;VALUE=DATE:20181217
DTSTAMP:20260424T042814
CREATED:20180626T032813Z
LAST-MODIFIED:20180626T032813Z
UID:10002716-1544918400-1545004799@www.leuragolfclub.com.au
SUMMARY:Portland Open
DESCRIPTION:
URL:https://www.leuragolfclub.com.au/event/portland-open/
CATEGORIES:Other
END:VEVENT
END:VCALENDAR