BEGIN:VCALENDAR
VERSION:2.0
PRODID:-//Leura Golf Club - ECPv6.13.2.1//NONSGML v1.0//EN
CALSCALE:GREGORIAN
METHOD:PUBLISH
X-WR-CALNAME:Leura Golf Club
X-ORIGINAL-URL:https://www.leuragolfclub.com.au
X-WR-CALDESC:Events for Leura Golf Club
REFRESH-INTERVAL;VALUE=DURATION:PT1H
X-Robots-Tag:noindex
X-PUBLISHED-TTL:PT1H
BEGIN:VTIMEZONE
TZID:Australia/Melbourne
BEGIN:STANDARD
TZOFFSETFROM:+1100
TZOFFSETTO:+1000
TZNAME:AEST
DTSTART:20200404T160000
END:STANDARD
BEGIN:DAYLIGHT
TZOFFSETFROM:+1000
TZOFFSETTO:+1100
TZNAME:AEDT
DTSTART:20201003T160000
END:DAYLIGHT
END:VTIMEZONE
BEGIN:VEVENT
DTSTART;VALUE=DATE:20200410
DTEND;VALUE=DATE:20200411
DTSTAMP:20260423T224155
CREATED:20191026T001617Z
LAST-MODIFIED:20191026T001617Z
UID:10002890-1586476800-1586563199@www.leuragolfclub.com.au
SUMMARY:Good Friday
DESCRIPTION:
URL:https://www.leuragolfclub.com.au/event/good-friday-2-2/
CATEGORIES:Other
END:VEVENT
BEGIN:VEVENT
DTSTART;VALUE=DATE:20200408
DTEND;VALUE=DATE:20200409
DTSTAMP:20260423T224155
CREATED:20191025T225822Z
LAST-MODIFIED:20200403T024934Z
UID:10002510-1586304000-1586390399@www.leuragolfclub.com.au
SUMMARY:Medley - Singles Stableford
DESCRIPTION:
URL:https://www.leuragolfclub.com.au/event/single-stableford-2b-aggregate-2020-04-08/
CATEGORIES:Wednesday Medley Comp
END:VEVENT
BEGIN:VEVENT
DTSTART;VALUE=DATE:20200407
DTEND;VALUE=DATE:20200408
DTSTAMP:20260423T224155
CREATED:20200606T064020Z
LAST-MODIFIED:20200628T010757Z
UID:10002708-1586217600-1586303999@www.leuragolfclub.com.au
SUMMARY:Tuesday Medley Comp
DESCRIPTION:All players welcome.
URL:https://www.leuragolfclub.com.au/event/tuesday-medley-comp-2020-06-25/2020-04-07/
END:VEVENT
BEGIN:VEVENT
DTSTART;VALUE=DATE:20200404
DTEND;VALUE=DATE:20200405
DTSTAMP:20260423T224155
CREATED:20191025T232909Z
LAST-MODIFIED:20200403T020955Z
UID:10002861-1585958400-1586044799@www.leuragolfclub.com.au
SUMMARY:Monthly Medal (Men) + Medley Stroke
DESCRIPTION:Men’s Medal event. Visitors are welcome\, can win the event but not the medal.
URL:https://www.leuragolfclub.com.au/event/monthly-medal-2-2020-04-04/
CATEGORIES:Saturday Medley Comp
END:VEVENT
BEGIN:VEVENT
DTSTART;VALUE=DATE:20200401
DTEND;VALUE=DATE:20200402
DTSTAMP:20260423T224155
CREATED:20231120T001207Z
LAST-MODIFIED:20231120T001207Z
UID:10002494-1585699200-1585785599@www.leuragolfclub.com.au
SUMMARY:Single Stableford + 2BBB
DESCRIPTION:
URL:https://www.leuragolfclub.com.au/event/single-stableford-2bbb-2020-01-15/2020-04-01/
CATEGORIES:Wednesday Medley Comp
END:VEVENT
BEGIN:VEVENT
DTSTART;VALUE=DATE:20200401
DTEND;VALUE=DATE:20200402
DTSTAMP:20260423T224155
CREATED:20191025T225521Z
LAST-MODIFIED:20200403T025522Z
UID:10002488-1585699200-1585785599@www.leuragolfclub.com.au
SUMMARY:Medley - Singles Par
DESCRIPTION:
URL:https://www.leuragolfclub.com.au/event/single-stableford-2bbb-2020-04-01/
CATEGORIES:Wednesday Medley Comp
END:VEVENT
BEGIN:VEVENT
DTSTART;VALUE=DATE:20200331
DTEND;VALUE=DATE:20200401
DTSTAMP:20260423T224155
CREATED:20200606T064020Z
LAST-MODIFIED:20200628T010757Z
UID:10002707-1585612800-1585699199@www.leuragolfclub.com.au
SUMMARY:Tuesday Medley Comp
DESCRIPTION:All players welcome.
URL:https://www.leuragolfclub.com.au/event/tuesday-medley-comp-2020-06-25/2020-03-31/
END:VEVENT
BEGIN:VEVENT
DTSTART;VALUE=DATE:20200328
DTEND;VALUE=DATE:20200329
DTSTAMP:20260423T224155
CREATED:20200311T050148Z
LAST-MODIFIED:20200311T050339Z
UID:10002682-1585353600-1585439999@www.leuragolfclub.com.au
SUMMARY:Single Stableford + 2B Aggregate
DESCRIPTION:
URL:https://www.leuragolfclub.com.au/event/single-stableford-2b-aggregate-3/
CATEGORIES:Saturday Medley Comp
END:VEVENT
BEGIN:VEVENT
DTSTART;VALUE=DATE:20200324
DTEND;VALUE=DATE:20200325
DTSTAMP:20260423T224155
CREATED:20200606T064020Z
LAST-MODIFIED:20200628T010757Z
UID:10002706-1585008000-1585094399@www.leuragolfclub.com.au
SUMMARY:Tuesday Medley Comp
DESCRIPTION:All players welcome.
URL:https://www.leuragolfclub.com.au/event/tuesday-medley-comp-2020-06-25/2020-03-24/
END:VEVENT
BEGIN:VEVENT
DTSTART;TZID=Australia/Melbourne:20200321T080000
DTEND;TZID=Australia/Melbourne:20200321T170000
DTSTAMP:20260423T224155
CREATED:20200311T050051Z
LAST-MODIFIED:20200311T050435Z
UID:10002923-1584777600-1584810000@www.leuragolfclub.com.au
SUMMARY:Par Singles + 2BBB
DESCRIPTION:
URL:https://www.leuragolfclub.com.au/event/par-singles-2bbb-2/
CATEGORIES:Saturday Medley Comp
END:VEVENT
BEGIN:VEVENT
DTSTART;VALUE=DATE:20200321
DTEND;VALUE=DATE:20200322
DTSTAMP:20260423T224155
CREATED:20191026T023304Z
LAST-MODIFIED:20191026T023304Z
UID:10002905-1584748800-1584835199@www.leuragolfclub.com.au
SUMMARY:Gulgong Open
DESCRIPTION:
URL:https://www.leuragolfclub.com.au/event/gulgong-open/
END:VEVENT
BEGIN:VEVENT
DTSTART;VALUE=DATE:20200321
DTEND;VALUE=DATE:20200322
DTSTAMP:20260423T224155
CREATED:20180626T023936Z
LAST-MODIFIED:20180626T023936Z
UID:10002616-1584748800-1584835199@www.leuragolfclub.com.au
SUMMARY:Stableford + 2B Aggregate
DESCRIPTION:Medley competition – visitors welcome. \nComp closes at 4pm so please ensure that your tee time will allow you to finish in time.
URL:https://www.leuragolfclub.com.au/event/stableford-2b-aggregate/2020-03-21/
CATEGORIES:Saturday Medley Comp
END:VEVENT
BEGIN:VEVENT
DTSTART;VALUE=DATE:20200318
DTEND;VALUE=DATE:20200319
DTSTAMP:20260423T224155
CREATED:20191025T225521Z
LAST-MODIFIED:20191206T045606Z
UID:10002491-1584489600-1584575999@www.leuragolfclub.com.au
SUMMARY:Single Stableford + 2BBB
DESCRIPTION:
URL:https://www.leuragolfclub.com.au/event/single-stableford-2bbb-2020-01-15/2020-03-18/
CATEGORIES:Wednesday Medley Comp
END:VEVENT
BEGIN:VEVENT
DTSTART;VALUE=DATE:20200317
DTEND;VALUE=DATE:20200318
DTSTAMP:20260423T224155
CREATED:20200606T064020Z
LAST-MODIFIED:20200628T010757Z
UID:10002705-1584403200-1584489599@www.leuragolfclub.com.au
SUMMARY:Tuesday Medley Comp
DESCRIPTION:All players welcome.
URL:https://www.leuragolfclub.com.au/event/tuesday-medley-comp-2020-06-25/2020-03-17/
END:VEVENT
BEGIN:VEVENT
DTSTART;VALUE=DATE:20200314
DTEND;VALUE=DATE:20200315
DTSTAMP:20260423T224155
CREATED:20200304T022953Z
LAST-MODIFIED:20200304T023111Z
UID:10002922-1584144000-1584230399@www.leuragolfclub.com.au
SUMMARY:Monthly Medal
DESCRIPTION:Men’s Medal event. Visitors are welcome\, can win the event but not the medal.
URL:https://www.leuragolfclub.com.au/event/monthly-medal-3/
CATEGORIES:Saturday Medley Comp
END:VEVENT
BEGIN:VEVENT
DTSTART;VALUE=DATE:20200310
DTEND;VALUE=DATE:20200311
DTSTAMP:20260423T224155
CREATED:20200606T064020Z
LAST-MODIFIED:20200628T010757Z
UID:10002704-1583798400-1583884799@www.leuragolfclub.com.au
SUMMARY:Tuesday Medley Comp
DESCRIPTION:All players welcome.
URL:https://www.leuragolfclub.com.au/event/tuesday-medley-comp-2020-06-25/2020-03-10/
END:VEVENT
BEGIN:VEVENT
DTSTART;VALUE=DATE:20200308
DTEND;VALUE=DATE:20200309
DTSTAMP:20260423T224155
CREATED:20191026T002920Z
LAST-MODIFIED:20191026T002920Z
UID:10002897-1583625600-1583711999@www.leuragolfclub.com.au
SUMMARY:Blue Mountains District Pennants
DESCRIPTION:
URL:https://www.leuragolfclub.com.au/event/blue-mountains-district-pennants-2/2020-03-08/
CATEGORIES:BM District Event
END:VEVENT
BEGIN:VEVENT
DTSTART;VALUE=DATE:20200307
DTEND;VALUE=DATE:20200308
DTSTAMP:20260423T224155
CREATED:20191025T232909Z
LAST-MODIFIED:20191026T000302Z
UID:10002522-1583539200-1583625599@www.leuragolfclub.com.au
SUMMARY:Single Stableford + 2BBB
DESCRIPTION:
URL:https://www.leuragolfclub.com.au/event/monthly-medal-2-2020-03-07/
CATEGORIES:Saturday Medley Comp
END:VEVENT
BEGIN:VEVENT
DTSTART;VALUE=DATE:20200304
DTEND;VALUE=DATE:20200305
DTSTAMP:20260423T224155
CREATED:20231120T001207Z
LAST-MODIFIED:20231120T001207Z
UID:10002493-1583280000-1583366399@www.leuragolfclub.com.au
SUMMARY:Single Stableford + 2BBB
DESCRIPTION:
URL:https://www.leuragolfclub.com.au/event/single-stableford-2bbb-2020-01-15/2020-03-04/
CATEGORIES:Wednesday Medley Comp
END:VEVENT
BEGIN:VEVENT
DTSTART;VALUE=DATE:20200303
DTEND;VALUE=DATE:20200304
DTSTAMP:20260423T224155
CREATED:20200606T064020Z
LAST-MODIFIED:20200628T010757Z
UID:10002703-1583193600-1583279999@www.leuragolfclub.com.au
SUMMARY:Tuesday Medley Comp
DESCRIPTION:All players welcome.
URL:https://www.leuragolfclub.com.au/event/tuesday-medley-comp-2020-06-25/2020-03-03/
END:VEVENT
BEGIN:VEVENT
DTSTART;VALUE=DATE:20200301
DTEND;VALUE=DATE:20200302
DTSTAMP:20260423T224155
CREATED:20191026T002920Z
LAST-MODIFIED:20191026T002920Z
UID:10002896-1583020800-1583107199@www.leuragolfclub.com.au
SUMMARY:Blue Mountains District Pennants
DESCRIPTION:
URL:https://www.leuragolfclub.com.au/event/blue-mountains-district-pennants-2/2020-03-01/
CATEGORIES:BM District Event
END:VEVENT
BEGIN:VEVENT
DTSTART;VALUE=DATE:20200229
DTEND;VALUE=DATE:20200301
DTSTAMP:20260423T224155
CREATED:20191025T230715Z
LAST-MODIFIED:20191025T230715Z
UID:10002514-1582934400-1583020799@www.leuragolfclub.com.au
SUMMARY:2 Person Ambrose
DESCRIPTION:
URL:https://www.leuragolfclub.com.au/event/2-person-ambrose-3-2/
CATEGORIES:Saturday Medley Comp
END:VEVENT
BEGIN:VEVENT
DTSTART;VALUE=DATE:20200225
DTEND;VALUE=DATE:20200226
DTSTAMP:20260423T224155
CREATED:20200606T064020Z
LAST-MODIFIED:20200628T010757Z
UID:10002702-1582588800-1582675199@www.leuragolfclub.com.au
SUMMARY:Tuesday Medley Comp
DESCRIPTION:All players welcome.
URL:https://www.leuragolfclub.com.au/event/tuesday-medley-comp-2020-06-25/2020-02-25/
END:VEVENT
BEGIN:VEVENT
DTSTART;VALUE=DATE:20200223
DTEND;VALUE=DATE:20200224
DTSTAMP:20260423T224155
CREATED:20191026T002920Z
LAST-MODIFIED:20191026T002920Z
UID:10002895-1582416000-1582502399@www.leuragolfclub.com.au
SUMMARY:Blue Mountains District Pennants
DESCRIPTION:
URL:https://www.leuragolfclub.com.au/event/blue-mountains-district-pennants-2/2020-02-23/
CATEGORIES:BM District Event
END:VEVENT
BEGIN:VEVENT
DTSTART;VALUE=DATE:20200222
DTEND;VALUE=DATE:20200223
DTSTAMP:20260423T224155
CREATED:20191025T234511Z
LAST-MODIFIED:20200528T011400Z
UID:10002885-1582329600-1582415999@www.leuragolfclub.com.au
SUMMARY:Medley - Stableford Singles + 2B Multiplier
DESCRIPTION:
URL:https://www.leuragolfclub.com.au/event/single-stableford-2b-multiplier-2/2020-02-22/
CATEGORIES:Saturday Medley Comp
END:VEVENT
BEGIN:VEVENT
DTSTART;VALUE=DATE:20200219
DTEND;VALUE=DATE:20200220
DTSTAMP:20260423T224155
CREATED:20191025T225521Z
LAST-MODIFIED:20191206T045606Z
UID:10002490-1582070400-1582156799@www.leuragolfclub.com.au
SUMMARY:Single Stableford + 2BBB
DESCRIPTION:
URL:https://www.leuragolfclub.com.au/event/single-stableford-2bbb-2020-01-15/2020-02-19/
CATEGORIES:Wednesday Medley Comp
END:VEVENT
BEGIN:VEVENT
DTSTART;VALUE=DATE:20200218
DTEND;VALUE=DATE:20200219
DTSTAMP:20260423T224155
CREATED:20200606T064020Z
LAST-MODIFIED:20200628T010757Z
UID:10002701-1581984000-1582070399@www.leuragolfclub.com.au
SUMMARY:Tuesday Medley Comp
DESCRIPTION:All players welcome.
URL:https://www.leuragolfclub.com.au/event/tuesday-medley-comp-2020-06-25/2020-02-18/
END:VEVENT
BEGIN:VEVENT
DTSTART;VALUE=DATE:20200216
DTEND;VALUE=DATE:20200217
DTSTAMP:20260423T224155
CREATED:20191026T002920Z
LAST-MODIFIED:20191026T002920Z
UID:10002894-1581811200-1581897599@www.leuragolfclub.com.au
SUMMARY:Blue Mountains District Pennants
DESCRIPTION:
URL:https://www.leuragolfclub.com.au/event/blue-mountains-district-pennants-2/2020-02-16/
CATEGORIES:BM District Event
END:VEVENT
BEGIN:VEVENT
DTSTART;VALUE=DATE:20200215
DTEND;VALUE=DATE:20200216
DTSTAMP:20260423T224155
CREATED:20191025T234041Z
LAST-MODIFIED:20191026T000559Z
UID:10002870-1581724800-1581811199@www.leuragolfclub.com.au
SUMMARY:Par Singles + 2BBB
DESCRIPTION:
URL:https://www.leuragolfclub.com.au/event/par-singles-2bbb/2020-02-15/
CATEGORIES:Saturday Medley Comp
END:VEVENT
BEGIN:VEVENT
DTSTART;VALUE=DATE:20200215
DTEND;VALUE=DATE:20200216
DTSTAMP:20260423T224155
CREATED:20180626T023936Z
LAST-MODIFIED:20180626T023936Z
UID:10002615-1581724800-1581811199@www.leuragolfclub.com.au
SUMMARY:Stableford + 2B Aggregate
DESCRIPTION:Medley competition – visitors welcome. \nComp closes at 4pm so please ensure that your tee time will allow you to finish in time.
URL:https://www.leuragolfclub.com.au/event/stableford-2b-aggregate/2020-02-15/
CATEGORIES:Saturday Medley Comp
END:VEVENT
END:VCALENDAR