BEGIN:VCALENDAR
VERSION:2.0
PRODID:-//Leura Golf Club - ECPv6.13.2.1//NONSGML v1.0//EN
CALSCALE:GREGORIAN
METHOD:PUBLISH
X-WR-CALNAME:Leura Golf Club
X-ORIGINAL-URL:https://www.leuragolfclub.com.au
X-WR-CALDESC:Events for Leura Golf Club
REFRESH-INTERVAL;VALUE=DURATION:PT1H
X-Robots-Tag:noindex
X-PUBLISHED-TTL:PT1H
BEGIN:VTIMEZONE
TZID:Australia/Melbourne
BEGIN:STANDARD
TZOFFSETFROM:+1100
TZOFFSETTO:+1000
TZNAME:AEST
DTSTART:20180331T160000
END:STANDARD
BEGIN:DAYLIGHT
TZOFFSETFROM:+1000
TZOFFSETTO:+1100
TZNAME:AEDT
DTSTART:20181006T160000
END:DAYLIGHT
END:VTIMEZONE
BEGIN:VEVENT
DTSTART;VALUE=DATE:20181215
DTEND;VALUE=DATE:20181216
DTSTAMP:20260424T042840
CREATED:20180626T023936Z
LAST-MODIFIED:20180626T023936Z
UID:10002601-1544832000-1544918399@www.leuragolfclub.com.au
SUMMARY:Stableford + 2B Aggregate
DESCRIPTION:Medley competition – visitors welcome. \nComp closes at 4pm so please ensure that your tee time will allow you to finish in time.
URL:https://www.leuragolfclub.com.au/event/stableford-2b-aggregate/2018-12-15/
CATEGORIES:Saturday Medley Comp
END:VEVENT
BEGIN:VEVENT
DTSTART;VALUE=DATE:20181212
DTEND;VALUE=DATE:20181213
DTSTAMP:20260424T042840
CREATED:20181210T023834Z
LAST-MODIFIED:20181210T023834Z
UID:10002448-1544572800-1544659199@www.leuragolfclub.com.au
SUMMARY:Stableford Singles + 2B Aggregate
DESCRIPTION:Competition closing times (can be varied at the discretion of the starter) \n\nDaylight Saving – Competitions will be closed at 4.30pm on Tuesday and Wednesday\, 5.00pm on Friday and 5.30pm on a Saturday.\nEastern Standard Time – Competitions will be closed at 3.30pm on Tuesday and Wednesday\, 4.00pm on Friday and 4.30pm on a Saturday. Therefore players must take ownership of their speed of play and book tee times in accordance with these times.\n\nNo exceptions will be considered for late returned cards. A DNF will be recorded past comp closure times.
URL:https://www.leuragolfclub.com.au/event/stableford-singles-2b-aggregate/2018-12-12/
CATEGORIES:Wednesday Medley Comp
END:VEVENT
BEGIN:VEVENT
DTSTART;VALUE=DATE:20181212
DTEND;VALUE=DATE:20181213
DTSTAMP:20260424T042840
CREATED:20180617T052344Z
LAST-MODIFIED:20180622T064833Z
UID:10002536-1544572800-1544659199@www.leuragolfclub.com.au
SUMMARY:Par + 2BBB
DESCRIPTION:Medley competition – visitors welcome. \nComp closes at 4pm so please ensure that your tee time will allow you to finish in time.
URL:https://www.leuragolfclub.com.au/event/par-2bbb/2018-12-12/
CATEGORIES:Wednesday Medley Comp
END:VEVENT
BEGIN:VEVENT
DTSTART;VALUE=DATE:20181211
DTEND;VALUE=DATE:20181212
DTSTAMP:20260424T042840
CREATED:20180617T052949Z
LAST-MODIFIED:20180629T074111Z
UID:10002580-1544486400-1544572799@www.leuragolfclub.com.au
SUMMARY:Women's comp + Medley
DESCRIPTION:Medley competition – visitors welcome. \nComp closes at 4pm so please ensure that your tee time will allow you to finish in time.
URL:https://www.leuragolfclub.com.au/event/womens-comp-medley/2018-12-11/
END:VEVENT
BEGIN:VEVENT
DTSTART;TZID=Australia/Melbourne:20181210T080000
DTEND;TZID=Australia/Melbourne:20181210T170000
DTSTAMP:20260424T042840
CREATED:20181209T222708Z
LAST-MODIFIED:20181209T222708Z
UID:10002801-1544428800-1544461200@www.leuragolfclub.com.au
SUMMARY:Irish Foursomes
DESCRIPTION:Competition closing times (can be varied at the discretion of the starter) \n\nDaylight Saving – Competitions will be closed at 4.30pm on Tuesday and Wednesday\, 5.00pm on Friday and 5.30pm on a Saturday.\nEastern Standard Time – Competitions will be closed at 3.30pm on Tuesday and Wednesday\, 4.00pm on Friday and 4.30pm on a Saturday. Therefore players must take ownership of their speed of play and book tee times in accordance with these times.\n\nNo exceptions will be considered for late returned cards. A DNF will be recorded past comp closure times.
URL:https://www.leuragolfclub.com.au/event/irish-foursomes/
CATEGORIES:Saturday Medley Comp
END:VEVENT
BEGIN:VEVENT
DTSTART;VALUE=DATE:20181210
DTEND;VALUE=DATE:20181211
DTSTAMP:20260424T042840
CREATED:20181210T023834Z
LAST-MODIFIED:20181210T023834Z
UID:10002447-1544400000-1544486399@www.leuragolfclub.com.au
SUMMARY:Stableford Singles + 2B Aggregate
DESCRIPTION:Competition closing times (can be varied at the discretion of the starter) \n\nDaylight Saving – Competitions will be closed at 4.30pm on Tuesday and Wednesday\, 5.00pm on Friday and 5.30pm on a Saturday.\nEastern Standard Time – Competitions will be closed at 3.30pm on Tuesday and Wednesday\, 4.00pm on Friday and 4.30pm on a Saturday. Therefore players must take ownership of their speed of play and book tee times in accordance with these times.\n\nNo exceptions will be considered for late returned cards. A DNF will be recorded past comp closure times.
URL:https://www.leuragolfclub.com.au/event/stableford-singles-2b-aggregate/2018-12-10/
CATEGORIES:Wednesday Medley Comp
END:VEVENT
BEGIN:VEVENT
DTSTART;VALUE=DATE:20181209
DTEND;VALUE=DATE:20181210
DTSTAMP:20260424T042840
CREATED:20180626T032600Z
LAST-MODIFIED:20180626T032600Z
UID:10002693-1544313600-1544399999@www.leuragolfclub.com.au
SUMMARY:Lithgow Open
DESCRIPTION:
URL:https://www.leuragolfclub.com.au/event/lithgow-open/
CATEGORIES:Other
END:VEVENT
BEGIN:VEVENT
DTSTART;VALUE=DATE:20181208
DTEND;VALUE=DATE:20181209
DTSTAMP:20260424T042840
CREATED:20180626T023643Z
LAST-MODIFIED:20180626T031047Z
UID:10002590-1544227200-1544313599@www.leuragolfclub.com.au
SUMMARY:Stableford + 2BBB
DESCRIPTION:Medley competition – visitors welcome. \nComp closes at 4pm so please ensure that your tee time will allow you to finish in time.
URL:https://www.leuragolfclub.com.au/event/stableford-2bbb-2/2018-12-08/
CATEGORIES:Saturday Medley Comp
END:VEVENT
BEGIN:VEVENT
DTSTART;VALUE=DATE:20181205
DTEND;VALUE=DATE:20181206
DTSTAMP:20260424T042840
CREATED:20180617T051737Z
LAST-MODIFIED:20180622T064937Z
UID:10002529-1543968000-1544054399@www.leuragolfclub.com.au
SUMMARY:Stableford + 2 Ball Multiplier
DESCRIPTION:Medley competition – visitors welcome. \nComp closes at 4pm so please ensure that your tee time will allow you to finish in time.
URL:https://www.leuragolfclub.com.au/event/wednesday-comp/2018-12-05/
CATEGORIES:Wednesday Medley Comp
END:VEVENT
BEGIN:VEVENT
DTSTART;VALUE=DATE:20181204
DTEND;VALUE=DATE:20181205
DTSTAMP:20260424T042840
CREATED:20180617T052949Z
LAST-MODIFIED:20180629T074111Z
UID:10002579-1543881600-1543967999@www.leuragolfclub.com.au
SUMMARY:Women's comp + Medley
DESCRIPTION:Medley competition – visitors welcome. \nComp closes at 4pm so please ensure that your tee time will allow you to finish in time.
URL:https://www.leuragolfclub.com.au/event/womens-comp-medley/2018-12-04/
END:VEVENT
BEGIN:VEVENT
DTSTART;VALUE=DATE:20181201
DTEND;VALUE=DATE:20181202
DTSTAMP:20260424T042840
CREATED:20180626T032517Z
LAST-MODIFIED:20180626T032517Z
UID:10002691-1543622400-1543708799@www.leuragolfclub.com.au
SUMMARY:Springwood Open
DESCRIPTION:
URL:https://www.leuragolfclub.com.au/event/springwood-open/
CATEGORIES:Other
END:VEVENT
BEGIN:VEVENT
DTSTART;VALUE=DATE:20181201
DTEND;VALUE=DATE:20181202
DTSTAMP:20260424T042840
CREATED:20180626T032443Z
LAST-MODIFIED:20180626T032443Z
UID:10002689-1543622400-1543708799@www.leuragolfclub.com.au
SUMMARY:Monthly Medal + Gold Medal
DESCRIPTION:
URL:https://www.leuragolfclub.com.au/event/monthly-medal-gold-medal/
CATEGORIES:LGC Major Events
END:VEVENT
BEGIN:VEVENT
DTSTART;VALUE=DATE:20181128
DTEND;VALUE=DATE:20181129
DTSTAMP:20260424T042840
CREATED:20231120T001220Z
LAST-MODIFIED:20231120T001220Z
UID:10002549-1543363200-1543449599@www.leuragolfclub.com.au
SUMMARY:Stableford + 2BBB
DESCRIPTION:Medley competition – visitors welcome. \nComp closes at 4pm so please ensure that your tee time will allow you to finish in time.
URL:https://www.leuragolfclub.com.au/event/stableford-2bbb/2018-11-28/
CATEGORIES:Wednesday Medley Comp
END:VEVENT
BEGIN:VEVENT
DTSTART;VALUE=DATE:20181127
DTEND;VALUE=DATE:20181128
DTSTAMP:20260424T042840
CREATED:20180617T052949Z
LAST-MODIFIED:20180629T074111Z
UID:10002578-1543276800-1543363199@www.leuragolfclub.com.au
SUMMARY:Women's comp + Medley
DESCRIPTION:Medley competition – visitors welcome. \nComp closes at 4pm so please ensure that your tee time will allow you to finish in time.
URL:https://www.leuragolfclub.com.au/event/womens-comp-medley/2018-11-27/
END:VEVENT
BEGIN:VEVENT
DTSTART;VALUE=DATE:20181125
DTEND;VALUE=DATE:20181126
DTSTAMP:20260424T042840
CREATED:20180626T032216Z
LAST-MODIFIED:20180626T032216Z
UID:10002687-1543104000-1543190399@www.leuragolfclub.com.au
SUMMARY:Oberon Open
DESCRIPTION:
URL:https://www.leuragolfclub.com.au/event/oberon-open/
CATEGORIES:Other
END:VEVENT
BEGIN:VEVENT
DTSTART;VALUE=DATE:20181124
DTEND;VALUE=DATE:20181125
DTSTAMP:20260424T042840
CREATED:20180626T024955Z
LAST-MODIFIED:20181210T015352Z
UID:10002667-1543017600-1543103999@www.leuragolfclub.com.au
SUMMARY:Stableford + 2B Multiplier
DESCRIPTION:Medley competition – visitors welcome. \nComp closes at 4pm so please ensure that your tee time will allow you to finish in time.
URL:https://www.leuragolfclub.com.au/event/stableford-2b-multiplier-2018-08-25/2018-11-24/
CATEGORIES:Saturday Medley Comp
END:VEVENT
BEGIN:VEVENT
DTSTART;VALUE=DATE:20181121
DTEND;VALUE=DATE:20181122
DTSTAMP:20260424T042840
CREATED:20180617T052513Z
LAST-MODIFIED:20180622T065032Z
UID:10002542-1542758400-1542844799@www.leuragolfclub.com.au
SUMMARY:Stableford + 2BBB
DESCRIPTION:Medley competition – visitors welcome. \nComp closes at 4pm so please ensure that your tee time will allow you to finish in time.
URL:https://www.leuragolfclub.com.au/event/stableford-2bbb/2018-11-21/
CATEGORIES:Wednesday Medley Comp
END:VEVENT
BEGIN:VEVENT
DTSTART;VALUE=DATE:20181120
DTEND;VALUE=DATE:20181121
DTSTAMP:20260424T042840
CREATED:20180617T052949Z
LAST-MODIFIED:20180629T074111Z
UID:10002577-1542672000-1542758399@www.leuragolfclub.com.au
SUMMARY:Women's comp + Medley
DESCRIPTION:Medley competition – visitors welcome. \nComp closes at 4pm so please ensure that your tee time will allow you to finish in time.
URL:https://www.leuragolfclub.com.au/event/womens-comp-medley/2018-11-20/
END:VEVENT
BEGIN:VEVENT
DTSTART;VALUE=DATE:20181118
DTEND;VALUE=DATE:20181119
DTSTAMP:20260424T042840
CREATED:20180626T032140Z
LAST-MODIFIED:20180626T032140Z
UID:10002685-1542499200-1542585599@www.leuragolfclub.com.au
SUMMARY:Blackheath Open
DESCRIPTION:
URL:https://www.leuragolfclub.com.au/event/blackheath-open/
CATEGORIES:Other
END:VEVENT
BEGIN:VEVENT
DTSTART;VALUE=DATE:20181117
DTEND;VALUE=DATE:20181118
DTSTAMP:20260424T042840
CREATED:20180626T030525Z
LAST-MODIFIED:20180626T030810Z
UID:10002677-1542412800-1542499199@www.leuragolfclub.com.au
SUMMARY:Stableford + 2B Aggregate
DESCRIPTION:Medley competition – visitors welcome. \nComp closes at 4pm so please ensure that your tee time will allow you to finish in time.
URL:https://www.leuragolfclub.com.au/event/stableford-2b-aggregate-2/2018-11-17/
CATEGORIES:Saturday Medley Comp
END:VEVENT
BEGIN:VEVENT
DTSTART;VALUE=DATE:20181117
DTEND;VALUE=DATE:20181118
DTSTAMP:20260424T042840
CREATED:20180626T023936Z
LAST-MODIFIED:20180626T023936Z
UID:10002600-1542412800-1542499199@www.leuragolfclub.com.au
SUMMARY:Stableford + 2B Aggregate
DESCRIPTION:Medley competition – visitors welcome. \nComp closes at 4pm so please ensure that your tee time will allow you to finish in time.
URL:https://www.leuragolfclub.com.au/event/stableford-2b-aggregate/2018-11-17/
CATEGORIES:Saturday Medley Comp
END:VEVENT
BEGIN:VEVENT
DTSTART;VALUE=DATE:20181114
DTEND;VALUE=DATE:20181115
DTSTAMP:20260424T042840
CREATED:20180617T052344Z
LAST-MODIFIED:20180622T064833Z
UID:10002535-1542153600-1542239999@www.leuragolfclub.com.au
SUMMARY:Par + 2BBB
DESCRIPTION:Medley competition – visitors welcome. \nComp closes at 4pm so please ensure that your tee time will allow you to finish in time.
URL:https://www.leuragolfclub.com.au/event/par-2bbb/2018-11-14/
CATEGORIES:Wednesday Medley Comp
END:VEVENT
BEGIN:VEVENT
DTSTART;VALUE=DATE:20181113
DTEND;VALUE=DATE:20181114
DTSTAMP:20260424T042840
CREATED:20180617T052949Z
LAST-MODIFIED:20180629T074111Z
UID:10002576-1542067200-1542153599@www.leuragolfclub.com.au
SUMMARY:Women's comp + Medley
DESCRIPTION:Medley competition – visitors welcome. \nComp closes at 4pm so please ensure that your tee time will allow you to finish in time.
URL:https://www.leuragolfclub.com.au/event/womens-comp-medley/2018-11-13/
END:VEVENT
BEGIN:VEVENT
DTSTART;VALUE=DATE:20181110
DTEND;VALUE=DATE:20181111
DTSTAMP:20260424T042840
CREATED:20180626T032100Z
LAST-MODIFIED:20180626T032100Z
UID:10002683-1541808000-1541894399@www.leuragolfclub.com.au
SUMMARY:Leura Open
DESCRIPTION:
URL:https://www.leuragolfclub.com.au/event/leura-open/
CATEGORIES:LGC Major Events
END:VEVENT
BEGIN:VEVENT
DTSTART;VALUE=DATE:20181107
DTEND;VALUE=DATE:20181108
DTSTAMP:20260424T042840
CREATED:20180617T051737Z
LAST-MODIFIED:20180622T064937Z
UID:10002528-1541548800-1541635199@www.leuragolfclub.com.au
SUMMARY:Stableford + 2 Ball Multiplier
DESCRIPTION:Medley competition – visitors welcome. \nComp closes at 4pm so please ensure that your tee time will allow you to finish in time.
URL:https://www.leuragolfclub.com.au/event/wednesday-comp/2018-11-07/
CATEGORIES:Wednesday Medley Comp
END:VEVENT
BEGIN:VEVENT
DTSTART;VALUE=DATE:20181106
DTEND;VALUE=DATE:20181107
DTSTAMP:20260424T042840
CREATED:20180617T052949Z
LAST-MODIFIED:20180629T074111Z
UID:10002575-1541462400-1541548799@www.leuragolfclub.com.au
SUMMARY:Women's comp + Medley
DESCRIPTION:Medley competition – visitors welcome. \nComp closes at 4pm so please ensure that your tee time will allow you to finish in time.
URL:https://www.leuragolfclub.com.au/event/womens-comp-medley/2018-11-06/
END:VEVENT
BEGIN:VEVENT
DTSTART;VALUE=DATE:20181104
DTEND;VALUE=DATE:20181105
DTSTAMP:20260424T042840
CREATED:20180626T032022Z
LAST-MODIFIED:20190115T050826Z
UID:10002681-1541289600-1541375999@www.leuragolfclub.com.au
SUMMARY:BMDGA Open
DESCRIPTION:At WFCC
URL:https://www.leuragolfclub.com.au/event/bmdga-open/
CATEGORIES:BM District Event
END:VEVENT
BEGIN:VEVENT
DTSTART;VALUE=DATE:20181103
DTEND;VALUE=DATE:20181104
DTSTAMP:20260424T042840
CREATED:20180626T031804Z
LAST-MODIFIED:20180626T031804Z
UID:10002680-1541203200-1541289599@www.leuragolfclub.com.au
SUMMARY:Wentworth Falls Open
DESCRIPTION:
URL:https://www.leuragolfclub.com.au/event/wentworth-falls-open/
CATEGORIES:Other
END:VEVENT
BEGIN:VEVENT
DTSTART;VALUE=DATE:20181103
DTEND;VALUE=DATE:20181104
DTSTAMP:20260424T042840
CREATED:20180626T031426Z
LAST-MODIFIED:20180902T053422Z
UID:10002678-1541203200-1541289599@www.leuragolfclub.com.au
SUMMARY:Monthly Medal
DESCRIPTION:
URL:https://www.leuragolfclub.com.au/event/monthly-medal/
CATEGORIES:Saturday Medley Comp
END:VEVENT
BEGIN:VEVENT
DTSTART;VALUE=DATE:20181031
DTEND;VALUE=DATE:20181101
DTSTAMP:20260424T042840
CREATED:20180617T052801Z
LAST-MODIFIED:20180622T065147Z
UID:10002552-1540944000-1541030399@www.leuragolfclub.com.au
SUMMARY:Stableford + 2 Ball Aggregate
DESCRIPTION:Medley competition – visitors welcome. \nComp closes at 4pm so please ensure that your tee time will allow you to finish in time.
URL:https://www.leuragolfclub.com.au/event/stableford-2-ball-aggregate/2018-10-31/
CATEGORIES:Wednesday Medley Comp
END:VEVENT
END:VCALENDAR