BEGIN:VCALENDAR
VERSION:2.0
PRODID:-//Leura Golf Club - ECPv6.13.2.1//NONSGML v1.0//EN
CALSCALE:GREGORIAN
METHOD:PUBLISH
X-WR-CALNAME:Leura Golf Club
X-ORIGINAL-URL:https://www.leuragolfclub.com.au
X-WR-CALDESC:Events for Leura Golf Club
REFRESH-INTERVAL;VALUE=DURATION:PT1H
X-Robots-Tag:noindex
X-PUBLISHED-TTL:PT1H
BEGIN:VTIMEZONE
TZID:Australia/Melbourne
BEGIN:STANDARD
TZOFFSETFROM:+1100
TZOFFSETTO:+1000
TZNAME:AEST
DTSTART:20180331T160000
END:STANDARD
BEGIN:DAYLIGHT
TZOFFSETFROM:+1000
TZOFFSETTO:+1100
TZNAME:AEDT
DTSTART:20181006T160000
END:DAYLIGHT
END:VTIMEZONE
BEGIN:VEVENT
DTSTART;VALUE=DATE:20180721
DTEND;VALUE=DATE:20180722
DTSTAMP:20260424T085511
CREATED:20180626T023936Z
LAST-MODIFIED:20180626T023936Z
UID:10002596-1532131200-1532217599@www.leuragolfclub.com.au
SUMMARY:Stableford + 2B Aggregate
DESCRIPTION:Medley competition – visitors welcome. \nComp closes at 4pm so please ensure that your tee time will allow you to finish in time.
URL:https://www.leuragolfclub.com.au/event/stableford-2b-aggregate/2018-07-21/
CATEGORIES:Saturday Medley Comp
END:VEVENT
BEGIN:VEVENT
DTSTART;VALUE=DATE:20180718
DTEND;VALUE=DATE:20180719
DTSTAMP:20260424T085511
CREATED:20180617T052513Z
LAST-MODIFIED:20180622T065032Z
UID:10002538-1531872000-1531958399@www.leuragolfclub.com.au
SUMMARY:Stableford + 2BBB
DESCRIPTION:Medley competition – visitors welcome. \nComp closes at 4pm so please ensure that your tee time will allow you to finish in time.
URL:https://www.leuragolfclub.com.au/event/stableford-2bbb/2018-07-18/
CATEGORIES:Wednesday Medley Comp
END:VEVENT
BEGIN:VEVENT
DTSTART;VALUE=DATE:20180717
DTEND;VALUE=DATE:20180718
DTSTAMP:20260424T085511
CREATED:20180617T052949Z
LAST-MODIFIED:20180629T074111Z
UID:10002559-1531785600-1531871999@www.leuragolfclub.com.au
SUMMARY:Women's comp + Medley
DESCRIPTION:Medley competition – visitors welcome. \nComp closes at 4pm so please ensure that your tee time will allow you to finish in time.
URL:https://www.leuragolfclub.com.au/event/womens-comp-medley/2018-07-17/
END:VEVENT
BEGIN:VEVENT
DTSTART;VALUE=DATE:20180714
DTEND;VALUE=DATE:20180715
DTSTAMP:20260424T085511
CREATED:20180626T025200Z
LAST-MODIFIED:20181210T215715Z
UID:10002669-1531526400-1531612799@www.leuragolfclub.com.au
SUMMARY:Coote Shield - Rd 1
DESCRIPTION:The Coote Shield is a 2BBB Stableford event that is held across two consecutive Saturdays. The winner is the team that scores the highest aggregate over the two rounds. Visitors and Ladies are welcome to play in the event – they can win the day but not the trophy which is a closed event.
URL:https://www.leuragolfclub.com.au/event/coote-shield-rd-1/
CATEGORIES:LGC Major Events
END:VEVENT
BEGIN:VEVENT
DTSTART;VALUE=DATE:20180711
DTEND;VALUE=DATE:20180712
DTSTAMP:20260424T085511
CREATED:20180617T052344Z
LAST-MODIFIED:20180622T064833Z
UID:10002531-1531267200-1531353599@www.leuragolfclub.com.au
SUMMARY:Par + 2BBB
DESCRIPTION:Medley competition – visitors welcome. \nComp closes at 4pm so please ensure that your tee time will allow you to finish in time.
URL:https://www.leuragolfclub.com.au/event/par-2bbb/2018-07-11/
CATEGORIES:Wednesday Medley Comp
END:VEVENT
BEGIN:VEVENT
DTSTART;VALUE=DATE:20180710
DTEND;VALUE=DATE:20180711
DTSTAMP:20260424T085511
CREATED:20180617T052949Z
LAST-MODIFIED:20180629T074111Z
UID:10002558-1531180800-1531267199@www.leuragolfclub.com.au
SUMMARY:Women's comp + Medley
DESCRIPTION:Medley competition – visitors welcome. \nComp closes at 4pm so please ensure that your tee time will allow you to finish in time.
URL:https://www.leuragolfclub.com.au/event/womens-comp-medley/2018-07-10/
END:VEVENT
BEGIN:VEVENT
DTSTART;VALUE=DATE:20180707
DTEND;VALUE=DATE:20180708
DTSTAMP:20260424T085511
CREATED:20180626T023407Z
LAST-MODIFIED:20180629T073718Z
UID:10002583-1530921600-1531007999@www.leuragolfclub.com.au
SUMMARY:Monthly Medal + Stableford
DESCRIPTION:Stableford off white markers and not eligible for NTP’s.
URL:https://www.leuragolfclub.com.au/event/monthly-medal-stableford/2018-07-07/
CATEGORIES:Saturday Medley Comp
END:VEVENT
BEGIN:VEVENT
DTSTART;VALUE=DATE:20180704
DTEND;VALUE=DATE:20180705
DTSTAMP:20260424T085511
CREATED:20180617T051737Z
LAST-MODIFIED:20180622T064937Z
UID:10002524-1530662400-1530748799@www.leuragolfclub.com.au
SUMMARY:Stableford + 2 Ball Multiplier
DESCRIPTION:Medley competition – visitors welcome. \nComp closes at 4pm so please ensure that your tee time will allow you to finish in time.
URL:https://www.leuragolfclub.com.au/event/wednesday-comp/2018-07-04/
CATEGORIES:Wednesday Medley Comp
END:VEVENT
BEGIN:VEVENT
DTSTART;VALUE=DATE:20180703
DTEND;VALUE=DATE:20180704
DTSTAMP:20260424T085511
CREATED:20180617T052949Z
LAST-MODIFIED:20180629T074111Z
UID:10002557-1530576000-1530662399@www.leuragolfclub.com.au
SUMMARY:Women's comp + Medley
DESCRIPTION:Medley competition – visitors welcome. \nComp closes at 4pm so please ensure that your tee time will allow you to finish in time.
URL:https://www.leuragolfclub.com.au/event/womens-comp-medley/2018-07-03/
END:VEVENT
BEGIN:VEVENT
DTSTART;VALUE=DATE:20180630
DTEND;VALUE=DATE:20180701
DTSTAMP:20260424T085511
CREATED:20231120T001221Z
LAST-MODIFIED:20231120T001221Z
UID:10002591-1530316800-1530403199@www.leuragolfclub.com.au
SUMMARY:Stableford + 2BBB
DESCRIPTION:Medley competition – visitors welcome. \nComp closes at 4pm so please ensure that your tee time will allow you to finish in time.
URL:https://www.leuragolfclub.com.au/event/stableford-2bbb-2/2018-06-30/
CATEGORIES:Saturday Medley Comp
END:VEVENT
BEGIN:VEVENT
DTSTART;VALUE=DATE:20180627
DTEND;VALUE=DATE:20180628
DTSTAMP:20260424T085511
CREATED:20231120T001220Z
LAST-MODIFIED:20231120T001220Z
UID:10002544-1530057600-1530143999@www.leuragolfclub.com.au
SUMMARY:Stableford + 2BBB
DESCRIPTION:Medley competition – visitors welcome. \nComp closes at 4pm so please ensure that your tee time will allow you to finish in time.
URL:https://www.leuragolfclub.com.au/event/stableford-2bbb/2018-06-27/
CATEGORIES:Wednesday Medley Comp
END:VEVENT
BEGIN:VEVENT
DTSTART;VALUE=DATE:20180626
DTEND;VALUE=DATE:20180627
DTSTAMP:20260424T085511
CREATED:20180617T052949Z
LAST-MODIFIED:20180629T074111Z
UID:10002556-1529971200-1530057599@www.leuragolfclub.com.au
SUMMARY:Women's comp + Medley
DESCRIPTION:Medley competition – visitors welcome. \nComp closes at 4pm so please ensure that your tee time will allow you to finish in time.
URL:https://www.leuragolfclub.com.au/event/womens-comp-medley/2018-06-26/
END:VEVENT
BEGIN:VEVENT
DTSTART;VALUE=DATE:20180623
DTEND;VALUE=DATE:20180624
DTSTAMP:20260424T085511
CREATED:20180626T024602Z
LAST-MODIFIED:20180626T024602Z
UID:10002662-1529712000-1529798399@www.leuragolfclub.com.au
SUMMARY:Men's Foursomes Championships
DESCRIPTION:Foursomes Championship Event – 2 players in a team alternate turns playing the same ball. One team member tees off on the even holes and the other tees odd on the odd holes. A team’s Net score will be calculated by deducting half of the total aggregate handicap of the team from the gross score. \nVisitors are welcome (they can win the day but not the trophy which is a closed event). There is also a Single Stableford comp. \nMen’s Foursomes Championships 23.06.18\nCONDITIONS OF PLAY – ENTRANCE FEE $15 \n\nThe competition will be played according to the ‘Rules of Golf’ and competitors must be members of Leura Golf Club and hold an AGU handicap. Members are reminded that this is a club championship event and members’ attention is directed to By-Law 7 – see below. For the purposes of these Conditions of Play “Club Championships” where used in the by-law shall mean “Men’s Foursome Championships”.\nThe competition will consist of 29 holes foursomes stroke play from the blue tees on Saturday\, 23 June 2018. The ball will be played as it lies. There will be no preferred lies. Tee times shall be 7.32 am to 8.04 am. If extra tee times become necessary they will follow at 8 minute intervals from 8.04 am.\nThe 29 holes will be holes 1 to 18\, there will then be a break for refreshments\, followed by holes 1 to 11 for which the order of play from the tees will be changed. Refreshments will be available to be purchased in the clubhouse.\nThe handicap of each pair will be one half of their combined handicaps multiplied by 29 divided by 18 rounded to the nearest one decimal point.\nThe competition will be played in two grades\, namely\n\nA grade 16 or less\nB grade 17 – 36\n\n\nThe championship winners in each grade will be the pair who returns the best aggregate scratch score over the 29 holes. There will also be net winners in each grade. There will be prizes for the Runners-up.\nIn the event of a tie winners will be determined by countbacks as applied by Golf Link.\nAll disputes must be in writing and will be decided by the Match Committee. Decisions will be final.\nIf in the opinion of the Match committee in conjunction with the Greenkeeper the course should be closed due to inclement weather the championships shall not be played and shall be re-scheduled.\nThere will be a singles Stableford competition from the white tees for those who elect not to play in the championships. There will be no 2 ball competition and Stableford players will not be eligible for NTPs.\n\nMATCH COMMITTEE – LEURA GOLF CLUB\nMay 2018 \nBy-Law 7 – Club Championship Eligibility:\nTo be eligible to play in the Club Championships\, a member shall have completed at least 2 monthly medal rounds or at least 5 competition rounds at Leura Golf Club in the 12 months immediately preceding the Club Championships.
URL:https://www.leuragolfclub.com.au/event/mens-foursomes-championships/
CATEGORIES:LGC Major Events
END:VEVENT
BEGIN:VEVENT
DTSTART;VALUE=DATE:20180620
DTEND;VALUE=DATE:20180621
DTSTAMP:20260424T085511
CREATED:20180617T052513Z
LAST-MODIFIED:20180622T065032Z
UID:10002537-1529452800-1529539199@www.leuragolfclub.com.au
SUMMARY:Stableford + 2BBB
DESCRIPTION:Medley competition – visitors welcome. \nComp closes at 4pm so please ensure that your tee time will allow you to finish in time.
URL:https://www.leuragolfclub.com.au/event/stableford-2bbb/2018-06-20/
CATEGORIES:Wednesday Medley Comp
END:VEVENT
BEGIN:VEVENT
DTSTART;VALUE=DATE:20180619
DTEND;VALUE=DATE:20180620
DTSTAMP:20260424T085511
CREATED:20180617T052949Z
LAST-MODIFIED:20180629T074111Z
UID:10002555-1529366400-1529452799@www.leuragolfclub.com.au
SUMMARY:Women's comp + Medley
DESCRIPTION:Medley competition – visitors welcome. \nComp closes at 4pm so please ensure that your tee time will allow you to finish in time.
URL:https://www.leuragolfclub.com.au/event/womens-comp-medley/2018-06-19/
END:VEVENT
BEGIN:VEVENT
DTSTART;VALUE=DATE:20180617
DTEND;VALUE=DATE:20180618
DTSTAMP:20260424T085511
CREATED:20180626T024330Z
LAST-MODIFIED:20180626T024330Z
UID:10002661-1529193600-1529279999@www.leuragolfclub.com.au
SUMMARY:Mixed Foursomes Championships
DESCRIPTION:MIXED FOURSOMES CHAMPIONSHIPS – 2018\nCONDITIONS OF PLAY – RULES OF GOLF APPLY.\n18 HOLE COMPETITION – $15 PER PLAYER. \n\nBoth partners must be members of Leura Golf Club. This is a championship event so By-law 7 applies – see below. For the purposes of these Conditions of Play “Club Championships” where used in the by-law shall mean “Mixed Foursomes Championships”.\nIt will be decided closer to\, or on the day\, whether the ball will be played as it lies or whether preferred lies\, either on the fairway or through the green\, will apply.\nAggregate handicap of partners is halved i.e. (10 + 26)/2 = 18 handicap.\nMen tee off on all odd numbered holes i.e. 1st\, 3rd etc.\nWomen tee off on all even numbered holes i.e. 2nd 4th etc.\nAfter teeing off the shot is then alternated between partners until the ball is in the hole.\nMen play off blue markers – Women from red.\nIf an air shot occurs then partner must play next shot.\nG.U.R. – the player may lift the ball and drop it\, without penalty\, within ‘one club length of\, and not nearer the hole\, than the ‘nearest point of relief’. (rule 25-1b (i).)\nStaked Trees – a local rule is in place and as such\, it is mandatory that relief be taken from staked trees. Failure to do so incurs a 2 stroke penalty. Relief having been taken it is imperative that the player or the player’s club does not touch any part of the tree. To do so incurs also two stroke penalty.\nIf your partner hits a ball out of bounds then the alternate player must hit another from the same spot adding a one shot penalty.\nNo relief from tyre tracks – it is not a local rule.\n\nNote – this is a stroke event (alternating shots by partners) – trophies for scratch winner and runner-up also trophies for net winner and runner-up. \nMatch Committee – June 2018 \nBy-Law 7 – Club Championship Eligibility:\nTo be eligible to play in the Club Championships\, a member shall have completed at least 2 monthly medal rounds or at least 5 competition rounds at Leura Golf Club in the 12 months immediately preceding the Club Championships.
URL:https://www.leuragolfclub.com.au/event/mixed-foursomes-championships/
CATEGORIES:LGC Major Events
END:VEVENT
BEGIN:VEVENT
DTSTART;VALUE=DATE:20180616
DTEND;VALUE=DATE:20180617
DTSTAMP:20260424T085511
CREATED:20180626T023936Z
LAST-MODIFIED:20180626T023936Z
UID:10002595-1529107200-1529193599@www.leuragolfclub.com.au
SUMMARY:Stableford + 2B Aggregate
DESCRIPTION:Medley competition – visitors welcome. \nComp closes at 4pm so please ensure that your tee time will allow you to finish in time.
URL:https://www.leuragolfclub.com.au/event/stableford-2b-aggregate/2018-06-16/
CATEGORIES:Saturday Medley Comp
END:VEVENT
BEGIN:VEVENT
DTSTART;VALUE=DATE:20180613
DTEND;VALUE=DATE:20180614
DTSTAMP:20260424T085511
CREATED:20180617T052344Z
LAST-MODIFIED:20180622T064833Z
UID:10002530-1528848000-1528934399@www.leuragolfclub.com.au
SUMMARY:Par + 2BBB
DESCRIPTION:Medley competition – visitors welcome. \nComp closes at 4pm so please ensure that your tee time will allow you to finish in time.
URL:https://www.leuragolfclub.com.au/event/par-2bbb/2018-06-13/
CATEGORIES:Wednesday Medley Comp
END:VEVENT
BEGIN:VEVENT
DTSTART;VALUE=DATE:20180612
DTEND;VALUE=DATE:20180613
DTSTAMP:20260424T085511
CREATED:20180617T052949Z
LAST-MODIFIED:20180629T074111Z
UID:10002554-1528761600-1528847999@www.leuragolfclub.com.au
SUMMARY:Women's comp + Medley
DESCRIPTION:Medley competition – visitors welcome. \nComp closes at 4pm so please ensure that your tee time will allow you to finish in time.
URL:https://www.leuragolfclub.com.au/event/womens-comp-medley/2018-06-12/
END:VEVENT
BEGIN:VEVENT
DTSTART;VALUE=DATE:20180609
DTEND;VALUE=DATE:20180610
DTSTAMP:20260424T085512
CREATED:20180626T023643Z
LAST-MODIFIED:20180626T031047Z
UID:10002587-1528502400-1528588799@www.leuragolfclub.com.au
SUMMARY:Stableford + 2BBB
DESCRIPTION:Medley competition – visitors welcome. \nComp closes at 4pm so please ensure that your tee time will allow you to finish in time.
URL:https://www.leuragolfclub.com.au/event/stableford-2bbb-2/2018-06-09/
CATEGORIES:Saturday Medley Comp
END:VEVENT
BEGIN:VEVENT
DTSTART;VALUE=DATE:20180606
DTEND;VALUE=DATE:20180607
DTSTAMP:20260424T085512
CREATED:20180617T051737Z
LAST-MODIFIED:20180622T064937Z
UID:10002523-1528243200-1528329599@www.leuragolfclub.com.au
SUMMARY:Stableford + 2 Ball Multiplier
DESCRIPTION:Medley competition – visitors welcome. \nComp closes at 4pm so please ensure that your tee time will allow you to finish in time.
URL:https://www.leuragolfclub.com.au/event/wednesday-comp/2018-06-06/
CATEGORIES:Wednesday Medley Comp
END:VEVENT
BEGIN:VEVENT
DTSTART;VALUE=DATE:20180605
DTEND;VALUE=DATE:20180606
DTSTAMP:20260424T085512
CREATED:20180617T052949Z
LAST-MODIFIED:20180629T074111Z
UID:10002553-1528156800-1528243199@www.leuragolfclub.com.au
SUMMARY:Women's comp + Medley
DESCRIPTION:Medley competition – visitors welcome. \nComp closes at 4pm so please ensure that your tee time will allow you to finish in time.
URL:https://www.leuragolfclub.com.au/event/womens-comp-medley/2018-06-05/
END:VEVENT
BEGIN:VEVENT
DTSTART;VALUE=DATE:20180602
DTEND;VALUE=DATE:20180603
DTSTAMP:20260424T085512
CREATED:20180626T023407Z
LAST-MODIFIED:20180629T073718Z
UID:10002582-1527897600-1527983999@www.leuragolfclub.com.au
SUMMARY:Monthly Medal + Stableford
DESCRIPTION:Stableford off white markers and not eligible for NTP’s.
URL:https://www.leuragolfclub.com.au/event/monthly-medal-stableford/2018-06-02/
CATEGORIES:Saturday Medley Comp
END:VEVENT
END:VCALENDAR