BEGIN:VCALENDAR
VERSION:2.0
PRODID:-//Leura Golf Club - ECPv6.13.2.1//NONSGML v1.0//EN
CALSCALE:GREGORIAN
METHOD:PUBLISH
X-WR-CALNAME:Leura Golf Club
X-ORIGINAL-URL:https://www.leuragolfclub.com.au
X-WR-CALDESC:Events for Leura Golf Club
REFRESH-INTERVAL;VALUE=DURATION:PT1H
X-Robots-Tag:noindex
X-PUBLISHED-TTL:PT1H
BEGIN:VTIMEZONE
TZID:Australia/Melbourne
BEGIN:STANDARD
TZOFFSETFROM:+1100
TZOFFSETTO:+1000
TZNAME:AEST
DTSTART:20180331T160000
END:STANDARD
BEGIN:DAYLIGHT
TZOFFSETFROM:+1000
TZOFFSETTO:+1100
TZNAME:AEDT
DTSTART:20181006T160000
END:DAYLIGHT
END:VTIMEZONE
BEGIN:VEVENT
DTSTART;VALUE=DATE:20180918
DTEND;VALUE=DATE:20180919
DTSTAMP:20260424T054849
CREATED:20180617T052949Z
LAST-MODIFIED:20180629T074111Z
UID:10002568-1537228800-1537315199@www.leuragolfclub.com.au
SUMMARY:Women's comp + Medley
DESCRIPTION:Medley competition – visitors welcome. \nComp closes at 4pm so please ensure that your tee time will allow you to finish in time.
URL:https://www.leuragolfclub.com.au/event/womens-comp-medley/2018-09-18/
END:VEVENT
BEGIN:VEVENT
DTSTART;VALUE=DATE:20180915
DTEND;VALUE=DATE:20180916
DTSTAMP:20260424T054849
CREATED:20180626T030525Z
LAST-MODIFIED:20180626T030810Z
UID:10002675-1536969600-1537055999@www.leuragolfclub.com.au
SUMMARY:Stableford + 2B Aggregate
DESCRIPTION:Medley competition – visitors welcome. \nComp closes at 4pm so please ensure that your tee time will allow you to finish in time.
URL:https://www.leuragolfclub.com.au/event/stableford-2b-aggregate-2/2018-09-15/
CATEGORIES:Saturday Medley Comp
END:VEVENT
BEGIN:VEVENT
DTSTART;VALUE=DATE:20180915
DTEND;VALUE=DATE:20180916
DTSTAMP:20260424T054849
CREATED:20180626T023936Z
LAST-MODIFIED:20180626T023936Z
UID:10002598-1536969600-1537055999@www.leuragolfclub.com.au
SUMMARY:Stableford + 2B Aggregate
DESCRIPTION:Medley competition – visitors welcome. \nComp closes at 4pm so please ensure that your tee time will allow you to finish in time.
URL:https://www.leuragolfclub.com.au/event/stableford-2b-aggregate/2018-09-15/
CATEGORIES:Saturday Medley Comp
END:VEVENT
BEGIN:VEVENT
DTSTART;VALUE=DATE:20180912
DTEND;VALUE=DATE:20180913
DTSTAMP:20260424T054849
CREATED:20180617T052344Z
LAST-MODIFIED:20180622T064833Z
UID:10002533-1536710400-1536796799@www.leuragolfclub.com.au
SUMMARY:Par + 2BBB
DESCRIPTION:Medley competition – visitors welcome. \nComp closes at 4pm so please ensure that your tee time will allow you to finish in time.
URL:https://www.leuragolfclub.com.au/event/par-2bbb/2018-09-12/
CATEGORIES:Wednesday Medley Comp
END:VEVENT
BEGIN:VEVENT
DTSTART;VALUE=DATE:20180911
DTEND;VALUE=DATE:20180912
DTSTAMP:20260424T054849
CREATED:20180617T052949Z
LAST-MODIFIED:20180629T074111Z
UID:10002567-1536624000-1536710399@www.leuragolfclub.com.au
SUMMARY:Women's comp + Medley
DESCRIPTION:Medley competition – visitors welcome. \nComp closes at 4pm so please ensure that your tee time will allow you to finish in time.
URL:https://www.leuragolfclub.com.au/event/womens-comp-medley/2018-09-11/
END:VEVENT
BEGIN:VEVENT
DTSTART;VALUE=DATE:20180908
DTEND;VALUE=DATE:20180909
DTSTAMP:20260424T054849
CREATED:20180626T023643Z
LAST-MODIFIED:20180626T031047Z
UID:10002588-1536364800-1536451199@www.leuragolfclub.com.au
SUMMARY:Stableford + 2BBB
DESCRIPTION:Medley competition – visitors welcome. \nComp closes at 4pm so please ensure that your tee time will allow you to finish in time.
URL:https://www.leuragolfclub.com.au/event/stableford-2bbb-2/2018-09-08/
CATEGORIES:Saturday Medley Comp
END:VEVENT
BEGIN:VEVENT
DTSTART;VALUE=DATE:20180905
DTEND;VALUE=DATE:20180906
DTSTAMP:20260424T054849
CREATED:20180617T051737Z
LAST-MODIFIED:20180622T064937Z
UID:10002526-1536105600-1536191999@www.leuragolfclub.com.au
SUMMARY:Stableford + 2 Ball Multiplier
DESCRIPTION:Medley competition – visitors welcome. \nComp closes at 4pm so please ensure that your tee time will allow you to finish in time.
URL:https://www.leuragolfclub.com.au/event/wednesday-comp/2018-09-05/
CATEGORIES:Wednesday Medley Comp
END:VEVENT
BEGIN:VEVENT
DTSTART;VALUE=DATE:20180904
DTEND;VALUE=DATE:20180905
DTSTAMP:20260424T054849
CREATED:20180617T052949Z
LAST-MODIFIED:20180629T074111Z
UID:10002566-1536019200-1536105599@www.leuragolfclub.com.au
SUMMARY:Women's comp + Medley
DESCRIPTION:Medley competition – visitors welcome. \nComp closes at 4pm so please ensure that your tee time will allow you to finish in time.
URL:https://www.leuragolfclub.com.au/event/womens-comp-medley/2018-09-04/
END:VEVENT
BEGIN:VEVENT
DTSTART;VALUE=DATE:20180901
DTEND;VALUE=DATE:20180902
DTSTAMP:20260424T054849
CREATED:20180626T023407Z
LAST-MODIFIED:20180629T073718Z
UID:10002585-1535760000-1535846399@www.leuragolfclub.com.au
SUMMARY:Monthly Medal + Stableford
DESCRIPTION:Stableford off white markers and not eligible for NTP’s.
URL:https://www.leuragolfclub.com.au/event/monthly-medal-stableford/2018-09-01/
CATEGORIES:Saturday Medley Comp
END:VEVENT
BEGIN:VEVENT
DTSTART;VALUE=DATE:20180829
DTEND;VALUE=DATE:20180830
DTSTAMP:20260424T054849
CREATED:20180617T052801Z
LAST-MODIFIED:20180622T065147Z
UID:10002551-1535500800-1535587199@www.leuragolfclub.com.au
SUMMARY:Stableford + 2 Ball Aggregate
DESCRIPTION:Medley competition – visitors welcome. \nComp closes at 4pm so please ensure that your tee time will allow you to finish in time.
URL:https://www.leuragolfclub.com.au/event/stableford-2-ball-aggregate/2018-08-29/
CATEGORIES:Wednesday Medley Comp
END:VEVENT
BEGIN:VEVENT
DTSTART;VALUE=DATE:20180828
DTEND;VALUE=DATE:20180829
DTSTAMP:20260424T054849
CREATED:20180617T052949Z
LAST-MODIFIED:20180629T074111Z
UID:10002565-1535414400-1535500799@www.leuragolfclub.com.au
SUMMARY:Women's comp + Medley
DESCRIPTION:Medley competition – visitors welcome. \nComp closes at 4pm so please ensure that your tee time will allow you to finish in time.
URL:https://www.leuragolfclub.com.au/event/womens-comp-medley/2018-08-28/
END:VEVENT
BEGIN:VEVENT
DTSTART;VALUE=DATE:20180825
DTEND;VALUE=DATE:20180826
DTSTAMP:20260424T054849
CREATED:20180626T024955Z
LAST-MODIFIED:20181210T015352Z
UID:10002664-1535155200-1535241599@www.leuragolfclub.com.au
SUMMARY:Stableford + 2B Multiplier
DESCRIPTION:Medley competition – visitors welcome. \nComp closes at 4pm so please ensure that your tee time will allow you to finish in time.
URL:https://www.leuragolfclub.com.au/event/stableford-2b-multiplier-2018-08-25/2018-08-25/
CATEGORIES:Saturday Medley Comp
END:VEVENT
BEGIN:VEVENT
DTSTART;VALUE=DATE:20180822
DTEND;VALUE=DATE:20180823
DTSTAMP:20260424T054849
CREATED:20231120T001220Z
LAST-MODIFIED:20231120T001220Z
UID:10002546-1534896000-1534982399@www.leuragolfclub.com.au
SUMMARY:Stableford + 2BBB
DESCRIPTION:Medley competition – visitors welcome. \nComp closes at 4pm so please ensure that your tee time will allow you to finish in time.
URL:https://www.leuragolfclub.com.au/event/stableford-2bbb/2018-08-22/
CATEGORIES:Wednesday Medley Comp
END:VEVENT
BEGIN:VEVENT
DTSTART;VALUE=DATE:20180821
DTEND;VALUE=DATE:20180822
DTSTAMP:20260424T054849
CREATED:20180617T052949Z
LAST-MODIFIED:20180629T074111Z
UID:10002564-1534809600-1534895999@www.leuragolfclub.com.au
SUMMARY:Women's comp + Medley
DESCRIPTION:Medley competition – visitors welcome. \nComp closes at 4pm so please ensure that your tee time will allow you to finish in time.
URL:https://www.leuragolfclub.com.au/event/womens-comp-medley/2018-08-21/
END:VEVENT
BEGIN:VEVENT
DTSTART;VALUE=DATE:20180819
DTEND;VALUE=DATE:20180820
DTSTAMP:20260424T054849
CREATED:20180626T030327Z
LAST-MODIFIED:20180626T030327Z
UID:10002673-1534636800-1534723199@www.leuragolfclub.com.au
SUMMARY:Keno Men's 4BBB
DESCRIPTION:At WFCC.
URL:https://www.leuragolfclub.com.au/event/keno-mens-4bbb/
CATEGORIES:Other
END:VEVENT
BEGIN:VEVENT
DTSTART;VALUE=DATE:20180818
DTEND;VALUE=DATE:20180819
DTSTAMP:20260424T054849
CREATED:20180626T030525Z
LAST-MODIFIED:20180626T030810Z
UID:10002674-1534550400-1534636799@www.leuragolfclub.com.au
SUMMARY:Stableford + 2B Aggregate
DESCRIPTION:Medley competition – visitors welcome. \nComp closes at 4pm so please ensure that your tee time will allow you to finish in time.
URL:https://www.leuragolfclub.com.au/event/stableford-2b-aggregate-2/2018-08-18/
CATEGORIES:Saturday Medley Comp
END:VEVENT
BEGIN:VEVENT
DTSTART;VALUE=DATE:20180818
DTEND;VALUE=DATE:20180819
DTSTAMP:20260424T054849
CREATED:20180626T023936Z
LAST-MODIFIED:20180626T023936Z
UID:10002597-1534550400-1534636799@www.leuragolfclub.com.au
SUMMARY:Stableford + 2B Aggregate
DESCRIPTION:Medley competition – visitors welcome. \nComp closes at 4pm so please ensure that your tee time will allow you to finish in time.
URL:https://www.leuragolfclub.com.au/event/stableford-2b-aggregate/2018-08-18/
CATEGORIES:Saturday Medley Comp
END:VEVENT
BEGIN:VEVENT
DTSTART;VALUE=DATE:20180815
DTEND;VALUE=DATE:20180816
DTSTAMP:20260424T054849
CREATED:20180617T052513Z
LAST-MODIFIED:20180622T065032Z
UID:10002539-1534291200-1534377599@www.leuragolfclub.com.au
SUMMARY:Stableford + 2BBB
DESCRIPTION:Medley competition – visitors welcome. \nComp closes at 4pm so please ensure that your tee time will allow you to finish in time.
URL:https://www.leuragolfclub.com.au/event/stableford-2bbb/2018-08-15/
CATEGORIES:Wednesday Medley Comp
END:VEVENT
BEGIN:VEVENT
DTSTART;VALUE=DATE:20180814
DTEND;VALUE=DATE:20180815
DTSTAMP:20260424T054849
CREATED:20180617T052949Z
LAST-MODIFIED:20180629T074111Z
UID:10002563-1534204800-1534291199@www.leuragolfclub.com.au
SUMMARY:Women's comp + Medley
DESCRIPTION:Medley competition – visitors welcome. \nComp closes at 4pm so please ensure that your tee time will allow you to finish in time.
URL:https://www.leuragolfclub.com.au/event/womens-comp-medley/2018-08-14/
END:VEVENT
BEGIN:VEVENT
DTSTART;VALUE=DATE:20180811
DTEND;VALUE=DATE:20180812
DTSTAMP:20260424T054849
CREATED:20180626T030053Z
LAST-MODIFIED:20181210T215234Z
UID:10002672-1533945600-1534031999@www.leuragolfclub.com.au
SUMMARY:Haig & Haig Shield - Rd 2
DESCRIPTION:The Haig and Haig Shield  is a stroke event over 2 weeks with the winner being the person with the best aggregate nett score for the two rounds from across all grades. \nVisitors are not eligible to win the Shield.
URL:https://www.leuragolfclub.com.au/event/haig-haig-shield-rd-2/
CATEGORIES:LGC Major Events
END:VEVENT
BEGIN:VEVENT
DTSTART;VALUE=DATE:20180811
DTEND;VALUE=DATE:20180812
DTSTAMP:20260424T054849
CREATED:20180626T023643Z
LAST-MODIFIED:20180805T003429Z
UID:10002594-1533945600-1534031999@www.leuragolfclub.com.au
SUMMARY:Single Stableford
DESCRIPTION:Medley competition – visitors welcome. \nComp closes at 4pm so please ensure that your tee time will allow you to finish in time.
URL:https://www.leuragolfclub.com.au/event/stableford-2bbb-2-2018-08-11/
CATEGORIES:Saturday Medley Comp
END:VEVENT
BEGIN:VEVENT
DTSTART;VALUE=DATE:20180808
DTEND;VALUE=DATE:20180809
DTSTAMP:20260424T054849
CREATED:20180617T052344Z
LAST-MODIFIED:20180622T064833Z
UID:10002532-1533686400-1533772799@www.leuragolfclub.com.au
SUMMARY:Par + 2BBB
DESCRIPTION:Medley competition – visitors welcome. \nComp closes at 4pm so please ensure that your tee time will allow you to finish in time.
URL:https://www.leuragolfclub.com.au/event/par-2bbb/2018-08-08/
CATEGORIES:Wednesday Medley Comp
END:VEVENT
BEGIN:VEVENT
DTSTART;VALUE=DATE:20180807
DTEND;VALUE=DATE:20180808
DTSTAMP:20260424T054849
CREATED:20180617T052949Z
LAST-MODIFIED:20180629T074111Z
UID:10002562-1533600000-1533686399@www.leuragolfclub.com.au
SUMMARY:Women's comp + Medley
DESCRIPTION:Medley competition – visitors welcome. \nComp closes at 4pm so please ensure that your tee time will allow you to finish in time.
URL:https://www.leuragolfclub.com.au/event/womens-comp-medley/2018-08-07/
END:VEVENT
BEGIN:VEVENT
DTSTART;VALUE=DATE:20180804
DTEND;VALUE=DATE:20180805
DTSTAMP:20260424T054849
CREATED:20180626T025956Z
LAST-MODIFIED:20181210T215325Z
UID:10002671-1533340800-1533427199@www.leuragolfclub.com.au
SUMMARY:Haig & Haig Shield - Rd 1
DESCRIPTION:The Haig and Haig Shield  is a stroke event over 2 weeks with the winner being the person with the best aggregate nett score for the two rounds from across all grades. \nVisitors are not eligible to win the Shield.
URL:https://www.leuragolfclub.com.au/event/haig-haig-shield-rd-1/
CATEGORIES:LGC Major Events
END:VEVENT
BEGIN:VEVENT
DTSTART;VALUE=DATE:20180804
DTEND;VALUE=DATE:20180805
DTSTAMP:20260424T054849
CREATED:20180626T023407Z
LAST-MODIFIED:20180629T073718Z
UID:10002584-1533340800-1533427199@www.leuragolfclub.com.au
SUMMARY:Monthly Medal + Stableford
DESCRIPTION:Stableford off white markers and not eligible for NTP’s.
URL:https://www.leuragolfclub.com.au/event/monthly-medal-stableford/2018-08-04/
CATEGORIES:Saturday Medley Comp
END:VEVENT
BEGIN:VEVENT
DTSTART;VALUE=DATE:20180801
DTEND;VALUE=DATE:20180802
DTSTAMP:20260424T054849
CREATED:20180617T051737Z
LAST-MODIFIED:20180622T064937Z
UID:10002525-1533081600-1533167999@www.leuragolfclub.com.au
SUMMARY:Stableford + 2 Ball Multiplier
DESCRIPTION:Medley competition – visitors welcome. \nComp closes at 4pm so please ensure that your tee time will allow you to finish in time.
URL:https://www.leuragolfclub.com.au/event/wednesday-comp/2018-08-01/
CATEGORIES:Wednesday Medley Comp
END:VEVENT
BEGIN:VEVENT
DTSTART;VALUE=DATE:20180731
DTEND;VALUE=DATE:20180801
DTSTAMP:20260424T054849
CREATED:20180617T052949Z
LAST-MODIFIED:20180629T074111Z
UID:10002561-1532995200-1533081599@www.leuragolfclub.com.au
SUMMARY:Women's comp + Medley
DESCRIPTION:Medley competition – visitors welcome. \nComp closes at 4pm so please ensure that your tee time will allow you to finish in time.
URL:https://www.leuragolfclub.com.au/event/womens-comp-medley/2018-07-31/
END:VEVENT
BEGIN:VEVENT
DTSTART;VALUE=DATE:20180728
DTEND;VALUE=DATE:20180729
DTSTAMP:20260424T054849
CREATED:20180626T024955Z
LAST-MODIFIED:20180626T024955Z
UID:10002663-1532736000-1532822399@www.leuragolfclub.com.au
SUMMARY:Stableford + 2B Multiplier
DESCRIPTION:Medley competition – visitors welcome. \nComp closes at 4pm so please ensure that your tee time will allow you to finish in time.
URL:https://www.leuragolfclub.com.au/event/stableford-2b-multiplier/
CATEGORIES:Saturday Medley Comp
END:VEVENT
BEGIN:VEVENT
DTSTART;VALUE=DATE:20180725
DTEND;VALUE=DATE:20180726
DTSTAMP:20260424T054849
CREATED:20231120T001220Z
LAST-MODIFIED:20231120T001220Z
UID:10002545-1532476800-1532563199@www.leuragolfclub.com.au
SUMMARY:Stableford + 2BBB
DESCRIPTION:Medley competition – visitors welcome. \nComp closes at 4pm so please ensure that your tee time will allow you to finish in time.
URL:https://www.leuragolfclub.com.au/event/stableford-2bbb/2018-07-25/
CATEGORIES:Wednesday Medley Comp
END:VEVENT
BEGIN:VEVENT
DTSTART;VALUE=DATE:20180724
DTEND;VALUE=DATE:20180725
DTSTAMP:20260424T054849
CREATED:20180617T052949Z
LAST-MODIFIED:20180629T074111Z
UID:10002560-1532390400-1532476799@www.leuragolfclub.com.au
SUMMARY:Women's comp + Medley
DESCRIPTION:Medley competition – visitors welcome. \nComp closes at 4pm so please ensure that your tee time will allow you to finish in time.
URL:https://www.leuragolfclub.com.au/event/womens-comp-medley/2018-07-24/
END:VEVENT
END:VCALENDAR