BEGIN:VCALENDAR
VERSION:2.0
PRODID:-//Leura Golf Club - ECPv6.13.2.1//NONSGML v1.0//EN
CALSCALE:GREGORIAN
METHOD:PUBLISH
X-WR-CALNAME:Leura Golf Club
X-ORIGINAL-URL:https://www.leuragolfclub.com.au
X-WR-CALDESC:Events for Leura Golf Club
REFRESH-INTERVAL;VALUE=DURATION:PT1H
X-Robots-Tag:noindex
X-PUBLISHED-TTL:PT1H
BEGIN:VTIMEZONE
TZID:Australia/Melbourne
BEGIN:STANDARD
TZOFFSETFROM:+1100
TZOFFSETTO:+1000
TZNAME:AEST
DTSTART:20180331T160000
END:STANDARD
BEGIN:DAYLIGHT
TZOFFSETFROM:+1000
TZOFFSETTO:+1100
TZNAME:AEDT
DTSTART:20181006T160000
END:DAYLIGHT
END:VTIMEZONE
BEGIN:VEVENT
DTSTART;VALUE=DATE:20180609
DTEND;VALUE=DATE:20180610
DTSTAMP:20260424T070452
CREATED:20180626T023643Z
LAST-MODIFIED:20180626T031047Z
UID:10002587-1528502400-1528588799@www.leuragolfclub.com.au
SUMMARY:Stableford + 2BBB
DESCRIPTION:Medley competition – visitors welcome. \nComp closes at 4pm so please ensure that your tee time will allow you to finish in time.
URL:https://www.leuragolfclub.com.au/event/stableford-2bbb-2/2018-06-09/
CATEGORIES:Saturday Medley Comp
END:VEVENT
BEGIN:VEVENT
DTSTART;VALUE=DATE:20180606
DTEND;VALUE=DATE:20180607
DTSTAMP:20260424T070452
CREATED:20180617T051737Z
LAST-MODIFIED:20180622T064937Z
UID:10002523-1528243200-1528329599@www.leuragolfclub.com.au
SUMMARY:Stableford + 2 Ball Multiplier
DESCRIPTION:Medley competition – visitors welcome. \nComp closes at 4pm so please ensure that your tee time will allow you to finish in time.
URL:https://www.leuragolfclub.com.au/event/wednesday-comp/2018-06-06/
CATEGORIES:Wednesday Medley Comp
END:VEVENT
BEGIN:VEVENT
DTSTART;VALUE=DATE:20180605
DTEND;VALUE=DATE:20180606
DTSTAMP:20260424T070452
CREATED:20180617T052949Z
LAST-MODIFIED:20180629T074111Z
UID:10002553-1528156800-1528243199@www.leuragolfclub.com.au
SUMMARY:Women's comp + Medley
DESCRIPTION:Medley competition – visitors welcome. \nComp closes at 4pm so please ensure that your tee time will allow you to finish in time.
URL:https://www.leuragolfclub.com.au/event/womens-comp-medley/2018-06-05/
END:VEVENT
BEGIN:VEVENT
DTSTART;VALUE=DATE:20180602
DTEND;VALUE=DATE:20180603
DTSTAMP:20260424T070452
CREATED:20180626T023407Z
LAST-MODIFIED:20180629T073718Z
UID:10002582-1527897600-1527983999@www.leuragolfclub.com.au
SUMMARY:Monthly Medal + Stableford
DESCRIPTION:Stableford off white markers and not eligible for NTP’s.
URL:https://www.leuragolfclub.com.au/event/monthly-medal-stableford/2018-06-02/
CATEGORIES:Saturday Medley Comp
END:VEVENT
END:VCALENDAR