BEGIN:VCALENDAR
VERSION:2.0
PRODID:-//Leura Golf Club - ECPv6.13.2.1//NONSGML v1.0//EN
CALSCALE:GREGORIAN
METHOD:PUBLISH
X-WR-CALNAME:Leura Golf Club
X-ORIGINAL-URL:https://www.leuragolfclub.com.au
X-WR-CALDESC:Events for Leura Golf Club
REFRESH-INTERVAL;VALUE=DURATION:PT1H
X-Robots-Tag:noindex
X-PUBLISHED-TTL:PT1H
BEGIN:VTIMEZONE
TZID:Australia/Melbourne
BEGIN:STANDARD
TZOFFSETFROM:+1100
TZOFFSETTO:+1000
TZNAME:AEST
DTSTART:20200404T160000
END:STANDARD
BEGIN:DAYLIGHT
TZOFFSETFROM:+1000
TZOFFSETTO:+1100
TZNAME:AEDT
DTSTART:20201003T160000
END:DAYLIGHT
END:VTIMEZONE
BEGIN:VEVENT
DTSTART;VALUE=DATE:20201027
DTEND;VALUE=DATE:20201028
DTSTAMP:20260424T095521
CREATED:20200628T011222Z
LAST-MODIFIED:20200628T011311Z
UID:10002733-1603756800-1603843199@www.leuragolfclub.com.au
SUMMARY:Tuesday Medley Comp
DESCRIPTION:
URL:https://www.leuragolfclub.com.au/event/tuesday-medley-comp/2020-10-27/
END:VEVENT
BEGIN:VEVENT
DTSTART;VALUE=DATE:20201025
DTEND;VALUE=DATE:20201026
DTSTAMP:20260424T095521
CREATED:20191026T024002Z
LAST-MODIFIED:20191026T024013Z
UID:10002909-1603584000-1603670399@www.leuragolfclub.com.au
SUMMARY:Wentworth Falls Open
DESCRIPTION:
URL:https://www.leuragolfclub.com.au/event/wentworth-falls-open-3/
END:VEVENT
BEGIN:VEVENT
DTSTART;VALUE=DATE:20201024
DTEND;VALUE=DATE:20201025
DTSTAMP:20260424T095521
CREATED:20191025T234511Z
LAST-MODIFIED:20200528T011400Z
UID:10002887-1603497600-1603583999@www.leuragolfclub.com.au
SUMMARY:Medley - Stableford Singles + 2B Multiplier
DESCRIPTION:
URL:https://www.leuragolfclub.com.au/event/single-stableford-2b-multiplier-2/2020-10-24/
CATEGORIES:Saturday Medley Comp
END:VEVENT
BEGIN:VEVENT
DTSTART;VALUE=DATE:20201021
DTEND;VALUE=DATE:20201022
DTSTAMP:20260424T095521
CREATED:20191025T225521Z
LAST-MODIFIED:20200403T025746Z
UID:10002498-1603238400-1603324799@www.leuragolfclub.com.au
SUMMARY:Medley - Singles Stroke
DESCRIPTION:
URL:https://www.leuragolfclub.com.au/event/single-stableford-2bbb-2020-04-01-2020-04-15/2020-10-21/
CATEGORIES:Wednesday Medley Comp
END:VEVENT
BEGIN:VEVENT
DTSTART;VALUE=DATE:20201020
DTEND;VALUE=DATE:20201021
DTSTAMP:20260424T095521
CREATED:20200628T011222Z
LAST-MODIFIED:20200628T011311Z
UID:10002732-1603152000-1603238399@www.leuragolfclub.com.au
SUMMARY:Tuesday Medley Comp
DESCRIPTION:
URL:https://www.leuragolfclub.com.au/event/tuesday-medley-comp/2020-10-20/
END:VEVENT
BEGIN:VEVENT
DTSTART;VALUE=DATE:20201018
DTEND;VALUE=DATE:20201019
DTSTAMP:20260424T095521
CREATED:20191026T023753Z
LAST-MODIFIED:20191026T023753Z
UID:10002907-1602979200-1603065599@www.leuragolfclub.com.au
SUMMARY:Henbury Open
DESCRIPTION:
URL:https://www.leuragolfclub.com.au/event/henbury-open-3/
END:VEVENT
BEGIN:VEVENT
DTSTART;VALUE=DATE:20201017
DTEND;VALUE=DATE:20201018
DTSTAMP:20260424T095521
CREATED:20191025T234041Z
LAST-MODIFIED:20191026T000559Z
UID:10002872-1602892800-1602979199@www.leuragolfclub.com.au
SUMMARY:Par Singles + 2BBB
DESCRIPTION:
URL:https://www.leuragolfclub.com.au/event/par-singles-2bbb/2020-10-17/
CATEGORIES:Saturday Medley Comp
END:VEVENT
BEGIN:VEVENT
DTSTART;VALUE=DATE:20201017
DTEND;VALUE=DATE:20201018
DTSTAMP:20260424T095521
CREATED:20191025T234041Z
LAST-MODIFIED:20200528T011550Z
UID:10002877-1602892800-1602979199@www.leuragolfclub.com.au
SUMMARY:Medley - Par Singles + 2BBB
DESCRIPTION:
URL:https://www.leuragolfclub.com.au/event/par-singles-2bbb-2020-10-17/2020-10-17/
CATEGORIES:Saturday Medley Comp
END:VEVENT
BEGIN:VEVENT
DTSTART;VALUE=DATE:20201017
DTEND;VALUE=DATE:20201018
DTSTAMP:20260424T095521
CREATED:20180626T023936Z
LAST-MODIFIED:20180626T023936Z
UID:10002623-1602892800-1602979199@www.leuragolfclub.com.au
SUMMARY:Stableford + 2B Aggregate
DESCRIPTION:Medley competition – visitors welcome. \nComp closes at 4pm so please ensure that your tee time will allow you to finish in time.
URL:https://www.leuragolfclub.com.au/event/stableford-2b-aggregate/2020-10-17/
CATEGORIES:Saturday Medley Comp
END:VEVENT
BEGIN:VEVENT
DTSTART;VALUE=DATE:20201014
DTEND;VALUE=DATE:20201015
DTSTAMP:20260424T095521
CREATED:20191025T225822Z
LAST-MODIFIED:20200702T051917Z
UID:10002848-1602633600-1602719999@www.leuragolfclub.com.au
SUMMARY:Medley - Stableford Singles + 2B Multiplier
DESCRIPTION:
URL:https://www.leuragolfclub.com.au/event/single-stableford-2b-aggregate-2020-04-08-2020-06-10-2020-10-14/
CATEGORIES:Wednesday Medley Comp
END:VEVENT
BEGIN:VEVENT
DTSTART;VALUE=DATE:20201013
DTEND;VALUE=DATE:20201014
DTSTAMP:20260424T095521
CREATED:20200628T011222Z
LAST-MODIFIED:20200628T011311Z
UID:10002731-1602547200-1602633599@www.leuragolfclub.com.au
SUMMARY:Tuesday Medley Comp
DESCRIPTION:
URL:https://www.leuragolfclub.com.au/event/tuesday-medley-comp/2020-10-13/
END:VEVENT
BEGIN:VEVENT
DTSTART;VALUE=DATE:20201011
DTEND;VALUE=DATE:20201012
DTSTAMP:20260424T095521
CREATED:20200702T052543Z
LAST-MODIFIED:20200702T052543Z
UID:10002950-1602374400-1602460799@www.leuragolfclub.com.au
SUMMARY:School Holidays
DESCRIPTION:
URL:https://www.leuragolfclub.com.au/event/school-holidays-2/2020-10-11/
END:VEVENT
BEGIN:VEVENT
DTSTART;VALUE=DATE:20201010
DTEND;VALUE=DATE:20201011
DTSTAMP:20260424T095521
CREATED:20200702T052543Z
LAST-MODIFIED:20200702T052543Z
UID:10002949-1602288000-1602374399@www.leuragolfclub.com.au
SUMMARY:School Holidays
DESCRIPTION:
URL:https://www.leuragolfclub.com.au/event/school-holidays-2/2020-10-10/
END:VEVENT
BEGIN:VEVENT
DTSTART;VALUE=DATE:20201010
DTEND;VALUE=DATE:20201011
DTSTAMP:20260424T095521
CREATED:20200702T044339Z
LAST-MODIFIED:20200702T044339Z
UID:10002924-1602288000-1602374399@www.leuragolfclub.com.au
SUMMARY:Haig & Haig Shield - Rd 2
DESCRIPTION:The Haig and Haig Shield  is a men’s stroke event over 2 weeks with the winner being the person with the best aggregate nett score for the two rounds from across all grades. \nVisitors are welcome\, can win the day but are not eligible to win the Shield.
URL:https://www.leuragolfclub.com.au/event/haig-haig-shield-rd-2-3/
CATEGORIES:LGC Major Events
END:VEVENT
BEGIN:VEVENT
DTSTART;VALUE=DATE:20201009
DTEND;VALUE=DATE:20201010
DTSTAMP:20260424T095521
CREATED:20200702T052543Z
LAST-MODIFIED:20200702T052543Z
UID:10002948-1602201600-1602287999@www.leuragolfclub.com.au
SUMMARY:School Holidays
DESCRIPTION:
URL:https://www.leuragolfclub.com.au/event/school-holidays-2/2020-10-09/
END:VEVENT
BEGIN:VEVENT
DTSTART;VALUE=DATE:20201008
DTEND;VALUE=DATE:20201009
DTSTAMP:20260424T095521
CREATED:20200702T052543Z
LAST-MODIFIED:20200702T052543Z
UID:10002947-1602115200-1602201599@www.leuragolfclub.com.au
SUMMARY:School Holidays
DESCRIPTION:
URL:https://www.leuragolfclub.com.au/event/school-holidays-2/2020-10-08/
END:VEVENT
BEGIN:VEVENT
DTSTART;VALUE=DATE:20201007
DTEND;VALUE=DATE:20201008
DTSTAMP:20260424T095521
CREATED:20200702T052543Z
LAST-MODIFIED:20200702T052543Z
UID:10002946-1602028800-1602115199@www.leuragolfclub.com.au
SUMMARY:School Holidays
DESCRIPTION:
URL:https://www.leuragolfclub.com.au/event/school-holidays-2/2020-10-07/
END:VEVENT
BEGIN:VEVENT
DTSTART;VALUE=DATE:20201007
DTEND;VALUE=DATE:20201008
DTSTAMP:20260424T095521
CREATED:20191025T225521Z
LAST-MODIFIED:20200528T004837Z
UID:10002506-1602028800-1602115199@www.leuragolfclub.com.au
SUMMARY:Medley - Stableford Singles + 2BBB
DESCRIPTION:
URL:https://www.leuragolfclub.com.au/event/single-stableford-2bbb-2020-04-01-2020-06-03/2020-10-07/
CATEGORIES:Wednesday Medley Comp
END:VEVENT
BEGIN:VEVENT
DTSTART;VALUE=DATE:20201006
DTEND;VALUE=DATE:20201007
DTSTAMP:20260424T095521
CREATED:20200702T052543Z
LAST-MODIFIED:20200702T052543Z
UID:10002945-1601942400-1602028799@www.leuragolfclub.com.au
SUMMARY:School Holidays
DESCRIPTION:
URL:https://www.leuragolfclub.com.au/event/school-holidays-2/2020-10-06/
END:VEVENT
BEGIN:VEVENT
DTSTART;VALUE=DATE:20201006
DTEND;VALUE=DATE:20201007
DTSTAMP:20260424T095521
CREATED:20200628T011222Z
LAST-MODIFIED:20200628T011311Z
UID:10002730-1601942400-1602028799@www.leuragolfclub.com.au
SUMMARY:Tuesday Medley Comp
DESCRIPTION:
URL:https://www.leuragolfclub.com.au/event/tuesday-medley-comp/2020-10-06/
END:VEVENT
BEGIN:VEVENT
DTSTART;VALUE=DATE:20201005
DTEND;VALUE=DATE:20201006
DTSTAMP:20260424T095521
CREATED:20200702T052543Z
LAST-MODIFIED:20200702T052543Z
UID:10002944-1601856000-1601942399@www.leuragolfclub.com.au
SUMMARY:School Holidays
DESCRIPTION:
URL:https://www.leuragolfclub.com.au/event/school-holidays-2/2020-10-05/
END:VEVENT
BEGIN:VEVENT
DTSTART;VALUE=DATE:20201004
DTEND;VALUE=DATE:20201005
DTSTAMP:20260424T095521
CREATED:20200702T052543Z
LAST-MODIFIED:20200702T052543Z
UID:10002943-1601769600-1601855999@www.leuragolfclub.com.au
SUMMARY:School Holidays
DESCRIPTION:
URL:https://www.leuragolfclub.com.au/event/school-holidays-2/2020-10-04/
END:VEVENT
BEGIN:VEVENT
DTSTART;VALUE=DATE:20201003
DTEND;VALUE=DATE:20201004
DTSTAMP:20260424T095521
CREATED:20200702T052543Z
LAST-MODIFIED:20200702T052543Z
UID:10002942-1601683200-1601769599@www.leuragolfclub.com.au
SUMMARY:School Holidays
DESCRIPTION:
URL:https://www.leuragolfclub.com.au/event/school-holidays-2/2020-10-03/
END:VEVENT
BEGIN:VEVENT
DTSTART;VALUE=DATE:20201003
DTEND;VALUE=DATE:20201004
DTSTAMP:20260424T095521
CREATED:20191025T232909Z
LAST-MODIFIED:20200528T005701Z
UID:10002867-1601683200-1601769599@www.leuragolfclub.com.au
SUMMARY:Monthly Medal (men) + Medley Stroke
DESCRIPTION:Men’s Medal event. Visitors and women are welcome\, can win the event but not the medal.
URL:https://www.leuragolfclub.com.au/event/monthly-medal-2-2020-06-06/2020-10-03/
CATEGORIES:Saturday Medley Comp
END:VEVENT
BEGIN:VEVENT
DTSTART;VALUE=DATE:20201002
DTEND;VALUE=DATE:20201003
DTSTAMP:20260424T095521
CREATED:20200702T052543Z
LAST-MODIFIED:20200702T052543Z
UID:10002941-1601596800-1601683199@www.leuragolfclub.com.au
SUMMARY:School Holidays
DESCRIPTION:
URL:https://www.leuragolfclub.com.au/event/school-holidays-2/2020-10-02/
END:VEVENT
BEGIN:VEVENT
DTSTART;VALUE=DATE:20201001
DTEND;VALUE=DATE:20201002
DTSTAMP:20260424T095521
CREATED:20200702T052543Z
LAST-MODIFIED:20200702T052543Z
UID:10002940-1601510400-1601596799@www.leuragolfclub.com.au
SUMMARY:School Holidays
DESCRIPTION:
URL:https://www.leuragolfclub.com.au/event/school-holidays-2/2020-10-01/
END:VEVENT
BEGIN:VEVENT
DTSTART;VALUE=DATE:20200930
DTEND;VALUE=DATE:20201001
DTSTAMP:20260424T095521
CREATED:20200702T052543Z
LAST-MODIFIED:20200702T052543Z
UID:10002939-1601424000-1601510399@www.leuragolfclub.com.au
SUMMARY:School Holidays
DESCRIPTION:
URL:https://www.leuragolfclub.com.au/event/school-holidays-2/2020-09-30/
END:VEVENT
BEGIN:VEVENT
DTSTART;VALUE=DATE:20200930
DTEND;VALUE=DATE:20201001
DTSTAMP:20260424T095521
CREATED:20191025T231600Z
LAST-MODIFIED:20200702T051658Z
UID:10002518-1601424000-1601510399@www.leuragolfclub.com.au
SUMMARY:Medley - 2 Person Ambrose
DESCRIPTION:
URL:https://www.leuragolfclub.com.au/event/medley-bisque-par-singles/
CATEGORIES:Wednesday Medley Comp
END:VEVENT
BEGIN:VEVENT
DTSTART;VALUE=DATE:20200929
DTEND;VALUE=DATE:20200930
DTSTAMP:20260424T095521
CREATED:20200702T052543Z
LAST-MODIFIED:20200702T052543Z
UID:10002938-1601337600-1601423999@www.leuragolfclub.com.au
SUMMARY:School Holidays
DESCRIPTION:
URL:https://www.leuragolfclub.com.au/event/school-holidays-2/2020-09-29/
END:VEVENT
BEGIN:VEVENT
DTSTART;VALUE=DATE:20200929
DTEND;VALUE=DATE:20200930
DTSTAMP:20260424T095521
CREATED:20200628T011222Z
LAST-MODIFIED:20200628T011311Z
UID:10002729-1601337600-1601423999@www.leuragolfclub.com.au
SUMMARY:Tuesday Medley Comp
DESCRIPTION:
URL:https://www.leuragolfclub.com.au/event/tuesday-medley-comp/2020-09-29/
END:VEVENT
END:VCALENDAR