BEGIN:VCALENDAR
VERSION:2.0
PRODID:-//Leura Golf Club - ECPv6.13.2.1//NONSGML v1.0//EN
CALSCALE:GREGORIAN
METHOD:PUBLISH
X-WR-CALNAME:Leura Golf Club
X-ORIGINAL-URL:https://www.leuragolfclub.com.au
X-WR-CALDESC:Events for Leura Golf Club
REFRESH-INTERVAL;VALUE=DURATION:PT1H
X-Robots-Tag:noindex
X-PUBLISHED-TTL:PT1H
BEGIN:VTIMEZONE
TZID:Australia/Sydney
BEGIN:STANDARD
TZOFFSETFROM:+1100
TZOFFSETTO:+1000
TZNAME:AEST
DTSTART:20250405T160000
END:STANDARD
BEGIN:DAYLIGHT
TZOFFSETFROM:+1000
TZOFFSETTO:+1100
TZNAME:AEDT
DTSTART:20251004T160000
END:DAYLIGHT
END:VTIMEZONE
BEGIN:VEVENT
DTSTART;VALUE=DATE:20250730
DTEND;VALUE=DATE:20250731
DTSTAMP:20260420T152101
CREATED:20241115T035342Z
LAST-MODIFIED:20241115T035342Z
UID:10004487-1753833600-1753919999@www.leuragolfclub.com.au
SUMMARY:2 Player Ambrose
DESCRIPTION:
URL:https://www.leuragolfclub.com.au/event/2-player-ambrose-5/
CATEGORIES:Wednesday Medley Comp
END:VEVENT
BEGIN:VEVENT
DTSTART;VALUE=DATE:20250729
DTEND;VALUE=DATE:20250730
DTSTAMP:20260420T152101
CREATED:20241116T011018Z
LAST-MODIFIED:20241116T011401Z
UID:10004558-1753776000-1753808400@www.leuragolfclub.com.au
SUMMARY:Women's 9 Hole Par/Ambrose
DESCRIPTION:
URL:https://www.leuragolfclub.com.au/event/womens-9-hole-par-ambrose/2025-07-29/
CATEGORIES:Tuesday Comp
END:VEVENT
BEGIN:VEVENT
DTSTART;VALUE=DATE:20250726
DTEND;VALUE=DATE:20250727
DTSTAMP:20260420T152101
CREATED:20241115T035019Z
LAST-MODIFIED:20241115T035019Z
UID:10004485-1753488000-1753574399@www.leuragolfclub.com.au
SUMMARY:Stableford Singles - white tees
DESCRIPTION:
URL:https://www.leuragolfclub.com.au/event/stableford-singles-white-tees-8/
CATEGORIES:Saturday Medley Comp
END:VEVENT
BEGIN:VEVENT
DTSTART;VALUE=DATE:20250726
DTEND;VALUE=DATE:20250727
DTSTAMP:20260420T152101
CREATED:20241115T034811Z
LAST-MODIFIED:20241115T034811Z
UID:10004483-1753488000-1753574399@www.leuragolfclub.com.au
SUMMARY:Coote Shield Rd 2 (Men’s Stableford 2BBB)
DESCRIPTION:Visitors are welcome and can win on the day. Shield is for members only.
URL:https://www.leuragolfclub.com.au/event/coote-shield-rd-2-mens-stableford-2bbb-3/
CATEGORIES:LGC Major Events
END:VEVENT
BEGIN:VEVENT
DTSTART;VALUE=DATE:20250724
DTEND;VALUE=DATE:20250725
DTSTAMP:20260420T152101
CREATED:20250110T000319Z
LAST-MODIFIED:20250110T000422Z
UID:10004625-1753315200-1753401599@www.leuragolfclub.com.au
SUMMARY:Trivia @ 7pm
DESCRIPTION:When: Every Thursday\, questions begin at 7 pm\nEntry Fee: Only $2 per player\nPrizes: Get ready to win delightful prizes including wine\, club vouchers\, and delicious chocolates.\n\nDon’t miss out on the action! Our bistro opens at 5:30 pm\, perfect for grabbing a bite before the trivia starts. Create your own table with friends and family\, and make it a night to remember. Whether you’re a trivia buff or just looking for a lively evening out\, there’s something for everyone.
URL:https://www.leuragolfclub.com.au/event/trivia-7pm-3/2025-07-24/
CATEGORIES:LGC Function
END:VEVENT
BEGIN:VEVENT
DTSTART;VALUE=DATE:20250723
DTEND;VALUE=DATE:20250724
DTSTAMP:20260420T152101
CREATED:20241115T035238Z
LAST-MODIFIED:20241115T035238Z
UID:10004486-1753228800-1753315199@www.leuragolfclub.com.au
SUMMARY:Winter Medal - Stroke
DESCRIPTION:
URL:https://www.leuragolfclub.com.au/event/winter-medal-stroke/
CATEGORIES:Wednesday Medley Comp
END:VEVENT
BEGIN:VEVENT
DTSTART;VALUE=DATE:20250722
DTEND;VALUE=DATE:20250723
DTSTAMP:20260420T152101
CREATED:20241116T011018Z
LAST-MODIFIED:20241116T011401Z
UID:10004552-1753142400-1753228799@www.leuragolfclub.com.au
SUMMARY:Women's 9 Hole Par/Ambrose
DESCRIPTION:
URL:https://www.leuragolfclub.com.au/event/womens-9-hole-par-ambrose/2025-07-22/
CATEGORIES:Tuesday Comp
END:VEVENT
BEGIN:VEVENT
DTSTART;VALUE=DATE:20250719
DTEND;VALUE=DATE:20250720
DTSTAMP:20260420T152101
CREATED:20241115T034954Z
LAST-MODIFIED:20241115T034954Z
UID:10004484-1752883200-1752969599@www.leuragolfclub.com.au
SUMMARY:Stableford Singles - white tees
DESCRIPTION:
URL:https://www.leuragolfclub.com.au/event/stableford-singles-white-tees-7/
CATEGORIES:Saturday Medley Comp
END:VEVENT
BEGIN:VEVENT
DTSTART;VALUE=DATE:20250719
DTEND;VALUE=DATE:20250720
DTSTAMP:20260420T152101
CREATED:20241115T034735Z
LAST-MODIFIED:20241115T034735Z
UID:10004482-1752883200-1752969599@www.leuragolfclub.com.au
SUMMARY:Coote Shield Rd 1 (Men’s Stableford 2BBB)
DESCRIPTION:Visitors are welcome and can win on the day. Shield is for members only.
URL:https://www.leuragolfclub.com.au/event/coote-shield-rd-1-mens-stableford-2bbb-4/
CATEGORIES:LGC Major Events
END:VEVENT
BEGIN:VEVENT
DTSTART;VALUE=DATE:20250717
DTEND;VALUE=DATE:20250718
DTSTAMP:20260420T152101
CREATED:20250110T000319Z
LAST-MODIFIED:20250110T000422Z
UID:10004624-1752710400-1752796799@www.leuragolfclub.com.au
SUMMARY:Trivia @ 7pm
DESCRIPTION:When: Every Thursday\, questions begin at 7 pm\nEntry Fee: Only $2 per player\nPrizes: Get ready to win delightful prizes including wine\, club vouchers\, and delicious chocolates.\n\nDon’t miss out on the action! Our bistro opens at 5:30 pm\, perfect for grabbing a bite before the trivia starts. Create your own table with friends and family\, and make it a night to remember. Whether you’re a trivia buff or just looking for a lively evening out\, there’s something for everyone.
URL:https://www.leuragolfclub.com.au/event/trivia-7pm-3/2025-07-17/
CATEGORIES:LGC Function
END:VEVENT
BEGIN:VEVENT
DTSTART;VALUE=DATE:20250716
DTEND;VALUE=DATE:20250717
DTSTAMP:20260420T152101
CREATED:20241114T044000Z
LAST-MODIFIED:20241114T044000Z
UID:10004399-1752624000-1752710399@www.leuragolfclub.com.au
SUMMARY:Stableford Singles + 2BBB
DESCRIPTION:
URL:https://www.leuragolfclub.com.au/event/stableford-singles-2bbb-8/2025-07-16/
CATEGORIES:Wednesday Medley Comp
END:VEVENT
BEGIN:VEVENT
DTSTART;TZID=Australia/Sydney:20250715T100000
DTEND;TZID=Australia/Sydney:20250715T120000
DTSTAMP:20260420T152101
CREATED:20250625T040735Z
LAST-MODIFIED:20250704T011001Z
UID:10004660-1752573600-1752580800@www.leuragolfclub.com.au
SUMMARY:Natasha Hemms -  Junior Golf Clinic
DESCRIPTION:Cost $50pp. Book at the Proshop 4710 9784
URL:https://www.leuragolfclub.com.au/event/natasha-hemms-junior-golf-clinic/2025-07-15/
END:VEVENT
BEGIN:VEVENT
DTSTART;VALUE=DATE:20250715
DTEND;VALUE=DATE:20250716
DTSTAMP:20260420T152101
CREATED:20241116T010621Z
LAST-MODIFIED:20241116T010831Z
UID:10004542-1752537600-1752623999@www.leuragolfclub.com.au
SUMMARY:Women's 9 Hole Stableford
DESCRIPTION:
URL:https://www.leuragolfclub.com.au/event/womens-9-hole-stableford-2/2025-07-15/
CATEGORIES:Tuesday Comp
END:VEVENT
BEGIN:VEVENT
DTSTART;VALUE=DATE:20250712
DTEND;VALUE=DATE:20250713
DTSTAMP:20260420T152101
CREATED:20250108T004237Z
LAST-MODIFIED:20250108T004237Z
UID:10004591-1752278400-1752364799@www.leuragolfclub.com.au
SUMMARY:Stableford Singles + 2BBB
DESCRIPTION:
URL:https://www.leuragolfclub.com.au/event/stableford-singles-2bbb-5-2/2025-07-12/
CATEGORIES:Saturday Medley Comp
END:VEVENT
BEGIN:VEVENT
DTSTART;VALUE=DATE:20250710
DTEND;VALUE=DATE:20250711
DTSTAMP:20260420T152101
CREATED:20250110T000319Z
LAST-MODIFIED:20250110T000422Z
UID:10004623-1752105600-1752191999@www.leuragolfclub.com.au
SUMMARY:Trivia @ 7pm
DESCRIPTION:When: Every Thursday\, questions begin at 7 pm\nEntry Fee: Only $2 per player\nPrizes: Get ready to win delightful prizes including wine\, club vouchers\, and delicious chocolates.\n\nDon’t miss out on the action! Our bistro opens at 5:30 pm\, perfect for grabbing a bite before the trivia starts. Create your own table with friends and family\, and make it a night to remember. Whether you’re a trivia buff or just looking for a lively evening out\, there’s something for everyone.
URL:https://www.leuragolfclub.com.au/event/trivia-7pm-3/2025-07-10/
CATEGORIES:LGC Function
END:VEVENT
BEGIN:VEVENT
DTSTART;TZID=Australia/Sydney:20250709T120000
DTEND;TZID=Australia/Sydney:20250709T213000
DTSTAMP:20260420T152101
CREATED:20250704T012330Z
LAST-MODIFIED:20250704T012358Z
UID:10004666-1752062400-1752096600@www.leuragolfclub.com.au
SUMMARY:Bar Open - 3rd SOO
DESCRIPTION:
URL:https://www.leuragolfclub.com.au/event/bar-open-3rd-soo/
END:VEVENT
BEGIN:VEVENT
DTSTART;VALUE=DATE:20250709
DTEND;VALUE=DATE:20250710
DTSTAMP:20260420T152101
CREATED:20241114T042434Z
LAST-MODIFIED:20241114T042434Z
UID:10004384-1752019200-1752105599@www.leuragolfclub.com.au
SUMMARY:Stableford Singles + 2BBB
DESCRIPTION:
URL:https://www.leuragolfclub.com.au/event/stableford-singles-2bbb-7/2025-07-09/
CATEGORIES:Wednesday Medley Comp
END:VEVENT
BEGIN:VEVENT
DTSTART;TZID=Australia/Sydney:20250708T100000
DTEND;TZID=Australia/Sydney:20250708T120000
DTSTAMP:20260420T152101
CREATED:20250625T040735Z
LAST-MODIFIED:20250704T011001Z
UID:10004659-1751968800-1751976000@www.leuragolfclub.com.au
SUMMARY:Natasha Hemms -  Junior Golf Clinic
DESCRIPTION:Cost $50pp. Book at the Proshop 4710 9784
URL:https://www.leuragolfclub.com.au/event/natasha-hemms-junior-golf-clinic/2025-07-08/
END:VEVENT
BEGIN:VEVENT
DTSTART;VALUE=DATE:20250708
DTEND;VALUE=DATE:20250709
DTSTAMP:20260420T152101
CREATED:20241116T010535Z
LAST-MODIFIED:20241116T010734Z
UID:10004522-1751932800-1752019199@www.leuragolfclub.com.au
SUMMARY:Women's 9 Hole Stableford
DESCRIPTION:
URL:https://www.leuragolfclub.com.au/event/womens-9-hole-stableford/2025-07-08/
CATEGORIES:Tuesday Comp
END:VEVENT
BEGIN:VEVENT
DTSTART;VALUE=DATE:20250705
DTEND;VALUE=DATE:20250722
DTSTAMP:20260420T152101
CREATED:20241105T005429Z
LAST-MODIFIED:20241105T005429Z
UID:10004276-1751673600-1753142399@www.leuragolfclub.com.au
SUMMARY:School Holidays
DESCRIPTION:
URL:https://www.leuragolfclub.com.au/event/school-holidays-20/
CATEGORIES:Holidays
END:VEVENT
BEGIN:VEVENT
DTSTART;VALUE=DATE:20250705
DTEND;VALUE=DATE:20250706
DTSTAMP:20260420T152101
CREATED:20250108T003718Z
LAST-MODIFIED:20250108T003718Z
UID:10004574-1751673600-1751759999@www.leuragolfclub.com.au
SUMMARY:Stableford Singles - white tees
DESCRIPTION:
URL:https://www.leuragolfclub.com.au/event/stableford-singles-white-tees-4/2025-07-05/
CATEGORIES:Saturday Medley Comp
END:VEVENT
BEGIN:VEVENT
DTSTART;VALUE=DATE:20250705
DTEND;VALUE=DATE:20250706
DTSTAMP:20260420T152101
CREATED:20241112T044012Z
LAST-MODIFIED:20250108T003816Z
UID:10004584-1751673600-1751759999@www.leuragolfclub.com.au
SUMMARY:Men's Monthly Medal + Medley Stroke
DESCRIPTION:
URL:https://www.leuragolfclub.com.au/event/mens-monthly-medal-medley-stroke-10/2025-07-05/
CATEGORIES:Saturday Medley Comp
END:VEVENT
BEGIN:VEVENT
DTSTART;VALUE=DATE:20250703
DTEND;VALUE=DATE:20250704
DTSTAMP:20260420T152101
CREATED:20250110T000319Z
LAST-MODIFIED:20250110T000422Z
UID:10004622-1751500800-1751587199@www.leuragolfclub.com.au
SUMMARY:Trivia @ 7pm
DESCRIPTION:When: Every Thursday\, questions begin at 7 pm\nEntry Fee: Only $2 per player\nPrizes: Get ready to win delightful prizes including wine\, club vouchers\, and delicious chocolates.\n\nDon’t miss out on the action! Our bistro opens at 5:30 pm\, perfect for grabbing a bite before the trivia starts. Create your own table with friends and family\, and make it a night to remember. Whether you’re a trivia buff or just looking for a lively evening out\, there’s something for everyone.
URL:https://www.leuragolfclub.com.au/event/trivia-7pm-3/2025-07-03/
CATEGORIES:LGC Function
END:VEVENT
BEGIN:VEVENT
DTSTART;VALUE=DATE:20250702
DTEND;VALUE=DATE:20250703
DTSTAMP:20260420T152101
CREATED:20241108T054251Z
LAST-MODIFIED:20241108T054251Z
UID:10004292-1751414400-1751500799@www.leuragolfclub.com.au
SUMMARY:Par Singles + 2BBB
DESCRIPTION:
URL:https://www.leuragolfclub.com.au/event/par-singles-2bbb-6/2025-07-02/
CATEGORIES:Wednesday Medley Comp
END:VEVENT
BEGIN:VEVENT
DTSTART;VALUE=DATE:20250701
DTEND;VALUE=DATE:20250702
DTSTAMP:20260420T152101
CREATED:20241116T010239Z
LAST-MODIFIED:20241116T010239Z
UID:10004512-1751328000-1751414399@www.leuragolfclub.com.au
SUMMARY:Women's Monthly Medal - 18 hole stroke
DESCRIPTION:
URL:https://www.leuragolfclub.com.au/event/womens-monthly-medal-18-hole-stroke/2025-07-01/
CATEGORIES:Tuesday Comp
END:VEVENT
BEGIN:VEVENT
DTSTART;VALUE=DATE:20250628
DTEND;VALUE=DATE:20250629
DTSTAMP:20260420T152101
CREATED:20241115T025420Z
LAST-MODIFIED:20241115T025932Z
UID:10004456-1751068800-1751155199@www.leuragolfclub.com.au
SUMMARY:Stableford Singles + 2BBB
DESCRIPTION:
URL:https://www.leuragolfclub.com.au/event/stableford-singles-2bbb-10/2025-06-28/
CATEGORIES:Saturday Medley Comp
END:VEVENT
BEGIN:VEVENT
DTSTART;VALUE=DATE:20250626
DTEND;VALUE=DATE:20250627
DTSTAMP:20260420T152101
CREATED:20250110T000319Z
LAST-MODIFIED:20250110T000422Z
UID:10004621-1750896000-1750982399@www.leuragolfclub.com.au
SUMMARY:Trivia @ 7pm
DESCRIPTION:When: Every Thursday\, questions begin at 7 pm\nEntry Fee: Only $2 per player\nPrizes: Get ready to win delightful prizes including wine\, club vouchers\, and delicious chocolates.\n\nDon’t miss out on the action! Our bistro opens at 5:30 pm\, perfect for grabbing a bite before the trivia starts. Create your own table with friends and family\, and make it a night to remember. Whether you’re a trivia buff or just looking for a lively evening out\, there’s something for everyone.
URL:https://www.leuragolfclub.com.au/event/trivia-7pm-3/2025-06-26/
CATEGORIES:LGC Function
END:VEVENT
BEGIN:VEVENT
DTSTART;VALUE=DATE:20250625
DTEND;VALUE=DATE:20250626
DTSTAMP:20260420T152101
CREATED:20241115T031019Z
LAST-MODIFIED:20241115T031339Z
UID:10004468-1750809600-1750895999@www.leuragolfclub.com.au
SUMMARY:Stableford Singles + 2BBB
DESCRIPTION:
URL:https://www.leuragolfclub.com.au/event/stableford-singles-2bbb-11/2025-06-25/
CATEGORIES:Wednesday Medley Comp
END:VEVENT
BEGIN:VEVENT
DTSTART;VALUE=DATE:20250624
DTEND;VALUE=DATE:20250625
DTSTAMP:20260420T152101
CREATED:20241116T011018Z
LAST-MODIFIED:20241116T011401Z
UID:10004551-1750723200-1750809599@www.leuragolfclub.com.au
SUMMARY:Women's 9 Hole Par/Ambrose
DESCRIPTION:
URL:https://www.leuragolfclub.com.au/event/womens-9-hole-par-ambrose/2025-06-24/
CATEGORIES:Tuesday Comp
END:VEVENT
BEGIN:VEVENT
DTSTART;VALUE=DATE:20250621
DTEND;VALUE=DATE:20250622
DTSTAMP:20260420T152101
CREATED:20241115T024821Z
LAST-MODIFIED:20241115T025229Z
UID:10004446-1750464000-1750550399@www.leuragolfclub.com.au
SUMMARY:Stableford Singles + 2BBB
DESCRIPTION:
URL:https://www.leuragolfclub.com.au/event/stableford-singles-2bbb-9/2025-06-21/
CATEGORIES:Saturday Medley Comp
END:VEVENT
END:VCALENDAR