BEGIN:VCALENDAR
VERSION:2.0
PRODID:-//Leura Golf Club - ECPv6.13.2.1//NONSGML v1.0//EN
CALSCALE:GREGORIAN
METHOD:PUBLISH
X-WR-CALNAME:Leura Golf Club
X-ORIGINAL-URL:https://www.leuragolfclub.com.au
X-WR-CALDESC:Events for Leura Golf Club
REFRESH-INTERVAL;VALUE=DURATION:PT1H
X-Robots-Tag:noindex
X-PUBLISHED-TTL:PT1H
BEGIN:VTIMEZONE
TZID:Australia/Sydney
BEGIN:STANDARD
TZOFFSETFROM:+1100
TZOFFSETTO:+1000
TZNAME:AEST
DTSTART:20250405T160000
END:STANDARD
BEGIN:DAYLIGHT
TZOFFSETFROM:+1000
TZOFFSETTO:+1100
TZNAME:AEDT
DTSTART:20251004T160000
END:DAYLIGHT
END:VTIMEZONE
BEGIN:VTIMEZONE
TZID:Australia/Melbourne
BEGIN:STANDARD
TZOFFSETFROM:+1100
TZOFFSETTO:+1000
TZNAME:AEST
DTSTART:20250405T160000
END:STANDARD
BEGIN:DAYLIGHT
TZOFFSETFROM:+1000
TZOFFSETTO:+1100
TZNAME:AEDT
DTSTART:20251004T160000
END:DAYLIGHT
END:VTIMEZONE
BEGIN:VEVENT
DTSTART;VALUE=DATE:20250610
DTEND;VALUE=DATE:20250611
DTSTAMP:20260420T121535
CREATED:20241116T010535Z
LAST-MODIFIED:20241116T010734Z
UID:10004521-1749513600-1749599999@www.leuragolfclub.com.au
SUMMARY:Women's 9 Hole Stableford
DESCRIPTION:
URL:https://www.leuragolfclub.com.au/event/womens-9-hole-stableford/2025-06-10/
CATEGORIES:Tuesday Comp
END:VEVENT
BEGIN:VEVENT
DTSTART;TZID=Australia/Sydney:20250609T073000
DTEND;TZID=Australia/Sydney:20250609T095400
DTSTAMP:20260420T121535
CREATED:20250603T231902Z
LAST-MODIFIED:20250603T232017Z
UID:10004658-1749454200-1749462840@www.leuragolfclub.com.au
SUMMARY:Stableford Singles + 2BBB
DESCRIPTION:Tee times – 7.30 to 9.54
URL:https://www.leuragolfclub.com.au/event/stableford-singles-2bbb-17/
CATEGORIES:LGC other comp
END:VEVENT
BEGIN:VEVENT
DTSTART;VALUE=DATE:20250609
DTEND;VALUE=DATE:20250610
DTSTAMP:20260420T121535
CREATED:20231221T212146Z
LAST-MODIFIED:20240101T012503Z
UID:10003662-1749427200-1749513599@www.leuragolfclub.com.au
SUMMARY:King's Birthday
DESCRIPTION:
URL:https://www.leuragolfclub.com.au/event/kings-birthday/2025-06-09/
CATEGORIES:Holidays
END:VEVENT
BEGIN:VEVENT
DTSTART;VALUE=DATE:20250607
DTEND;VALUE=DATE:20250608
DTSTAMP:20260420T121535
CREATED:20250108T003718Z
LAST-MODIFIED:20250108T003718Z
UID:10004573-1749254400-1749340799@www.leuragolfclub.com.au
SUMMARY:Stableford Singles - white tees
DESCRIPTION:
URL:https://www.leuragolfclub.com.au/event/stableford-singles-white-tees-4/2025-06-07/
CATEGORIES:Saturday Medley Comp
END:VEVENT
BEGIN:VEVENT
DTSTART;VALUE=DATE:20250607
DTEND;VALUE=DATE:20250608
DTSTAMP:20260420T121535
CREATED:20241112T044012Z
LAST-MODIFIED:20250108T003816Z
UID:10004583-1749254400-1749340799@www.leuragolfclub.com.au
SUMMARY:Men's Monthly Medal + Medley Stroke
DESCRIPTION:
URL:https://www.leuragolfclub.com.au/event/mens-monthly-medal-medley-stroke-10/2025-06-07/
CATEGORIES:Saturday Medley Comp
END:VEVENT
BEGIN:VEVENT
DTSTART;VALUE=DATE:20250605
DTEND;VALUE=DATE:20250606
DTSTAMP:20260420T121535
CREATED:20250110T000319Z
LAST-MODIFIED:20250110T000422Z
UID:10004618-1749081600-1749167999@www.leuragolfclub.com.au
SUMMARY:Trivia @ 7pm
DESCRIPTION:When: Every Thursday\, questions begin at 7 pm\nEntry Fee: Only $2 per player\nPrizes: Get ready to win delightful prizes including wine\, club vouchers\, and delicious chocolates.\n\nDon’t miss out on the action! Our bistro opens at 5:30 pm\, perfect for grabbing a bite before the trivia starts. Create your own table with friends and family\, and make it a night to remember. Whether you’re a trivia buff or just looking for a lively evening out\, there’s something for everyone.
URL:https://www.leuragolfclub.com.au/event/trivia-7pm-3/2025-06-05/
CATEGORIES:LGC Function
END:VEVENT
BEGIN:VEVENT
DTSTART;VALUE=DATE:20250604
DTEND;VALUE=DATE:20250605
DTSTAMP:20260420T121535
CREATED:20241114T041757Z
LAST-MODIFIED:20241114T041757Z
UID:10004374-1748995200-1749081599@www.leuragolfclub.com.au
SUMMARY:Stableford Singles + 2BBB
DESCRIPTION:
URL:https://www.leuragolfclub.com.au/event/stableford-singles-2bbb-6/2025-06-04/
CATEGORIES:Wednesday Medley Comp
END:VEVENT
BEGIN:VEVENT
DTSTART;VALUE=DATE:20250603
DTEND;VALUE=DATE:20250604
DTSTAMP:20260420T121535
CREATED:20241116T010239Z
LAST-MODIFIED:20241116T010239Z
UID:10004511-1748908800-1748995199@www.leuragolfclub.com.au
SUMMARY:Women's Monthly Medal - 18 hole stroke
DESCRIPTION:
URL:https://www.leuragolfclub.com.au/event/womens-monthly-medal-18-hole-stroke/2025-06-03/
CATEGORIES:Tuesday Comp
END:VEVENT
BEGIN:VEVENT
DTSTART;VALUE=DATE:20250531
DTEND;VALUE=DATE:20250601
DTSTAMP:20260420T121535
CREATED:20241115T033039Z
LAST-MODIFIED:20241115T033039Z
UID:10004479-1748649600-1748735999@www.leuragolfclub.com.au
SUMMARY:Stableford Singles + 2BBB
DESCRIPTION:
URL:https://www.leuragolfclub.com.au/event/stableford-singles-2bbb-12/
CATEGORIES:Saturday Medley Comp
END:VEVENT
BEGIN:VEVENT
DTSTART;VALUE=DATE:20250529
DTEND;VALUE=DATE:20250530
DTSTAMP:20260420T121535
CREATED:20250110T000319Z
LAST-MODIFIED:20250110T000422Z
UID:10004617-1748476800-1748563199@www.leuragolfclub.com.au
SUMMARY:Trivia @ 7pm
DESCRIPTION:When: Every Thursday\, questions begin at 7 pm\nEntry Fee: Only $2 per player\nPrizes: Get ready to win delightful prizes including wine\, club vouchers\, and delicious chocolates.\n\nDon’t miss out on the action! Our bistro opens at 5:30 pm\, perfect for grabbing a bite before the trivia starts. Create your own table with friends and family\, and make it a night to remember. Whether you’re a trivia buff or just looking for a lively evening out\, there’s something for everyone.
URL:https://www.leuragolfclub.com.au/event/trivia-7pm-3/2025-05-29/
CATEGORIES:LGC Function
END:VEVENT
BEGIN:VEVENT
DTSTART;VALUE=DATE:20250528
DTEND;VALUE=DATE:20250529
DTSTAMP:20260420T121535
CREATED:20241115T031019Z
LAST-MODIFIED:20241115T031339Z
UID:10004467-1748390400-1748476799@www.leuragolfclub.com.au
SUMMARY:Stableford Singles + 2BBB
DESCRIPTION:
URL:https://www.leuragolfclub.com.au/event/stableford-singles-2bbb-11/2025-05-28/
CATEGORIES:Wednesday Medley Comp
END:VEVENT
BEGIN:VEVENT
DTSTART;VALUE=DATE:20250527
DTEND;VALUE=DATE:20250528
DTSTAMP:20260420T121535
CREATED:20241116T011018Z
LAST-MODIFIED:20241116T011401Z
UID:10004550-1748304000-1748390399@www.leuragolfclub.com.au
SUMMARY:Women's 9 Hole Par/Ambrose
DESCRIPTION:
URL:https://www.leuragolfclub.com.au/event/womens-9-hole-par-ambrose/2025-05-27/
CATEGORIES:Tuesday Comp
END:VEVENT
BEGIN:VEVENT
DTSTART;VALUE=DATE:20250524
DTEND;VALUE=DATE:20250525
DTSTAMP:20260420T121535
CREATED:20241115T032856Z
LAST-MODIFIED:20241115T032856Z
UID:10004478-1748044800-1748131199@www.leuragolfclub.com.au
SUMMARY:Stableford Singles - white tees
DESCRIPTION:
URL:https://www.leuragolfclub.com.au/event/stableford-singles-white-tees-6/
CATEGORIES:Saturday Medley Comp
END:VEVENT
BEGIN:VEVENT
DTSTART;VALUE=DATE:20250524
DTEND;VALUE=DATE:20250525
DTSTAMP:20260420T121535
CREATED:20241115T032609Z
LAST-MODIFIED:20250509T005023Z
UID:10004476-1748044800-1748131199@www.leuragolfclub.com.au
SUMMARY:Men's Foursomes C/ship - Rd 2
DESCRIPTION:MEN’S FOURSOMES CHAMPIONSHIPS 2025\nCONDITIONS OF PLAY – ENTRANCE FEE $20 PER PLAYER \n\nFoursomes: Two players play as partners and use one ball. The players hit off alternately from the tee and thereafter strike the ball alternately during the play of each hole. If either player incurs a penalty stroke it does not alter the rotation of play.\nThe competition will be played according to the ‘Rules of Golf’ and competitors must be members of Leura Golf Club and hold an AGU handicap. Members are reminded that this is a club championship event and members’ attention is directed to By-Law 7  – see below. For the purposes of these Conditions of Play “Club Championships” where used in the by-law means “Men’s Foursome Championships”.\nThe competition will consist of two rounds of 18 holes foursomes stroke play from the blue tees. Preferred lies in accordance with the Local Rules will apply.\nFor Round 2 the order of play will be reversed from that of Round 1.\nRound 2 tee times shall commence at 8.28 am\, the B graders to hit off first followed by the A graders. Pair groups shall be decided by the Match Committee and if there shall be an odd number of pairs an A grade pair may be grouped with a B grade pair.\nThe handicap of each pair will be one half of their combined daily handicaps applicable at the commencement of Round 1.\nThe competition will be played in two grades\, namely\n\nA grade – pair handicaps of 16 or less\nB grade – pair handicaps of more than 16\, 36 being the maximum handicap.\n\n\nThe championship winners in each grade will be the pair who returns the best aggregate scratch score over the two rounds. There will be net winners in each grade. There will be prizes for the Runners-up.\nIn the event of a tie winners will be determined:\n\nIn the case of the best aggregate scratch score by a sudden death play off. The tied pairs shall play one extra hole at a time with the pairs still tied moving on to the next hole until a winning pair has been decided. The play off holes shall be holes 1\, 11\, 12 and 18 repeated as necessary.\nIn all other cases by count backs as applied by Golf Link.\n\n\nAll disputes must be in writing and will be decided by the Match Committee. Decisions will be final.\nIf in the opinion of the Match committee in conjunction with the Greenkeeper the course should be closed due to inclement weather the round affected shall not be played and shall be re-scheduled.\nThere will be no NTP competition for those playing in the foursomes championships.\n\n By-Law 7 – Club Championship Eligibility: \nTo be eligible to play in any Club Championship event\, a member shall have completed at least two (2) monthly medal rounds or at least five (5) competition rounds at Leura Golf Club in the 12 months immediately preceding the Club Championships. (ie the Club Championship event concerned) \nMedley club competition: There will be a Singles Stableford competition from the white (men) and red (women) tees for those who elect not to play in the championships. There will not be a 2 ball competition. There will be at least one NTP. \nMATCH COMMITTEE – LEURA GOLF CLUB \nLOCAL RULES – MEN’S FOURSOMES CHAMPIONSHIPS – 2025\nREFERENCE – RULES OF GOLF – 2019 \nThe Local Rules apply to the Championships except as noted\, expanded and/or clarified below. \nIMMOVABLE OBSTRUCTIONS – Rule 16 \nIncludes the artificial surfaces and sides of roads and paths including gravel paths. \nIMMOVABLE OBSTRUCTIONS CLOSE TO PUTTING GREEN  \nSPRINKLER HEADS \nRelief may be taken under Rule 16.1b if a sprinkler head or other immovable obstruction is on the line of play and is within two club lengths of the putting green\, and within two club lengths of the ball provided that there will be no relief if the line of play is clearly unreasonable. \nDROP ZONE \nThere is a clearly defined drop zone alongside\, and for play to\, the 6th green (left hand side) for relief from the nearby designated hedge area. \nSLOW PLAY – Rule 5.6 \nSlow play penalties will be imposed. General penalty for breach of Local Rules – 2 strokes. \nFOR AND ON BEHALF OF MATCH COMMITTEE
URL:https://www.leuragolfclub.com.au/event/mens-foursomes-c-ship-rd-2/
CATEGORIES:LGC Major Events
END:VEVENT
BEGIN:VEVENT
DTSTART;VALUE=DATE:20250522
DTEND;VALUE=DATE:20250523
DTSTAMP:20260420T121535
CREATED:20250110T000319Z
LAST-MODIFIED:20250110T000422Z
UID:10004616-1747872000-1747958399@www.leuragolfclub.com.au
SUMMARY:Trivia @ 7pm
DESCRIPTION:When: Every Thursday\, questions begin at 7 pm\nEntry Fee: Only $2 per player\nPrizes: Get ready to win delightful prizes including wine\, club vouchers\, and delicious chocolates.\n\nDon’t miss out on the action! Our bistro opens at 5:30 pm\, perfect for grabbing a bite before the trivia starts. Create your own table with friends and family\, and make it a night to remember. Whether you’re a trivia buff or just looking for a lively evening out\, there’s something for everyone.
URL:https://www.leuragolfclub.com.au/event/trivia-7pm-3/2025-05-22/
CATEGORIES:LGC Function
END:VEVENT
BEGIN:VEVENT
DTSTART;VALUE=DATE:20250521
DTEND;VALUE=DATE:20250522
DTSTAMP:20260420T121535
CREATED:20241114T044000Z
LAST-MODIFIED:20241114T044000Z
UID:10004397-1747785600-1747871999@www.leuragolfclub.com.au
SUMMARY:Stableford Singles + 2BBB
DESCRIPTION:
URL:https://www.leuragolfclub.com.au/event/stableford-singles-2bbb-8/2025-05-21/
CATEGORIES:Wednesday Medley Comp
END:VEVENT
BEGIN:VEVENT
DTSTART;VALUE=DATE:20250520
DTEND;VALUE=DATE:20250521
DTSTAMP:20260420T121535
CREATED:20241116T010621Z
LAST-MODIFIED:20241116T010831Z
UID:10004540-1747699200-1747785599@www.leuragolfclub.com.au
SUMMARY:Women's 9 Hole Stableford
DESCRIPTION:
URL:https://www.leuragolfclub.com.au/event/womens-9-hole-stableford-2/2025-05-20/
CATEGORIES:Tuesday Comp
END:VEVENT
BEGIN:VEVENT
DTSTART;VALUE=DATE:20250517
DTEND;VALUE=DATE:20250518
DTSTAMP:20260420T121535
CREATED:20241115T032827Z
LAST-MODIFIED:20241115T032827Z
UID:10004477-1747440000-1747526399@www.leuragolfclub.com.au
SUMMARY:Stableford Singles - white tees
DESCRIPTION:
URL:https://www.leuragolfclub.com.au/event/stableford-singles-white-tees-5/
CATEGORIES:Saturday Medley Comp
END:VEVENT
BEGIN:VEVENT
DTSTART;VALUE=DATE:20250517
DTEND;VALUE=DATE:20250518
DTSTAMP:20260420T121535
CREATED:20241115T032525Z
LAST-MODIFIED:20250509T005125Z
UID:10004475-1747440000-1747526399@www.leuragolfclub.com.au
SUMMARY:Men's Foursomes C/ship - Rd 1
DESCRIPTION:MEN’S FOURSOMES CHAMPIONSHIPS 2025\nCONDITIONS OF PLAY – ENTRANCE FEE $20 PER PLAYER \n\nFoursomes: Two players play as partners and use one ball. The players hit off alternately from the tee and thereafter strike the ball alternately during the play of each hole. If either player incurs a penalty stroke it does not alter the rotation of play.\nThe competition will be played according to the ‘Rules of Golf’ and competitors must be members of Leura Golf Club and hold an AGU handicap. Members are reminded that this is a club championship event and members’ attention is directed to By-Law 7  – see below. For the purposes of these Conditions of Play “Club Championships” where used in the by-law means “Men’s Foursome Championships”.\nThe competition will consist of two rounds of 18 holes foursomes stroke play from the blue tees. Preferred lies in accordance with the Local Rules will apply.\nFor Round 2 the order of play will be reversed from that of Round 1.\nRound 2 tee times shall commence at 8.28 am\, the B graders to hit off first followed by the A graders. Pair groups shall be decided by the Match Committee and if there shall be an odd number of pairs an A grade pair may be grouped with a B grade pair.\nThe handicap of each pair will be one half of their combined daily handicaps applicable at the commencement of Round 1.\nThe competition will be played in two grades\, namely\n\nA grade – pair handicaps of 16 or less\nB grade – pair handicaps of more than 16\, 36 being the maximum handicap.\n\n\nThe championship winners in each grade will be the pair who returns the best aggregate scratch score over the two rounds. There will be net winners in each grade. There will be prizes for the Runners-up.\nIn the event of a tie winners will be determined:\n\nIn the case of the best aggregate scratch score by a sudden death play off. The tied pairs shall play one extra hole at a time with the pairs still tied moving on to the next hole until a winning pair has been decided. The play off holes shall be holes 1\, 11\, 12 and 18 repeated as necessary.\nIn all other cases by count backs as applied by Golf Link.\n\n\nAll disputes must be in writing and will be decided by the Match Committee. Decisions will be final.\nIf in the opinion of the Match committee in conjunction with the Greenkeeper the course should be closed due to inclement weather the round affected shall not be played and shall be re-scheduled.\nThere will be no NTP competition for those playing in the foursomes championships.\n\n By-Law 7 – Club Championship Eligibility: \nTo be eligible to play in any Club Championship event\, a member shall have completed at least two (2) monthly medal rounds or at least five (5) competition rounds at Leura Golf Club in the 12 months immediately preceding the Club Championships. (ie the Club Championship event concerned) \nMedley club competition: There will be a Singles Stableford competition from the white (men) and red (women) tees for those who elect not to play in the championships. There will not be a 2 ball competition. There will be at least one NTP. \nMATCH COMMITTEE – LEURA GOLF CLUB \nLOCAL RULES – MEN’S FOURSOMES CHAMPIONSHIPS – 2025\nREFERENCE – RULES OF GOLF – 2019 \nThe Local Rules apply to the Championships except as noted\, expanded and/or clarified below. \nIMMOVABLE OBSTRUCTIONS – Rule 16 \nIncludes the artificial surfaces and sides of roads and paths including gravel paths. \nIMMOVABLE OBSTRUCTIONS CLOSE TO PUTTING GREEN  \nSPRINKLER HEADS \nRelief may be taken under Rule 16.1b if a sprinkler head or other immovable obstruction is on the line of play and is within two club lengths of the putting green\, and within two club lengths of the ball provided that there will be no relief if the line of play is clearly unreasonable. \nDROP ZONE \nThere is a clearly defined drop zone alongside\, and for play to\, the 6th green (left hand side) for relief from the nearby designated hedge area. \nSLOW PLAY – Rule 5.6 \nSlow play penalties will be imposed. General penalty for breach of Local Rules – 2 strokes. \nFOR AND ON BEHALF OF MATCH COMMITTEE
URL:https://www.leuragolfclub.com.au/event/mens-foursomes-c-ship-rd-1/
CATEGORIES:LGC Major Events
END:VEVENT
BEGIN:VEVENT
DTSTART;VALUE=DATE:20250515
DTEND;VALUE=DATE:20250516
DTSTAMP:20260420T121535
CREATED:20250110T000319Z
LAST-MODIFIED:20250110T000422Z
UID:10004615-1747267200-1747353599@www.leuragolfclub.com.au
SUMMARY:Trivia @ 7pm
DESCRIPTION:When: Every Thursday\, questions begin at 7 pm\nEntry Fee: Only $2 per player\nPrizes: Get ready to win delightful prizes including wine\, club vouchers\, and delicious chocolates.\n\nDon’t miss out on the action! Our bistro opens at 5:30 pm\, perfect for grabbing a bite before the trivia starts. Create your own table with friends and family\, and make it a night to remember. Whether you’re a trivia buff or just looking for a lively evening out\, there’s something for everyone.
URL:https://www.leuragolfclub.com.au/event/trivia-7pm-3/2025-05-15/
CATEGORIES:LGC Function
END:VEVENT
BEGIN:VEVENT
DTSTART;VALUE=DATE:20250514
DTEND;VALUE=DATE:20250515
DTSTAMP:20260420T121535
CREATED:20241114T042434Z
LAST-MODIFIED:20241114T042434Z
UID:10004382-1747180800-1747267199@www.leuragolfclub.com.au
SUMMARY:Stableford Singles + 2BBB
DESCRIPTION:
URL:https://www.leuragolfclub.com.au/event/stableford-singles-2bbb-7/2025-05-14/
CATEGORIES:Wednesday Medley Comp
END:VEVENT
BEGIN:VEVENT
DTSTART;VALUE=DATE:20250513
DTEND;VALUE=DATE:20250514
DTSTAMP:20260420T121535
CREATED:20241116T011639Z
LAST-MODIFIED:20250310T001752Z
UID:10004520-1747094400-1747180799@www.leuragolfclub.com.au
SUMMARY:Women's Open Day
DESCRIPTION:https://www.leuragolfclub.com.au/womens-golf-day/
URL:https://www.leuragolfclub.com.au/event/womens-open-day/
CATEGORIES:LGC Function
END:VEVENT
BEGIN:VEVENT
DTSTART;VALUE=DATE:20250512
DTEND;VALUE=DATE:20250513
DTSTAMP:20260420T121535
CREATED:20241116T005643Z
LAST-MODIFIED:20250417T030246Z
UID:10004504-1747008000-1747094399@www.leuragolfclub.com.au
SUMMARY:Women's Pennants @ Blackheath
DESCRIPTION:v Lithgow
URL:https://www.leuragolfclub.com.au/event/womens-pennants-2/
CATEGORIES:BM District Event
END:VEVENT
BEGIN:VEVENT
DTSTART;VALUE=DATE:20250510
DTEND;VALUE=DATE:20250511
DTSTAMP:20260420T121535
CREATED:20250108T004237Z
LAST-MODIFIED:20250108T004237Z
UID:10004590-1746835200-1746921599@www.leuragolfclub.com.au
SUMMARY:Stableford Singles + 2BBB
DESCRIPTION:
URL:https://www.leuragolfclub.com.au/event/stableford-singles-2bbb-5-2/2025-05-10/
CATEGORIES:Saturday Medley Comp
END:VEVENT
BEGIN:VEVENT
DTSTART;VALUE=DATE:20250508
DTEND;VALUE=DATE:20250509
DTSTAMP:20260420T121535
CREATED:20250110T000319Z
LAST-MODIFIED:20250110T000422Z
UID:10004614-1746662400-1746748799@www.leuragolfclub.com.au
SUMMARY:Trivia @ 7pm
DESCRIPTION:When: Every Thursday\, questions begin at 7 pm\nEntry Fee: Only $2 per player\nPrizes: Get ready to win delightful prizes including wine\, club vouchers\, and delicious chocolates.\n\nDon’t miss out on the action! Our bistro opens at 5:30 pm\, perfect for grabbing a bite before the trivia starts. Create your own table with friends and family\, and make it a night to remember. Whether you’re a trivia buff or just looking for a lively evening out\, there’s something for everyone.
URL:https://www.leuragolfclub.com.au/event/trivia-7pm-3/2025-05-08/
CATEGORIES:LGC Function
END:VEVENT
BEGIN:VEVENT
DTSTART;VALUE=DATE:20250507
DTEND;VALUE=DATE:20250508
DTSTAMP:20260420T121536
CREATED:20241108T054251Z
LAST-MODIFIED:20241108T054251Z
UID:10004291-1746576000-1746662399@www.leuragolfclub.com.au
SUMMARY:Par Singles + 2BBB
DESCRIPTION:
URL:https://www.leuragolfclub.com.au/event/par-singles-2bbb-6/2025-05-07/
CATEGORIES:Wednesday Medley Comp
END:VEVENT
BEGIN:VEVENT
DTSTART;VALUE=DATE:20250506
DTEND;VALUE=DATE:20250507
DTSTAMP:20260420T121536
CREATED:20241116T010239Z
LAST-MODIFIED:20241116T010239Z
UID:10004510-1746489600-1746575999@www.leuragolfclub.com.au
SUMMARY:Women's Monthly Medal - 18 hole stroke
DESCRIPTION:
URL:https://www.leuragolfclub.com.au/event/womens-monthly-medal-18-hole-stroke/2025-05-06/
CATEGORIES:Tuesday Comp
END:VEVENT
BEGIN:VEVENT
DTSTART;VALUE=DATE:20250503
DTEND;VALUE=DATE:20250504
DTSTAMP:20260420T121536
CREATED:20250108T003718Z
LAST-MODIFIED:20250108T003718Z
UID:10004572-1746230400-1746316799@www.leuragolfclub.com.au
SUMMARY:Stableford Singles - white tees
DESCRIPTION:
URL:https://www.leuragolfclub.com.au/event/stableford-singles-white-tees-4/2025-05-03/
CATEGORIES:Saturday Medley Comp
END:VEVENT
BEGIN:VEVENT
DTSTART;VALUE=DATE:20250503
DTEND;VALUE=DATE:20250504
DTSTAMP:20260420T121536
CREATED:20241112T044012Z
LAST-MODIFIED:20250108T003816Z
UID:10004582-1746230400-1746316799@www.leuragolfclub.com.au
SUMMARY:Men's Monthly Medal + Medley Stroke
DESCRIPTION:
URL:https://www.leuragolfclub.com.au/event/mens-monthly-medal-medley-stroke-10/2025-05-03/
CATEGORIES:Saturday Medley Comp
END:VEVENT
BEGIN:VEVENT
DTSTART;VALUE=DATE:20250501
DTEND;VALUE=DATE:20250502
DTSTAMP:20260420T121536
CREATED:20250110T000319Z
LAST-MODIFIED:20250110T000422Z
UID:10004613-1746057600-1746143999@www.leuragolfclub.com.au
SUMMARY:Trivia @ 7pm
DESCRIPTION:When: Every Thursday\, questions begin at 7 pm\nEntry Fee: Only $2 per player\nPrizes: Get ready to win delightful prizes including wine\, club vouchers\, and delicious chocolates.\n\nDon’t miss out on the action! Our bistro opens at 5:30 pm\, perfect for grabbing a bite before the trivia starts. Create your own table with friends and family\, and make it a night to remember. Whether you’re a trivia buff or just looking for a lively evening out\, there’s something for everyone.
URL:https://www.leuragolfclub.com.au/event/trivia-7pm-3/2025-05-01/
CATEGORIES:LGC Function
END:VEVENT
END:VCALENDAR