BEGIN:VCALENDAR
VERSION:2.0
PRODID:-//Leura Golf Club - ECPv6.13.2.1//NONSGML v1.0//EN
CALSCALE:GREGORIAN
METHOD:PUBLISH
X-WR-CALNAME:Leura Golf Club
X-ORIGINAL-URL:https://www.leuragolfclub.com.au
X-WR-CALDESC:Events for Leura Golf Club
REFRESH-INTERVAL;VALUE=DURATION:PT1H
X-Robots-Tag:noindex
X-PUBLISHED-TTL:PT1H
BEGIN:VTIMEZONE
TZID:Australia/Melbourne
BEGIN:STANDARD
TZOFFSETFROM:+1100
TZOFFSETTO:+1000
TZNAME:AEST
DTSTART:20230401T160000
END:STANDARD
BEGIN:DAYLIGHT
TZOFFSETFROM:+1000
TZOFFSETTO:+1100
TZNAME:AEDT
DTSTART:20230930T160000
END:DAYLIGHT
END:VTIMEZONE
BEGIN:VEVENT
DTSTART;VALUE=DATE:20230615
DTEND;VALUE=DATE:20230616
DTSTAMP:20260423T081826
CREATED:20230104T224506Z
LAST-MODIFIED:20230104T224700Z
UID:10003511-1686787200-1686873599@www.leuragolfclub.com.au
SUMMARY:Trivia @ 7pm
DESCRIPTION:
URL:https://www.leuragolfclub.com.au/event/trivia-7pm/2023-06-15/
CATEGORIES:LGC Function
END:VEVENT
BEGIN:VEVENT
DTSTART;VALUE=DATE:20230614
DTEND;VALUE=DATE:20230615
DTSTAMP:20260423T081826
CREATED:20230304T012847Z
LAST-MODIFIED:20230304T013005Z
UID:10003612-1686700800-1686787199@www.leuragolfclub.com.au
SUMMARY:Medley Stableford Singles + 2BBB
DESCRIPTION:
URL:https://www.leuragolfclub.com.au/event/medley-stableford-singles-2bbb-23/2023-06-14/
CATEGORIES:Wednesday Medley Comp
END:VEVENT
BEGIN:VEVENT
DTSTART;VALUE=DATE:20230613
DTEND;VALUE=DATE:20230614
DTSTAMP:20260423T081826
CREATED:20230204T232009Z
LAST-MODIFIED:20230301T183820Z
UID:10003560-1686614400-1686700799@www.leuragolfclub.com.au
SUMMARY:9 Hole Comp
DESCRIPTION:Women’s 9 hole comp in the morning and social play at other times.
URL:https://www.leuragolfclub.com.au/event/9-hole-comp/2023-06-13/
CATEGORIES:Tuesday Comp
END:VEVENT
BEGIN:VEVENT
DTSTART;VALUE=DATE:20230612
DTEND;VALUE=DATE:20230613
DTSTAMP:20260423T081826
CREATED:20230607T070825Z
LAST-MODIFIED:20230607T070825Z
UID:10003220-1686528000-1686614399@www.leuragolfclub.com.au
SUMMARY:Tradies 4 player Ambrose
DESCRIPTION:
URL:https://www.leuragolfclub.com.au/event/tradies-4-player-ambrose/
CATEGORIES:LGC other comp
END:VEVENT
BEGIN:VEVENT
DTSTART;VALUE=DATE:20230612
DTEND;VALUE=DATE:20230613
DTSTAMP:20260423T081826
CREATED:20230607T070524Z
LAST-MODIFIED:20230607T070552Z
UID:10003218-1686528000-1686614399@www.leuragolfclub.com.au
SUMMARY:Kings Birthday Holiday
DESCRIPTION:
URL:https://www.leuragolfclub.com.au/event/kings-birthday-holiday/
END:VEVENT
BEGIN:VEVENT
DTSTART;VALUE=DATE:20230610
DTEND;VALUE=DATE:20230611
DTSTAMP:20260423T081826
CREATED:20220123T011417Z
LAST-MODIFIED:20221226T022321Z
UID:10003355-1686355200-1686441599@www.leuragolfclub.com.au
SUMMARY:Medley Stableford Singles + 2BBB
DESCRIPTION:
URL:https://www.leuragolfclub.com.au/event/medley-stableford-singles-2bbb-20-2023-01-14/2023-06-10/
CATEGORIES:Saturday Medley Comp
END:VEVENT
BEGIN:VEVENT
DTSTART;VALUE=DATE:20230609
DTEND;VALUE=DATE:20230610
DTSTAMP:20260423T081826
CREATED:20230420T062851Z
LAST-MODIFIED:20231227T034009Z
UID:10003186-1686268800-1686355199@www.leuragolfclub.com.au
SUMMARY:Friday Nine Medley
DESCRIPTION:Social Members and beginners are welcome and will be allocated a handicap of 36 for men and 45 for women. This provides an opportunity for non-golfers to learn and experience our beloved game and hopefully get hooked on it like the rest of we golf tragics. \nWe encourage players to stay on for a drink\, presentation of prizes and dinner in the Bistro after your game. \nConditions of Play\n\nTee off from 10:00am\, playing from white markers for men and red markers for women.\nFee is $10 per player.\nCompetition will be played over 9 holes alternating week about.\n\nFront 9 – 1st to 9th\nBack 9 – 1st then 11th to 18th.\n\n\nCompetition will be conducted using the Stroke scoring system.\nA mercy rule will apply – once a player has had three shots over par on any hole\, pick up your ball and record the score for that hole as three over. Move on to the next hole.\nHandicaps for both 9’s will be half your current daily GA handicap.\nOfficial rules of golf apply.\nAll prizes are added to members’ cards\, visitors will be given vouchers.
URL:https://www.leuragolfclub.com.au/event/friday-nine/2023-06-09/
CATEGORIES:Twilight 9 Comp
END:VEVENT
BEGIN:VEVENT
DTSTART;VALUE=DATE:20230608
DTEND;VALUE=DATE:20230609
DTSTAMP:20260423T081826
CREATED:20230104T224506Z
LAST-MODIFIED:20230104T224700Z
UID:10003510-1686182400-1686268799@www.leuragolfclub.com.au
SUMMARY:Trivia @ 7pm
DESCRIPTION:
URL:https://www.leuragolfclub.com.au/event/trivia-7pm/2023-06-08/
CATEGORIES:LGC Function
END:VEVENT
BEGIN:VEVENT
DTSTART;VALUE=DATE:20230607
DTEND;VALUE=DATE:20230608
DTSTAMP:20260423T081826
CREATED:20211115T234200Z
LAST-MODIFIED:20221212T041308Z
UID:10003255-1686096000-1686182399@www.leuragolfclub.com.au
SUMMARY:Medley Stableford Singles + 2BBB
DESCRIPTION:
URL:https://www.leuragolfclub.com.au/event/medley-stableford-singles-2bbb-19/2023-06-07/
CATEGORIES:Wednesday Medley Comp
END:VEVENT
BEGIN:VEVENT
DTSTART;VALUE=DATE:20230606
DTEND;VALUE=DATE:20230607
DTSTAMP:20260423T081826
CREATED:20230204T232009Z
LAST-MODIFIED:20230301T183820Z
UID:10003559-1686009600-1686095999@www.leuragolfclub.com.au
SUMMARY:9 Hole Comp
DESCRIPTION:Women’s 9 hole comp in the morning and social play at other times.
URL:https://www.leuragolfclub.com.au/event/9-hole-comp/2023-06-06/
CATEGORIES:Tuesday Comp
END:VEVENT
BEGIN:VEVENT
DTSTART;VALUE=DATE:20230603
DTEND;VALUE=DATE:20230604
DTSTAMP:20260423T081826
CREATED:20221226T021250Z
LAST-MODIFIED:20221226T021250Z
UID:10003053-1685750400-1685836799@www.leuragolfclub.com.au
SUMMARY:Medley Stableford Singles (white tees)
DESCRIPTION:
URL:https://www.leuragolfclub.com.au/event/medley-stableford-singles-white-tees-6/2023-06-03/
CATEGORIES:Saturday Medley Comp
END:VEVENT
BEGIN:VEVENT
DTSTART;VALUE=DATE:20230603
DTEND;VALUE=DATE:20230604
DTSTAMP:20260423T081826
CREATED:20221226T021041Z
LAST-MODIFIED:20231221T222624Z
UID:10003028-1685750400-1685836799@www.leuragolfclub.com.au
SUMMARY:Men’s Monthly Medal + Medley Stroke
DESCRIPTION:Visitors welcome. Visitors can win the competition but not the Medal.
URL:https://www.leuragolfclub.com.au/event/mens-monthly-medal-medley-stroke-8-2023-02-04/2023-06-03/
CATEGORIES:Saturday Medley Comp
END:VEVENT
BEGIN:VEVENT
DTSTART;VALUE=DATE:20230602
DTEND;VALUE=DATE:20230603
DTSTAMP:20260423T081826
CREATED:20230420T062851Z
LAST-MODIFIED:20231227T034009Z
UID:10003185-1685664000-1685750399@www.leuragolfclub.com.au
SUMMARY:Friday Nine Medley
DESCRIPTION:Social Members and beginners are welcome and will be allocated a handicap of 36 for men and 45 for women. This provides an opportunity for non-golfers to learn and experience our beloved game and hopefully get hooked on it like the rest of we golf tragics. \nWe encourage players to stay on for a drink\, presentation of prizes and dinner in the Bistro after your game. \nConditions of Play\n\nTee off from 10:00am\, playing from white markers for men and red markers for women.\nFee is $10 per player.\nCompetition will be played over 9 holes alternating week about.\n\nFront 9 – 1st to 9th\nBack 9 – 1st then 11th to 18th.\n\n\nCompetition will be conducted using the Stroke scoring system.\nA mercy rule will apply – once a player has had three shots over par on any hole\, pick up your ball and record the score for that hole as three over. Move on to the next hole.\nHandicaps for both 9’s will be half your current daily GA handicap.\nOfficial rules of golf apply.\nAll prizes are added to members’ cards\, visitors will be given vouchers.
URL:https://www.leuragolfclub.com.au/event/friday-nine/2023-06-02/
CATEGORIES:Twilight 9 Comp
END:VEVENT
BEGIN:VEVENT
DTSTART;VALUE=DATE:20230601
DTEND;VALUE=DATE:20230602
DTSTAMP:20260423T081826
CREATED:20230104T224506Z
LAST-MODIFIED:20230104T224700Z
UID:10003509-1685577600-1685663999@www.leuragolfclub.com.au
SUMMARY:Trivia @ 7pm
DESCRIPTION:
URL:https://www.leuragolfclub.com.au/event/trivia-7pm/2023-06-01/
CATEGORIES:LGC Function
END:VEVENT
BEGIN:VEVENT
DTSTART;VALUE=DATE:20230531
DTEND;VALUE=DATE:20230601
DTSTAMP:20260423T081826
CREATED:20221212T042045Z
LAST-MODIFIED:20230529T001254Z
UID:10003022-1685491200-1685577599@www.leuragolfclub.com.au
SUMMARY:Medley Stableford Singles + 2BBB
DESCRIPTION:
URL:https://www.leuragolfclub.com.au/event/medley-2-person-ambrose-2-2023-05-31/
CATEGORIES:Wednesday Medley Comp
END:VEVENT
BEGIN:VEVENT
DTSTART;VALUE=DATE:20230530
DTEND;VALUE=DATE:20230531
DTSTAMP:20260423T081826
CREATED:20230204T232009Z
LAST-MODIFIED:20230301T183820Z
UID:10003558-1685404800-1685491199@www.leuragolfclub.com.au
SUMMARY:9 Hole Comp
DESCRIPTION:Women’s 9 hole comp in the morning and social play at other times.
URL:https://www.leuragolfclub.com.au/event/9-hole-comp/2023-05-30/
CATEGORIES:Tuesday Comp
END:VEVENT
BEGIN:VEVENT
DTSTART;VALUE=DATE:20230527
DTEND;VALUE=DATE:20230528
DTSTAMP:20260423T081826
CREATED:20230301T224505Z
LAST-MODIFIED:20230301T224505Z
UID:10003597-1685145600-1685231999@www.leuragolfclub.com.au
SUMMARY:Men's Foursomes Championship Rd 2
DESCRIPTION:
URL:https://www.leuragolfclub.com.au/event/mens-foursomes-championship-rd-2-2/
CATEGORIES:LGC Major Events
END:VEVENT
BEGIN:VEVENT
DTSTART;VALUE=DATE:20230527
DTEND;VALUE=DATE:20230528
DTSTAMP:20260423T081826
CREATED:20221226T022134Z
LAST-MODIFIED:20230517T074823Z
UID:10003083-1685145600-1685231999@www.leuragolfclub.com.au
SUMMARY:Medley Stableford Singles
DESCRIPTION:
URL:https://www.leuragolfclub.com.au/event/medley-par-singles-2bbb-6-2023-05-27/
CATEGORIES:Saturday Medley Comp
END:VEVENT
BEGIN:VEVENT
DTSTART;VALUE=DATE:20230526
DTEND;VALUE=DATE:20230527
DTSTAMP:20260423T081826
CREATED:20230420T062851Z
LAST-MODIFIED:20231227T034009Z
UID:10003184-1685059200-1685145599@www.leuragolfclub.com.au
SUMMARY:Friday Nine Medley
DESCRIPTION:Social Members and beginners are welcome and will be allocated a handicap of 36 for men and 45 for women. This provides an opportunity for non-golfers to learn and experience our beloved game and hopefully get hooked on it like the rest of we golf tragics. \nWe encourage players to stay on for a drink\, presentation of prizes and dinner in the Bistro after your game. \nConditions of Play\n\nTee off from 10:00am\, playing from white markers for men and red markers for women.\nFee is $10 per player.\nCompetition will be played over 9 holes alternating week about.\n\nFront 9 – 1st to 9th\nBack 9 – 1st then 11th to 18th.\n\n\nCompetition will be conducted using the Stroke scoring system.\nA mercy rule will apply – once a player has had three shots over par on any hole\, pick up your ball and record the score for that hole as three over. Move on to the next hole.\nHandicaps for both 9’s will be half your current daily GA handicap.\nOfficial rules of golf apply.\nAll prizes are added to members’ cards\, visitors will be given vouchers.
URL:https://www.leuragolfclub.com.au/event/friday-nine/2023-05-26/
CATEGORIES:Twilight 9 Comp
END:VEVENT
BEGIN:VEVENT
DTSTART;VALUE=DATE:20230525
DTEND;VALUE=DATE:20230526
DTSTAMP:20260423T081826
CREATED:20230104T224506Z
LAST-MODIFIED:20230104T224700Z
UID:10003508-1684972800-1685059199@www.leuragolfclub.com.au
SUMMARY:Trivia @ 7pm
DESCRIPTION:
URL:https://www.leuragolfclub.com.au/event/trivia-7pm/2023-05-25/
CATEGORIES:LGC Function
END:VEVENT
BEGIN:VEVENT
DTSTART;VALUE=DATE:20230524
DTEND;VALUE=DATE:20230525
DTSTAMP:20260423T081826
CREATED:20221212T041815Z
LAST-MODIFIED:20221212T041815Z
UID:10003453-1684886400-1684972799@www.leuragolfclub.com.au
SUMMARY:Medley Stableford Singles + 2BBB
DESCRIPTION:
URL:https://www.leuragolfclub.com.au/event/medley-stableford-singles-2bbb-15/2023-05-24/
CATEGORIES:Wednesday Medley Comp
END:VEVENT
BEGIN:VEVENT
DTSTART;VALUE=DATE:20230523
DTEND;VALUE=DATE:20230524
DTSTAMP:20260423T081826
CREATED:20230204T232009Z
LAST-MODIFIED:20230301T183820Z
UID:10003557-1684800000-1684886399@www.leuragolfclub.com.au
SUMMARY:9 Hole Comp
DESCRIPTION:Women’s 9 hole comp in the morning and social play at other times.
URL:https://www.leuragolfclub.com.au/event/9-hole-comp/2023-05-23/
CATEGORIES:Tuesday Comp
END:VEVENT
BEGIN:VEVENT
DTSTART;VALUE=DATE:20230520
DTEND;VALUE=DATE:20230521
DTSTAMP:20260423T081826
CREATED:20230301T224416Z
LAST-MODIFIED:20230301T224416Z
UID:10003596-1684540800-1684627199@www.leuragolfclub.com.au
SUMMARY:Men's Foursomes Championship Rd 1
DESCRIPTION:MEN’S FOURSOMES CHAMPIONSHIPS 2023\n\nCONDITIONS OF PLAY – ENTRANCE FEE $20 PER PLAYER \n\nFoursomes: Two players play as partners and use one ball. The players hit off alternately from the tee and thereafter strike the ball alternately during the play of each hole. If either player incurs a penalty stroke it does not alter the rotation of play.\nThe competition will be played according to the ‘Rules of Golf’ and competitors must be members of Leura Golf Club and hold an AGU handicap. Members are reminded that this is a club championship event and members’ attention is directed to By-Law 7  – see below. For the purposes of these Conditions of Play “Club Championships” where used in the by-law means “Men’s Foursome Championships”.\nThe competition will consist of two rounds of 18 holes foursomes stroke play from the blue tees. Preferred lies in accordance with the Local Rules will apply.  The 12th hole C graders Local Rule will not apply.\nFor Round 2 the order of play will be reversed from that of Round 1.\nRound 2 tee times shall commence at 8.28 am\, the B graders to hit off first followed by the A graders. Pair groups shall be decided by the Match Committee and if there shall be an odd number of pairs an A grade pair may be grouped with a B grade pair.\nThe handicap of each pair will be one half of their combined daily handicaps applicable at the commencement of Round 1.\nThe competition will be played in two grades\, namely\n\nA grade – pair handicaps of 16 or less\nB grade – pair handicaps of more than 16\, 36 being the maximum handicap.\n\n\nThe championship winners in each grade will be the pair who returns the best aggregate scratch score over the two rounds. There will be net winners in each grade. There will be prizes for the Runners-up.\nIn the event of a tie winners will be determined:\n\nIn the case of the best aggregate scratch score by a sudden death play off. The tied pairs shall play one extra hole at a time with the pairs still tied moving on to the next hole until a winning pair has been decided. The play off holes shall be holes 1\, 11\, 12 and 18 repeated as necessary.\nIn all other cases by count backs as applied by Golf Link.\n\n\nAll disputes must be in writing and will be decided by the Match Committee. Decisions will be final.\nIf in the opinion of the Match committee in conjunction with the Greenkeeper the course should be closed due to inclement weather the round affected shall not be played and shall be re-scheduled.\nThere will be no NTP competition for those playing in the foursomes championships.\n\n By-Law 7 – Club Championship Eligibility: \nTo be eligible to play in any Club Championship event\, a member shall have completed at least two (2) monthly medal rounds or at least five (5) competition rounds at Leura Golf Club in the 12 months immediately preceding the Club Championships. (ie the Club Championship event concerned) \nMedley club competition: There will be a Singles Stableford competition from the white (men) and red (women) tees for those who elect not to play in the championships. There will not be a 2 ball competition. There will be at least one NTP. \nMATCH COMMITTEE – LEURA GOLF CLUB \nLOCAL RULES – MEN’S FOURSOMES CHAMPIONSHIPS – 2022\n\nREFERENCE – RULES OF GOLF – 2019 \nThe Local Rules apply to the Championships except as noted\, expanded and/or clarified below. \nIMMOVABLE OBSTRUCTIONS – Rule 16 \nIncludes the artificial surfaces and sides of roads and paths including gravel paths. \nIMMOVABLE OBSTRUCTIONS CLOSE TO PUTTING GREEN  \nSPRINKLER HEADS \nRelief may be taken under Rule 16.1b if a sprinkler head or other immovable obstruction is on the line of play and is within two club lengths of the putting green\, and within two club lengths of the ball provided that there will be no relief if the line of play is clearly unreasonable. \n12TH HOLE \nThe 12th hole local rule which is applicable to C graders only shall NOT apply for the purposes of the Foursomes Championships. \nDROP ZONE \nThere is a clearly defined drop zone alongside\, and for play to\, the 6th green (left hand side) for relief from the nearby designated hedge area. \nSLOW PLAY – Rule 5.6 \nSlow play penalties will be imposed. General penalty for breach of Local Rules – 2 strokes. \nFOR AND ON BEHALF OF MATCH COMMITTEE
URL:https://www.leuragolfclub.com.au/event/mens-foursomes-championship-rd-1-2/
CATEGORIES:LGC Major Events
END:VEVENT
BEGIN:VEVENT
DTSTART;VALUE=DATE:20230520
DTEND;VALUE=DATE:20230521
DTSTAMP:20260423T081826
CREATED:20221226T024302Z
LAST-MODIFIED:20230301T224644Z
UID:10003467-1684540800-1684627199@www.leuragolfclub.com.au
SUMMARY:Medley Stableford Singles
DESCRIPTION:
URL:https://www.leuragolfclub.com.au/event/medley-stableford-singles-2b-multiplier-5-2023-05-20/
CATEGORIES:Saturday Medley Comp
END:VEVENT
BEGIN:VEVENT
DTSTART;VALUE=DATE:20230520
DTEND;VALUE=DATE:20230521
DTSTAMP:20260423T081826
CREATED:20180626T023936Z
LAST-MODIFIED:20180626T023936Z
UID:10002654-1684540800-1684627199@www.leuragolfclub.com.au
SUMMARY:Stableford + 2B Aggregate
DESCRIPTION:Medley competition – visitors welcome. \nComp closes at 4pm so please ensure that your tee time will allow you to finish in time.
URL:https://www.leuragolfclub.com.au/event/stableford-2b-aggregate/2023-05-20/
CATEGORIES:Saturday Medley Comp
END:VEVENT
BEGIN:VEVENT
DTSTART;VALUE=DATE:20230519
DTEND;VALUE=DATE:20230520
DTSTAMP:20260423T081826
CREATED:20230420T062851Z
LAST-MODIFIED:20231227T034009Z
UID:10003183-1684454400-1684540799@www.leuragolfclub.com.au
SUMMARY:Friday Nine Medley
DESCRIPTION:Social Members and beginners are welcome and will be allocated a handicap of 36 for men and 45 for women. This provides an opportunity for non-golfers to learn and experience our beloved game and hopefully get hooked on it like the rest of we golf tragics. \nWe encourage players to stay on for a drink\, presentation of prizes and dinner in the Bistro after your game. \nConditions of Play\n\nTee off from 10:00am\, playing from white markers for men and red markers for women.\nFee is $10 per player.\nCompetition will be played over 9 holes alternating week about.\n\nFront 9 – 1st to 9th\nBack 9 – 1st then 11th to 18th.\n\n\nCompetition will be conducted using the Stroke scoring system.\nA mercy rule will apply – once a player has had three shots over par on any hole\, pick up your ball and record the score for that hole as three over. Move on to the next hole.\nHandicaps for both 9’s will be half your current daily GA handicap.\nOfficial rules of golf apply.\nAll prizes are added to members’ cards\, visitors will be given vouchers.
URL:https://www.leuragolfclub.com.au/event/friday-nine/2023-05-19/
CATEGORIES:Twilight 9 Comp
END:VEVENT
BEGIN:VEVENT
DTSTART;VALUE=DATE:20230518
DTEND;VALUE=DATE:20230519
DTSTAMP:20260423T081826
CREATED:20230104T224506Z
LAST-MODIFIED:20230104T224700Z
UID:10003507-1684368000-1684454399@www.leuragolfclub.com.au
SUMMARY:Trivia @ 7pm
DESCRIPTION:
URL:https://www.leuragolfclub.com.au/event/trivia-7pm/2023-05-18/
CATEGORIES:LGC Function
END:VEVENT
BEGIN:VEVENT
DTSTART;VALUE=DATE:20230517
DTEND;VALUE=DATE:20230518
DTSTAMP:20260423T081826
CREATED:20220123T004010Z
LAST-MODIFIED:20221230T021827Z
UID:10003327-1684281600-1684367999@www.leuragolfclub.com.au
SUMMARY:Medley Stableford Singles + 2B Aggregate
DESCRIPTION:
URL:https://www.leuragolfclub.com.au/event/medley-stableford-singles-2b-aggregate-4/2023-05-17/
CATEGORIES:Wednesday Medley Comp
END:VEVENT
BEGIN:VEVENT
DTSTART;VALUE=DATE:20230516
DTEND;VALUE=DATE:20230517
DTSTAMP:20260423T081826
CREATED:20230204T232009Z
LAST-MODIFIED:20230301T183820Z
UID:10003556-1684195200-1684281599@www.leuragolfclub.com.au
SUMMARY:9 Hole Comp
DESCRIPTION:Women’s 9 hole comp in the morning and social play at other times.
URL:https://www.leuragolfclub.com.au/event/9-hole-comp/2023-05-16/
CATEGORIES:Tuesday Comp
END:VEVENT
BEGIN:VEVENT
DTSTART;VALUE=DATE:20230513
DTEND;VALUE=DATE:20230514
DTSTAMP:20260423T081826
CREATED:20220123T011417Z
LAST-MODIFIED:20221226T022321Z
UID:10003354-1683936000-1684022399@www.leuragolfclub.com.au
SUMMARY:Medley Stableford Singles + 2BBB
DESCRIPTION:
URL:https://www.leuragolfclub.com.au/event/medley-stableford-singles-2bbb-20-2023-01-14/2023-05-13/
CATEGORIES:Saturday Medley Comp
END:VEVENT
END:VCALENDAR