BEGIN:VCALENDAR
VERSION:2.0
PRODID:-//Leura Golf Club - ECPv6.13.2.1//NONSGML v1.0//EN
CALSCALE:GREGORIAN
METHOD:PUBLISH
X-WR-CALNAME:Leura Golf Club
X-ORIGINAL-URL:https://www.leuragolfclub.com.au
X-WR-CALDESC:Events for Leura Golf Club
REFRESH-INTERVAL;VALUE=DURATION:PT1H
X-Robots-Tag:noindex
X-PUBLISHED-TTL:PT1H
BEGIN:VTIMEZONE
TZID:Australia/Melbourne
BEGIN:STANDARD
TZOFFSETFROM:+1100
TZOFFSETTO:+1000
TZNAME:AEST
DTSTART:20240406T160000
END:STANDARD
BEGIN:DAYLIGHT
TZOFFSETFROM:+1000
TZOFFSETTO:+1100
TZNAME:AEDT
DTSTART:20241005T160000
END:DAYLIGHT
END:VTIMEZONE
BEGIN:VTIMEZONE
TZID:Australia/Sydney
BEGIN:STANDARD
TZOFFSETFROM:+1100
TZOFFSETTO:+1000
TZNAME:AEST
DTSTART:20240406T160000
END:STANDARD
BEGIN:DAYLIGHT
TZOFFSETFROM:+1000
TZOFFSETTO:+1100
TZNAME:AEDT
DTSTART:20241005T160000
END:DAYLIGHT
END:VTIMEZONE
BEGIN:VEVENT
DTSTART;VALUE=DATE:20241114
DTEND;VALUE=DATE:20241115
DTSTAMP:20260421T153642
CREATED:20231231T235317Z
LAST-MODIFIED:20240102T001129Z
UID:10003986-1731542400-1731628799@www.leuragolfclub.com.au
SUMMARY:Trivia @ 7pm
DESCRIPTION:
URL:https://www.leuragolfclub.com.au/event/trivia-7pm-2/2024-11-14/
CATEGORIES:LGC Function
END:VEVENT
BEGIN:VEVENT
DTSTART;VALUE=DATE:20241113
DTEND;VALUE=DATE:20241114
DTSTAMP:20260421T153642
CREATED:20240101T020524Z
LAST-MODIFIED:20240101T021128Z
UID:10004139-1731484800-1731517200@www.leuragolfclub.com.au
SUMMARY:Medley Stableford + 2BBB
DESCRIPTION:
URL:https://www.leuragolfclub.com.au/event/medley-stableford-2bbb-4/2024-11-13/
CATEGORIES:Wednesday Medley Comp
END:VEVENT
BEGIN:VEVENT
DTSTART;VALUE=DATE:20241112
DTEND;VALUE=DATE:20241113
DTSTAMP:20260421T153642
CREATED:20231221T224017Z
LAST-MODIFIED:20231221T224017Z
UID:10003816-1731369600-1731455999@www.leuragolfclub.com.au
SUMMARY:9 Hole Comp
DESCRIPTION:Women’s 9 hole comp in the morning and social play at other times.
URL:https://www.leuragolfclub.com.au/event/9-hole-comp-2/2024-11-12/
CATEGORIES:Tuesday Comp
END:VEVENT
BEGIN:VEVENT
DTSTART;TZID=Australia/Sydney:20241111T130000
DTEND;TZID=Australia/Sydney:20241111T150000
DTSTAMP:20260421T153642
CREATED:20240806T005339Z
LAST-MODIFIED:20240806T005631Z
UID:10004198-1731330000-1731337200@www.leuragolfclub.com.au
SUMMARY:Women's Golf Beginner Clinic
DESCRIPTION:The program will involve clinics with 12 weekly lessons for up to 8 women at a time at a cost of $300 for the course. Each of the clinics will be held between 1pm and 3pm on Mondays. The Club will provide participants with golf clubs. The program will start on Monday September 16. \nThese clinics will cover\, among others: \n\nan introduction to golf course terminology and equipment;\ngolf etiquette and rules;\nthe scoring system;\ngrip and stance;\nputting;\nchipping and pitching;\nan overview of the full swing; and\,\nthe range of clubs for use in different situations.\n\nLGC’s golf professional\, Natasha Hemms\, will conduct the clinics which are designed for beginner golfers with little or no playing experience but some interest in taking up the game.
URL:https://www.leuragolfclub.com.au/event/womens-beginner-clinic/2024-11-11/
CATEGORIES:Other
END:VEVENT
BEGIN:VEVENT
DTSTART;VALUE=DATE:20241109
DTEND;VALUE=DATE:20241110
DTSTAMP:20260421T153642
CREATED:20240703T060451Z
LAST-MODIFIED:20240703T060451Z
UID:10004173-1731110400-1731196799@www.leuragolfclub.com.au
SUMMARY:Men’s Monthly Medal + Medley Stroke
DESCRIPTION:Visitors welcome. Visitors can win the competition but not the Medal.
URL:https://www.leuragolfclub.com.au/event/mens-monthly-medal-medley-stroke-8-2023-02-04-2-2/2024-11-09/
CATEGORIES:Saturday Medley Comp
END:VEVENT
BEGIN:VEVENT
DTSTART;VALUE=DATE:20241109
DTEND;VALUE=DATE:20241110
DTSTAMP:20260421T153642
CREATED:20240101T023423Z
LAST-MODIFIED:20240703T065052Z
UID:10004144-1731110400-1731196799@www.leuragolfclub.com.au
SUMMARY:Medley Stableford Singles - white tees
DESCRIPTION:
URL:https://www.leuragolfclub.com.au/event/medley-stableford-singles-13/
CATEGORIES:Saturday Medley Comp
END:VEVENT
BEGIN:VEVENT
DTSTART;TZID=Australia/Sydney:20241107T100000
DTEND;TZID=Australia/Sydney:20241107T110000
DTSTAMP:20260421T153642
CREATED:20241002T005804Z
LAST-MODIFIED:20241002T010657Z
UID:10004243-1730973600-1730977200@www.leuragolfclub.com.au
SUMMARY:Women's Golf Beginner Clinic
DESCRIPTION:The program will involve clinics with 10 weekly lessons for up to 8 women at a time at a cost of $300 for the course. Each of the clinics will be held between 10am and 11am on Thursdays. The Club will provide participants with golf clubs. The program will start on Thursday October 10. \nThese clinics will cover\, among others: \n\nan introduction to golf course terminology and equipment;\ngolf etiquette and rules;\nthe scoring system;\ngrip and stance;\nputting;\nchipping and pitching;\nan overview of the full swing; and\,\nthe range of clubs for use in different situations.\n\nLGC’s golf professional\, Natasha Hemms\, will conduct the clinics which are designed for beginner golfers with little or no playing experience but some interest in taking up the game.
URL:https://www.leuragolfclub.com.au/event/womens-golf-beginner-clinic-2/2024-11-07/
CATEGORIES:Other
END:VEVENT
BEGIN:VEVENT
DTSTART;VALUE=DATE:20241107
DTEND;VALUE=DATE:20241108
DTSTAMP:20260421T153642
CREATED:20231231T235317Z
LAST-MODIFIED:20240102T001129Z
UID:10003985-1730937600-1731023999@www.leuragolfclub.com.au
SUMMARY:Trivia @ 7pm
DESCRIPTION:
URL:https://www.leuragolfclub.com.au/event/trivia-7pm-2/2024-11-07/
CATEGORIES:LGC Function
END:VEVENT
BEGIN:VEVENT
DTSTART;VALUE=DATE:20241106
DTEND;VALUE=DATE:20241107
DTSTAMP:20260421T153642
CREATED:20240101T015835Z
LAST-MODIFIED:20240101T015835Z
UID:10004122-1730880000-1730912400@www.leuragolfclub.com.au
SUMMARY:Medley Stableford Singles
DESCRIPTION:
URL:https://www.leuragolfclub.com.au/event/medley-stableford-singles-12/2024-11-06/
CATEGORIES:Wednesday Medley Comp
END:VEVENT
BEGIN:VEVENT
DTSTART;VALUE=DATE:20241105
DTEND;VALUE=DATE:20241106
DTSTAMP:20260421T153642
CREATED:20231221T224017Z
LAST-MODIFIED:20231221T224017Z
UID:10003815-1730764800-1730851199@www.leuragolfclub.com.au
SUMMARY:9 Hole Comp
DESCRIPTION:Women’s 9 hole comp in the morning and social play at other times.
URL:https://www.leuragolfclub.com.au/event/9-hole-comp-2/2024-11-05/
CATEGORIES:Tuesday Comp
END:VEVENT
BEGIN:VEVENT
DTSTART;TZID=Australia/Sydney:20241104T130000
DTEND;TZID=Australia/Sydney:20241104T150000
DTSTAMP:20260421T153642
CREATED:20240806T005339Z
LAST-MODIFIED:20240806T005631Z
UID:10004197-1730725200-1730732400@www.leuragolfclub.com.au
SUMMARY:Women's Golf Beginner Clinic
DESCRIPTION:The program will involve clinics with 12 weekly lessons for up to 8 women at a time at a cost of $300 for the course. Each of the clinics will be held between 1pm and 3pm on Mondays. The Club will provide participants with golf clubs. The program will start on Monday September 16. \nThese clinics will cover\, among others: \n\nan introduction to golf course terminology and equipment;\ngolf etiquette and rules;\nthe scoring system;\ngrip and stance;\nputting;\nchipping and pitching;\nan overview of the full swing; and\,\nthe range of clubs for use in different situations.\n\nLGC’s golf professional\, Natasha Hemms\, will conduct the clinics which are designed for beginner golfers with little or no playing experience but some interest in taking up the game.
URL:https://www.leuragolfclub.com.au/event/womens-beginner-clinic/2024-11-04/
CATEGORIES:Other
END:VEVENT
BEGIN:VEVENT
DTSTART;VALUE=DATE:20241102
DTEND;VALUE=DATE:20241103
DTSTAMP:20260421T153642
CREATED:20240703T063006Z
LAST-MODIFIED:20240703T063006Z
UID:10004184-1730505600-1730591999@www.leuragolfclub.com.au
SUMMARY:Medley Stableford + 2BBB
DESCRIPTION:
URL:https://www.leuragolfclub.com.au/event/medley-stableford-2bbb-7/
CATEGORIES:Saturday Medley Comp
END:VEVENT
BEGIN:VEVENT
DTSTART;TZID=Australia/Sydney:20241031T100000
DTEND;TZID=Australia/Sydney:20241031T110000
DTSTAMP:20260421T153642
CREATED:20241002T005804Z
LAST-MODIFIED:20241002T010657Z
UID:10004242-1730368800-1730372400@www.leuragolfclub.com.au
SUMMARY:Women's Golf Beginner Clinic
DESCRIPTION:The program will involve clinics with 10 weekly lessons for up to 8 women at a time at a cost of $300 for the course. Each of the clinics will be held between 10am and 11am on Thursdays. The Club will provide participants with golf clubs. The program will start on Thursday October 10. \nThese clinics will cover\, among others: \n\nan introduction to golf course terminology and equipment;\ngolf etiquette and rules;\nthe scoring system;\ngrip and stance;\nputting;\nchipping and pitching;\nan overview of the full swing; and\,\nthe range of clubs for use in different situations.\n\nLGC’s golf professional\, Natasha Hemms\, will conduct the clinics which are designed for beginner golfers with little or no playing experience but some interest in taking up the game.
URL:https://www.leuragolfclub.com.au/event/womens-golf-beginner-clinic-2/2024-10-31/
CATEGORIES:Other
END:VEVENT
BEGIN:VEVENT
DTSTART;VALUE=DATE:20241031
DTEND;VALUE=DATE:20241101
DTSTAMP:20260421T153642
CREATED:20231231T235317Z
LAST-MODIFIED:20240102T001129Z
UID:10003984-1730332800-1730419199@www.leuragolfclub.com.au
SUMMARY:Trivia @ 7pm
DESCRIPTION:
URL:https://www.leuragolfclub.com.au/event/trivia-7pm-2/2024-10-31/
CATEGORIES:LGC Function
END:VEVENT
BEGIN:VEVENT
DTSTART;VALUE=DATE:20241030
DTEND;VALUE=DATE:20241031
DTSTAMP:20260421T153642
CREATED:20240101T021416Z
LAST-MODIFIED:20240101T021416Z
UID:10004140-1730246400-1730332799@www.leuragolfclub.com.au
SUMMARY:Medley Stroke - Spring Medal - white tees
DESCRIPTION:
URL:https://www.leuragolfclub.com.au/event/medley-stroke-spring-medal-white-tees/
CATEGORIES:Wednesday Medley Comp
END:VEVENT
BEGIN:VEVENT
DTSTART;VALUE=DATE:20241029
DTEND;VALUE=DATE:20241030
DTSTAMP:20260421T153642
CREATED:20231221T224017Z
LAST-MODIFIED:20231221T224017Z
UID:10003814-1730160000-1730246399@www.leuragolfclub.com.au
SUMMARY:9 Hole Comp
DESCRIPTION:Women’s 9 hole comp in the morning and social play at other times.
URL:https://www.leuragolfclub.com.au/event/9-hole-comp-2/2024-10-29/
CATEGORIES:Tuesday Comp
END:VEVENT
BEGIN:VEVENT
DTSTART;TZID=Australia/Sydney:20241028T130000
DTEND;TZID=Australia/Sydney:20241028T150000
DTSTAMP:20260421T153642
CREATED:20240806T005339Z
LAST-MODIFIED:20240806T005631Z
UID:10004196-1730120400-1730127600@www.leuragolfclub.com.au
SUMMARY:Women's Golf Beginner Clinic
DESCRIPTION:The program will involve clinics with 12 weekly lessons for up to 8 women at a time at a cost of $300 for the course. Each of the clinics will be held between 1pm and 3pm on Mondays. The Club will provide participants with golf clubs. The program will start on Monday September 16. \nThese clinics will cover\, among others: \n\nan introduction to golf course terminology and equipment;\ngolf etiquette and rules;\nthe scoring system;\ngrip and stance;\nputting;\nchipping and pitching;\nan overview of the full swing; and\,\nthe range of clubs for use in different situations.\n\nLGC’s golf professional\, Natasha Hemms\, will conduct the clinics which are designed for beginner golfers with little or no playing experience but some interest in taking up the game.
URL:https://www.leuragolfclub.com.au/event/womens-beginner-clinic/2024-10-28/
CATEGORIES:Other
END:VEVENT
BEGIN:VEVENT
DTSTART;TZID=Australia/Sydney:20241027T103000
DTEND;TZID=Australia/Sydney:20241027T113000
DTSTAMP:20260421T153642
CREATED:20240914T231906Z
LAST-MODIFIED:20240914T231952Z
UID:10004203-1730025000-1730028600@www.leuragolfclub.com.au
SUMMARY:AGM @ 10.30 am
DESCRIPTION:Please note that to be eligible to vote you must have been a Full Member for the 12 months prior to the date of the meeting.
URL:https://www.leuragolfclub.com.au/event/agm-10-30-am/
CATEGORIES:LGC Function
END:VEVENT
BEGIN:VEVENT
DTSTART;VALUE=DATE:20241026
DTEND;VALUE=DATE:20241027
DTSTAMP:20260421T153642
CREATED:20240101T020116Z
LAST-MODIFIED:20240101T020116Z
UID:10004128-1729929600-1729962000@www.leuragolfclub.com.au
SUMMARY:Medley Stableford + 2BBB
DESCRIPTION:
URL:https://www.leuragolfclub.com.au/event/medley-stableford-2bbb-3/2024-10-26/
CATEGORIES:Saturday Medley Comp
END:VEVENT
BEGIN:VEVENT
DTSTART;TZID=Australia/Sydney:20241024T100000
DTEND;TZID=Australia/Sydney:20241024T110000
DTSTAMP:20260421T153642
CREATED:20241002T005804Z
LAST-MODIFIED:20241002T010657Z
UID:10004241-1729764000-1729767600@www.leuragolfclub.com.au
SUMMARY:Women's Golf Beginner Clinic
DESCRIPTION:The program will involve clinics with 10 weekly lessons for up to 8 women at a time at a cost of $300 for the course. Each of the clinics will be held between 10am and 11am on Thursdays. The Club will provide participants with golf clubs. The program will start on Thursday October 10. \nThese clinics will cover\, among others: \n\nan introduction to golf course terminology and equipment;\ngolf etiquette and rules;\nthe scoring system;\ngrip and stance;\nputting;\nchipping and pitching;\nan overview of the full swing; and\,\nthe range of clubs for use in different situations.\n\nLGC’s golf professional\, Natasha Hemms\, will conduct the clinics which are designed for beginner golfers with little or no playing experience but some interest in taking up the game.
URL:https://www.leuragolfclub.com.au/event/womens-golf-beginner-clinic-2/2024-10-24/
CATEGORIES:Other
END:VEVENT
BEGIN:VEVENT
DTSTART;VALUE=DATE:20241024
DTEND;VALUE=DATE:20241025
DTSTAMP:20260421T153642
CREATED:20231231T235317Z
LAST-MODIFIED:20240102T001129Z
UID:10003983-1729728000-1729814399@www.leuragolfclub.com.au
SUMMARY:Trivia @ 7pm
DESCRIPTION:
URL:https://www.leuragolfclub.com.au/event/trivia-7pm-2/2024-10-24/
CATEGORIES:LGC Function
END:VEVENT
BEGIN:VEVENT
DTSTART;VALUE=DATE:20241023
DTEND;VALUE=DATE:20241024
DTSTAMP:20260421T153642
CREATED:20240101T015835Z
LAST-MODIFIED:20240101T015835Z
UID:10004121-1729670400-1729702800@www.leuragolfclub.com.au
SUMMARY:Medley Stableford Singles
DESCRIPTION:
URL:https://www.leuragolfclub.com.au/event/medley-stableford-singles-12/2024-10-23/
CATEGORIES:Wednesday Medley Comp
END:VEVENT
BEGIN:VEVENT
DTSTART;VALUE=DATE:20241022
DTEND;VALUE=DATE:20241023
DTSTAMP:20260421T153642
CREATED:20231221T224017Z
LAST-MODIFIED:20231221T224017Z
UID:10003813-1729555200-1729641599@www.leuragolfclub.com.au
SUMMARY:9 Hole Comp
DESCRIPTION:Women’s 9 hole comp in the morning and social play at other times.
URL:https://www.leuragolfclub.com.au/event/9-hole-comp-2/2024-10-22/
CATEGORIES:Tuesday Comp
END:VEVENT
BEGIN:VEVENT
DTSTART;TZID=Australia/Sydney:20241021T130000
DTEND;TZID=Australia/Sydney:20241021T150000
DTSTAMP:20260421T153642
CREATED:20240806T005339Z
LAST-MODIFIED:20240806T005631Z
UID:10004195-1729515600-1729522800@www.leuragolfclub.com.au
SUMMARY:Women's Golf Beginner Clinic
DESCRIPTION:The program will involve clinics with 12 weekly lessons for up to 8 women at a time at a cost of $300 for the course. Each of the clinics will be held between 1pm and 3pm on Mondays. The Club will provide participants with golf clubs. The program will start on Monday September 16. \nThese clinics will cover\, among others: \n\nan introduction to golf course terminology and equipment;\ngolf etiquette and rules;\nthe scoring system;\ngrip and stance;\nputting;\nchipping and pitching;\nan overview of the full swing; and\,\nthe range of clubs for use in different situations.\n\nLGC’s golf professional\, Natasha Hemms\, will conduct the clinics which are designed for beginner golfers with little or no playing experience but some interest in taking up the game.
URL:https://www.leuragolfclub.com.au/event/womens-beginner-clinic/2024-10-21/
CATEGORIES:Other
END:VEVENT
BEGIN:VEVENT
DTSTART;VALUE=DATE:20241019
DTEND;VALUE=DATE:20241020
DTSTAMP:20260421T153642
CREATED:20240101T023303Z
LAST-MODIFIED:20240101T023303Z
UID:10004143-1729296000-1729382399@www.leuragolfclub.com.au
SUMMARY:Medley Par
DESCRIPTION:
URL:https://www.leuragolfclub.com.au/event/medley-par-5/
CATEGORIES:Saturday Medley Comp
END:VEVENT
BEGIN:VEVENT
DTSTART;VALUE=DATE:20241018
DTEND;VALUE=DATE:20241019
DTSTAMP:20260421T153642
CREATED:20240803T071108Z
LAST-MODIFIED:20240924T063059Z
UID:10004189-1729209600-1729295999@www.leuragolfclub.com.au
SUMMARY:Emergency Services Cup
DESCRIPTION:3 Player Ambrose – 2 must have GA handicap\n7.30 Breakfast\n8.30 Shotgun Start\nBuffet Lunch\nSilent Auction \nBook via Proshop 4785 0035  proshop@leuragolfclub.com.au
URL:https://www.leuragolfclub.com.au/event/fairmont-essential-services-charity-golf-day/
CATEGORIES:LGC Major Events
END:VEVENT
BEGIN:VEVENT
DTSTART;TZID=Australia/Sydney:20241017T100000
DTEND;TZID=Australia/Sydney:20241017T110000
DTSTAMP:20260421T153642
CREATED:20241002T005804Z
LAST-MODIFIED:20241002T010657Z
UID:10004240-1729159200-1729162800@www.leuragolfclub.com.au
SUMMARY:Women's Golf Beginner Clinic
DESCRIPTION:The program will involve clinics with 10 weekly lessons for up to 8 women at a time at a cost of $300 for the course. Each of the clinics will be held between 10am and 11am on Thursdays. The Club will provide participants with golf clubs. The program will start on Thursday October 10. \nThese clinics will cover\, among others: \n\nan introduction to golf course terminology and equipment;\ngolf etiquette and rules;\nthe scoring system;\ngrip and stance;\nputting;\nchipping and pitching;\nan overview of the full swing; and\,\nthe range of clubs for use in different situations.\n\nLGC’s golf professional\, Natasha Hemms\, will conduct the clinics which are designed for beginner golfers with little or no playing experience but some interest in taking up the game.
URL:https://www.leuragolfclub.com.au/event/womens-golf-beginner-clinic-2/2024-10-17/
CATEGORIES:Other
END:VEVENT
BEGIN:VEVENT
DTSTART;VALUE=DATE:20241017
DTEND;VALUE=DATE:20241018
DTSTAMP:20260421T153642
CREATED:20231231T235317Z
LAST-MODIFIED:20240102T001129Z
UID:10003982-1729123200-1729209599@www.leuragolfclub.com.au
SUMMARY:Trivia @ 7pm
DESCRIPTION:
URL:https://www.leuragolfclub.com.au/event/trivia-7pm-2/2024-10-17/
CATEGORIES:LGC Function
END:VEVENT
BEGIN:VEVENT
DTSTART;VALUE=DATE:20241016
DTEND;VALUE=DATE:20241017
DTSTAMP:20260421T153642
CREATED:20240101T015310Z
LAST-MODIFIED:20240101T015310Z
UID:10004114-1729065600-1729098000@www.leuragolfclub.com.au
SUMMARY:2 Player Ambrose
DESCRIPTION:
URL:https://www.leuragolfclub.com.au/event/2-player-ambrose/2024-10-16/
CATEGORIES:Wednesday Medley Comp
END:VEVENT
BEGIN:VEVENT
DTSTART;VALUE=DATE:20241015
DTEND;VALUE=DATE:20241016
DTSTAMP:20260421T153642
CREATED:20231221T224017Z
LAST-MODIFIED:20231221T224017Z
UID:10003812-1728950400-1729036799@www.leuragolfclub.com.au
SUMMARY:9 Hole Comp
DESCRIPTION:Women’s 9 hole comp in the morning and social play at other times.
URL:https://www.leuragolfclub.com.au/event/9-hole-comp-2/2024-10-15/
CATEGORIES:Tuesday Comp
END:VEVENT
END:VCALENDAR