BEGIN:VCALENDAR
VERSION:2.0
PRODID:-//Leura Golf Club - ECPv6.13.2.1//NONSGML v1.0//EN
CALSCALE:GREGORIAN
METHOD:PUBLISH
X-WR-CALNAME:Leura Golf Club
X-ORIGINAL-URL:https://www.leuragolfclub.com.au
X-WR-CALDESC:Events for Leura Golf Club
REFRESH-INTERVAL;VALUE=DURATION:PT1H
X-Robots-Tag:noindex
X-PUBLISHED-TTL:PT1H
BEGIN:VTIMEZONE
TZID:Australia/Sydney
BEGIN:STANDARD
TZOFFSETFROM:+1100
TZOFFSETTO:+1000
TZNAME:AEST
DTSTART:20250405T160000
END:STANDARD
BEGIN:DAYLIGHT
TZOFFSETFROM:+1000
TZOFFSETTO:+1100
TZNAME:AEDT
DTSTART:20251004T160000
END:DAYLIGHT
END:VTIMEZONE
BEGIN:VTIMEZONE
TZID:Australia/Melbourne
BEGIN:STANDARD
TZOFFSETFROM:+1100
TZOFFSETTO:+1000
TZNAME:AEST
DTSTART:20250405T160000
END:STANDARD
BEGIN:DAYLIGHT
TZOFFSETFROM:+1000
TZOFFSETTO:+1100
TZNAME:AEDT
DTSTART:20251004T160000
END:DAYLIGHT
END:VTIMEZONE
BEGIN:VEVENT
DTSTART;VALUE=DATE:20250214
DTEND;VALUE=DATE:20250215
DTSTAMP:20260420T170158
CREATED:20241102T013422Z
LAST-MODIFIED:20250202T051304Z
UID:10004648-1739520000-1739552400@www.leuragolfclub.com.au
SUMMARY:9 & Dine
DESCRIPTION:9 & Dine\n\n9 & Dine will be a once a month event\nGolf rules as per Twilight 9\nPlayers will pay $20 for the game or a $50 package for game plus dinner. Larger cash prizes and vouchers will be offered for the 9-hole competition\nNon-players are encouraged to participate in the dinner for $30\nBook via Proshop  4710 9784  proshop@leuragolfclub.com.au\n\nSocial Members and beginners are welcome and will be allocated a handicap of 36 for men and 45 for women. \nThis provides an opportunity for non-golfers to learn and experience our beloved game and hopefully get hooked on it like the rest of we golf tragics. \nWe encourage players to stay on for a drink\, presentation of prizes and dinner in the Bistro after your game.
URL:https://www.leuragolfclub.com.au/event/twilight-9-2/2025-02-14/
CATEGORIES:Twilight 9 Comp
END:VEVENT
BEGIN:VEVENT
DTSTART;VALUE=DATE:20250214
DTEND;VALUE=DATE:20250215
DTSTAMP:20260420T170158
CREATED:20241102T012231Z
LAST-MODIFIED:20241105T003330Z
UID:10004259-1739491200-1739577599@www.leuragolfclub.com.au
SUMMARY:Twilight 9
DESCRIPTION:Social Members and beginners are welcome and will be allocated a handicap of 36 for men and 45 for women. This provides an opportunity for non-golfers to learn and experience our beloved game and hopefully get hooked on it like the rest of we golf tragics. \nWe encourage players to stay on for a drink\, presentation of prizes and dinner in the Bistro after your game. \nConditions of Play \n\nTee off from 10:00am\, playing from white markers for men and red markers for women.\nFee is $10 per player.\nCompetition will be played over 9 holes alternating week about.\n\nFront 9 – 1st to 9th\nBack 9 – 1st then 11th to 18th.\n\n\nCompetition will be conducted using the Stroke scoring system.\nA mercy rule will apply – once a player has had three shots over par on any hole\, pick up your ball and record the score for that hole as three over. Move on to the next hole.\nHandicaps for both 9’s will be half your current daily GA handicap.\nOfficial rules of golf apply.\nAll prizes are added to members’ cards\, visitors will be given vouchers.
URL:https://www.leuragolfclub.com.au/event/twilight-9/2025-02-14/
CATEGORIES:Twilight 9 Comp
END:VEVENT
BEGIN:VEVENT
DTSTART;VALUE=DATE:20250213
DTEND;VALUE=DATE:20250214
DTSTAMP:20260420T170158
CREATED:20250110T000319Z
LAST-MODIFIED:20250110T000422Z
UID:10004602-1739404800-1739491199@www.leuragolfclub.com.au
SUMMARY:Trivia @ 7pm
DESCRIPTION:When: Every Thursday\, questions begin at 7 pm\nEntry Fee: Only $2 per player\nPrizes: Get ready to win delightful prizes including wine\, club vouchers\, and delicious chocolates.\n\nDon’t miss out on the action! Our bistro opens at 5:30 pm\, perfect for grabbing a bite before the trivia starts. Create your own table with friends and family\, and make it a night to remember. Whether you’re a trivia buff or just looking for a lively evening out\, there’s something for everyone.
URL:https://www.leuragolfclub.com.au/event/trivia-7pm-3/2025-02-13/
CATEGORIES:LGC Function
END:VEVENT
BEGIN:VEVENT
DTSTART;VALUE=DATE:20250212
DTEND;VALUE=DATE:20250213
DTSTAMP:20260420T170158
CREATED:20241114T042434Z
LAST-MODIFIED:20241114T042434Z
UID:10004379-1739318400-1739404799@www.leuragolfclub.com.au
SUMMARY:Stableford Singles + 2BBB
DESCRIPTION:
URL:https://www.leuragolfclub.com.au/event/stableford-singles-2bbb-7/2025-02-12/
CATEGORIES:Wednesday Medley Comp
END:VEVENT
BEGIN:VEVENT
DTSTART;VALUE=DATE:20250211
DTEND;VALUE=DATE:20250212
DTSTAMP:20260420T170158
CREATED:20241116T010535Z
LAST-MODIFIED:20241116T010734Z
UID:10004517-1739232000-1739318399@www.leuragolfclub.com.au
SUMMARY:Women's 9 Hole Stableford
DESCRIPTION:
URL:https://www.leuragolfclub.com.au/event/womens-9-hole-stableford/2025-02-11/
CATEGORIES:Tuesday Comp
END:VEVENT
BEGIN:VEVENT
DTSTART;VALUE=DATE:20250209
DTEND;VALUE=DATE:20250210
DTSTAMP:20260420T170158
CREATED:20241105T011357Z
LAST-MODIFIED:20241116T005357Z
UID:10004280-1739059200-1739145599@www.leuragolfclub.com.au
SUMMARY:Men's Pennants @ W/Falls
DESCRIPTION:
URL:https://www.leuragolfclub.com.au/event/pennants-w-falls-3/
CATEGORIES:BM District Event
END:VEVENT
BEGIN:VEVENT
DTSTART;VALUE=DATE:20250208
DTEND;VALUE=DATE:20250209
DTSTAMP:20260420T170158
CREATED:20241108T053925Z
LAST-MODIFIED:20250108T004420Z
UID:10004593-1738972800-1739059199@www.leuragolfclub.com.au
SUMMARY:Par Singles + 2BBB
DESCRIPTION:
URL:https://www.leuragolfclub.com.au/event/par-singles-2bbb-5/2025-02-08/
CATEGORIES:Saturday Medley Comp
END:VEVENT
BEGIN:VEVENT
DTSTART;TZID=Australia/Sydney:20250207T180000
DTEND;TZID=Australia/Sydney:20250207T190000
DTSTAMP:20260420T170158
CREATED:20241211T064332Z
LAST-MODIFIED:20241211T064332Z
UID:10004567-1738951200-1738954800@www.leuragolfclub.com.au
SUMMARY:Twilight Golf Clinic
DESCRIPTION:
URL:https://www.leuragolfclub.com.au/event/twilight-golf-clinic/2025-02-07/
CATEGORIES:Other
END:VEVENT
BEGIN:VEVENT
DTSTART;VALUE=DATE:20250207
DTEND;VALUE=DATE:20250208
DTSTAMP:20260420T170158
CREATED:20241102T012231Z
LAST-MODIFIED:20241105T003330Z
UID:10004258-1738886400-1738972799@www.leuragolfclub.com.au
SUMMARY:Twilight 9
DESCRIPTION:Social Members and beginners are welcome and will be allocated a handicap of 36 for men and 45 for women. This provides an opportunity for non-golfers to learn and experience our beloved game and hopefully get hooked on it like the rest of we golf tragics. \nWe encourage players to stay on for a drink\, presentation of prizes and dinner in the Bistro after your game. \nConditions of Play \n\nTee off from 10:00am\, playing from white markers for men and red markers for women.\nFee is $10 per player.\nCompetition will be played over 9 holes alternating week about.\n\nFront 9 – 1st to 9th\nBack 9 – 1st then 11th to 18th.\n\n\nCompetition will be conducted using the Stroke scoring system.\nA mercy rule will apply – once a player has had three shots over par on any hole\, pick up your ball and record the score for that hole as three over. Move on to the next hole.\nHandicaps for both 9’s will be half your current daily GA handicap.\nOfficial rules of golf apply.\nAll prizes are added to members’ cards\, visitors will be given vouchers.
URL:https://www.leuragolfclub.com.au/event/twilight-9/2025-02-07/
CATEGORIES:Twilight 9 Comp
END:VEVENT
BEGIN:VEVENT
DTSTART;VALUE=DATE:20250206
DTEND;VALUE=DATE:20250207
DTSTAMP:20260420T170158
CREATED:20250110T000319Z
LAST-MODIFIED:20250110T000422Z
UID:10004601-1738800000-1738886399@www.leuragolfclub.com.au
SUMMARY:Trivia @ 7pm
DESCRIPTION:When: Every Thursday\, questions begin at 7 pm\nEntry Fee: Only $2 per player\nPrizes: Get ready to win delightful prizes including wine\, club vouchers\, and delicious chocolates.\n\nDon’t miss out on the action! Our bistro opens at 5:30 pm\, perfect for grabbing a bite before the trivia starts. Create your own table with friends and family\, and make it a night to remember. Whether you’re a trivia buff or just looking for a lively evening out\, there’s something for everyone.
URL:https://www.leuragolfclub.com.au/event/trivia-7pm-3/2025-02-06/
CATEGORIES:LGC Function
END:VEVENT
BEGIN:VEVENT
DTSTART;VALUE=DATE:20250205
DTEND;VALUE=DATE:20250206
DTSTAMP:20260420T170158
CREATED:20241114T041757Z
LAST-MODIFIED:20241114T041757Z
UID:10004372-1738713600-1738799999@www.leuragolfclub.com.au
SUMMARY:Stableford Singles + 2BBB
DESCRIPTION:
URL:https://www.leuragolfclub.com.au/event/stableford-singles-2bbb-6/2025-02-05/
CATEGORIES:Wednesday Medley Comp
END:VEVENT
BEGIN:VEVENT
DTSTART;VALUE=DATE:20250204
DTEND;VALUE=DATE:20250205
DTSTAMP:20260420T170158
CREATED:20241116T010239Z
LAST-MODIFIED:20241116T010239Z
UID:10004507-1738627200-1738713599@www.leuragolfclub.com.au
SUMMARY:Women's Monthly Medal - 18 hole stroke
DESCRIPTION:
URL:https://www.leuragolfclub.com.au/event/womens-monthly-medal-18-hole-stroke/2025-02-04/
CATEGORIES:Tuesday Comp
END:VEVENT
BEGIN:VEVENT
DTSTART;VALUE=DATE:20250202
DTEND;VALUE=DATE:20250203
DTSTAMP:20260420T170158
CREATED:20241105T011302Z
LAST-MODIFIED:20241116T005347Z
UID:10004279-1738454400-1738540799@www.leuragolfclub.com.au
SUMMARY:Men's Pennants @ Lithgow
DESCRIPTION:
URL:https://www.leuragolfclub.com.au/event/pennants-lithgow-3/
CATEGORIES:BM District Event
END:VEVENT
BEGIN:VEVENT
DTSTART;VALUE=DATE:20250201
DTEND;VALUE=DATE:20250202
DTSTAMP:20260420T170158
CREATED:20250108T003718Z
LAST-MODIFIED:20250108T003718Z
UID:10004422-1738368000-1738454399@www.leuragolfclub.com.au
SUMMARY:Stableford Singles - white tees
DESCRIPTION:
URL:https://www.leuragolfclub.com.au/event/stableford-singles-white-tees-4/2025-02-01/
CATEGORIES:Saturday Medley Comp
END:VEVENT
BEGIN:VEVENT
DTSTART;VALUE=DATE:20250201
DTEND;VALUE=DATE:20250202
DTSTAMP:20260420T170158
CREATED:20241112T044012Z
LAST-MODIFIED:20250108T003816Z
UID:10004579-1738368000-1738454399@www.leuragolfclub.com.au
SUMMARY:Men's Monthly Medal + Medley Stroke
DESCRIPTION:
URL:https://www.leuragolfclub.com.au/event/mens-monthly-medal-medley-stroke-10/2025-02-01/
CATEGORIES:Saturday Medley Comp
END:VEVENT
BEGIN:VEVENT
DTSTART;VALUE=DATE:20250131
DTEND;VALUE=DATE:20250201
DTSTAMP:20260420T170158
CREATED:20241102T012231Z
LAST-MODIFIED:20241105T003330Z
UID:10004257-1738281600-1738367999@www.leuragolfclub.com.au
SUMMARY:Twilight 9
DESCRIPTION:Social Members and beginners are welcome and will be allocated a handicap of 36 for men and 45 for women. This provides an opportunity for non-golfers to learn and experience our beloved game and hopefully get hooked on it like the rest of we golf tragics. \nWe encourage players to stay on for a drink\, presentation of prizes and dinner in the Bistro after your game. \nConditions of Play \n\nTee off from 10:00am\, playing from white markers for men and red markers for women.\nFee is $10 per player.\nCompetition will be played over 9 holes alternating week about.\n\nFront 9 – 1st to 9th\nBack 9 – 1st then 11th to 18th.\n\n\nCompetition will be conducted using the Stroke scoring system.\nA mercy rule will apply – once a player has had three shots over par on any hole\, pick up your ball and record the score for that hole as three over. Move on to the next hole.\nHandicaps for both 9’s will be half your current daily GA handicap.\nOfficial rules of golf apply.\nAll prizes are added to members’ cards\, visitors will be given vouchers.
URL:https://www.leuragolfclub.com.au/event/twilight-9/2025-01-31/
CATEGORIES:Twilight 9 Comp
END:VEVENT
BEGIN:VEVENT
DTSTART;VALUE=DATE:20250130
DTEND;VALUE=DATE:20250131
DTSTAMP:20260420T170158
CREATED:20250110T000319Z
LAST-MODIFIED:20250110T000422Z
UID:10004600-1738195200-1738281599@www.leuragolfclub.com.au
SUMMARY:Trivia @ 7pm
DESCRIPTION:When: Every Thursday\, questions begin at 7 pm\nEntry Fee: Only $2 per player\nPrizes: Get ready to win delightful prizes including wine\, club vouchers\, and delicious chocolates.\n\nDon’t miss out on the action! Our bistro opens at 5:30 pm\, perfect for grabbing a bite before the trivia starts. Create your own table with friends and family\, and make it a night to remember. Whether you’re a trivia buff or just looking for a lively evening out\, there’s something for everyone.
URL:https://www.leuragolfclub.com.au/event/trivia-7pm-3/2025-01-30/
CATEGORIES:LGC Function
END:VEVENT
BEGIN:VEVENT
DTSTART;VALUE=DATE:20250129
DTEND;VALUE=DATE:20250130
DTSTAMP:20260420T170158
CREATED:20241115T030550Z
LAST-MODIFIED:20250101T041140Z
UID:10004464-1738108800-1738195199@www.leuragolfclub.com.au
SUMMARY:Stableford singles + 2BBB
DESCRIPTION:
URL:https://www.leuragolfclub.com.au/event/stableford-singles-2bbb-15/
CATEGORIES:Wednesday Medley Comp
END:VEVENT
BEGIN:VEVENT
DTSTART;TZID=Australia/Sydney:20250127T180000
DTEND;TZID=Australia/Sydney:20250127T190000
DTSTAMP:20260420T170158
CREATED:20241211T064332Z
LAST-MODIFIED:20241211T064332Z
UID:10004566-1738000800-1738004400@www.leuragolfclub.com.au
SUMMARY:Twilight Golf Clinic
DESCRIPTION:
URL:https://www.leuragolfclub.com.au/event/twilight-golf-clinic/2025-01-27/
CATEGORIES:Other
END:VEVENT
BEGIN:VEVENT
DTSTART;VALUE=DATE:20250126
DTEND;VALUE=DATE:20250127
DTSTAMP:20260420T170158
CREATED:20231221T211923Z
LAST-MODIFIED:20231231T005108Z
UID:10003657-1737849600-1737935999@www.leuragolfclub.com.au
SUMMARY:Australia Day
DESCRIPTION:
URL:https://www.leuragolfclub.com.au/event/australia-day-2/2025-01-26/
CATEGORIES:Holidays
END:VEVENT
BEGIN:VEVENT
DTSTART;VALUE=DATE:20250125
DTEND;VALUE=DATE:20250126
DTSTAMP:20260420T170158
CREATED:20241115T025420Z
LAST-MODIFIED:20241115T025932Z
UID:10004451-1737763200-1737849599@www.leuragolfclub.com.au
SUMMARY:Stableford Singles + 2BBB
DESCRIPTION:
URL:https://www.leuragolfclub.com.au/event/stableford-singles-2bbb-10/2025-01-25/
CATEGORIES:Saturday Medley Comp
END:VEVENT
BEGIN:VEVENT
DTSTART;VALUE=DATE:20250124
DTEND;VALUE=DATE:20250125
DTSTAMP:20260420T170158
CREATED:20241102T012231Z
LAST-MODIFIED:20241105T003330Z
UID:10004256-1737676800-1737763199@www.leuragolfclub.com.au
SUMMARY:Twilight 9
DESCRIPTION:Social Members and beginners are welcome and will be allocated a handicap of 36 for men and 45 for women. This provides an opportunity for non-golfers to learn and experience our beloved game and hopefully get hooked on it like the rest of we golf tragics. \nWe encourage players to stay on for a drink\, presentation of prizes and dinner in the Bistro after your game. \nConditions of Play \n\nTee off from 10:00am\, playing from white markers for men and red markers for women.\nFee is $10 per player.\nCompetition will be played over 9 holes alternating week about.\n\nFront 9 – 1st to 9th\nBack 9 – 1st then 11th to 18th.\n\n\nCompetition will be conducted using the Stroke scoring system.\nA mercy rule will apply – once a player has had three shots over par on any hole\, pick up your ball and record the score for that hole as three over. Move on to the next hole.\nHandicaps for both 9’s will be half your current daily GA handicap.\nOfficial rules of golf apply.\nAll prizes are added to members’ cards\, visitors will be given vouchers.
URL:https://www.leuragolfclub.com.au/event/twilight-9/2025-01-24/
CATEGORIES:Twilight 9 Comp
END:VEVENT
BEGIN:VEVENT
DTSTART;TZID=Australia/Sydney:20250123T100000
DTEND;TZID=Australia/Sydney:20250123T120000
DTSTAMP:20260420T170158
CREATED:20241201T012340Z
LAST-MODIFIED:20241201T012340Z
UID:10004563-1737626400-1737633600@www.leuragolfclub.com.au
SUMMARY:Junior Golf Clinic
DESCRIPTION:
URL:https://www.leuragolfclub.com.au/event/junior-golf-clinic-2/2025-01-23/
END:VEVENT
BEGIN:VEVENT
DTSTART;VALUE=DATE:20250122
DTEND;VALUE=DATE:20250123
DTSTAMP:20260420T170158
CREATED:20241115T030441Z
LAST-MODIFIED:20241115T030441Z
UID:10004463-1737504000-1737590399@www.leuragolfclub.com.au
SUMMARY:Summer Medal - stroke
DESCRIPTION:
URL:https://www.leuragolfclub.com.au/event/summer-medal-stroke/
CATEGORIES:Wednesday Medley Comp
END:VEVENT
BEGIN:VEVENT
DTSTART;TZID=Australia/Sydney:20250120T180000
DTEND;TZID=Australia/Sydney:20250120T190000
DTSTAMP:20260420T170158
CREATED:20241211T064332Z
LAST-MODIFIED:20241211T064332Z
UID:10004565-1737396000-1737399600@www.leuragolfclub.com.au
SUMMARY:Twilight Golf Clinic
DESCRIPTION:
URL:https://www.leuragolfclub.com.au/event/twilight-golf-clinic/2025-01-20/
CATEGORIES:Other
END:VEVENT
BEGIN:VEVENT
DTSTART;TZID=Australia/Sydney:20250120T130000
DTEND;TZID=Australia/Sydney:20250120T150000
DTSTAMP:20260420T170158
CREATED:20241201T005610Z
LAST-MODIFIED:20241201T005610Z
UID:10004561-1737378000-1737385200@www.leuragolfclub.com.au
SUMMARY:Junior Golf Clinic
DESCRIPTION:
URL:https://www.leuragolfclub.com.au/event/junior-golf-clinic/2025-01-20/
CATEGORIES:Other
END:VEVENT
BEGIN:VEVENT
DTSTART;VALUE=DATE:20250118
DTEND;VALUE=DATE:20250119
DTSTAMP:20260420T170158
CREATED:20241115T024821Z
LAST-MODIFIED:20241115T025229Z
UID:10004443-1737158400-1737244799@www.leuragolfclub.com.au
SUMMARY:Stableford Singles + 2BBB
DESCRIPTION:
URL:https://www.leuragolfclub.com.au/event/stableford-singles-2bbb-9/2025-01-18/
CATEGORIES:Saturday Medley Comp
END:VEVENT
BEGIN:VEVENT
DTSTART;VALUE=DATE:20250117
DTEND;VALUE=DATE:20250118
DTSTAMP:20260420T170158
CREATED:20241102T013422Z
LAST-MODIFIED:20250202T051304Z
UID:10004254-1737072000-1737158399@www.leuragolfclub.com.au
SUMMARY:9 & Dine
DESCRIPTION:9 & Dine\n\n9 & Dine will be a once a month event\nGolf rules as per Twilight 9\nPlayers will pay $20 for the game or a $50 package for game plus dinner. Larger cash prizes and vouchers will be offered for the 9-hole competition\nNon-players are encouraged to participate in the dinner for $30\nBook via Proshop  4710 9784  proshop@leuragolfclub.com.au\n\nSocial Members and beginners are welcome and will be allocated a handicap of 36 for men and 45 for women. \nThis provides an opportunity for non-golfers to learn and experience our beloved game and hopefully get hooked on it like the rest of we golf tragics. \nWe encourage players to stay on for a drink\, presentation of prizes and dinner in the Bistro after your game.
URL:https://www.leuragolfclub.com.au/event/twilight-9-2/2025-01-17/
CATEGORIES:Twilight 9 Comp
END:VEVENT
BEGIN:VEVENT
DTSTART;VALUE=DATE:20250117
DTEND;VALUE=DATE:20250118
DTSTAMP:20260420T170158
CREATED:20241102T012231Z
LAST-MODIFIED:20241105T003330Z
UID:10004255-1737072000-1737158399@www.leuragolfclub.com.au
SUMMARY:Twilight 9
DESCRIPTION:Social Members and beginners are welcome and will be allocated a handicap of 36 for men and 45 for women. This provides an opportunity for non-golfers to learn and experience our beloved game and hopefully get hooked on it like the rest of we golf tragics. \nWe encourage players to stay on for a drink\, presentation of prizes and dinner in the Bistro after your game. \nConditions of Play \n\nTee off from 10:00am\, playing from white markers for men and red markers for women.\nFee is $10 per player.\nCompetition will be played over 9 holes alternating week about.\n\nFront 9 – 1st to 9th\nBack 9 – 1st then 11th to 18th.\n\n\nCompetition will be conducted using the Stroke scoring system.\nA mercy rule will apply – once a player has had three shots over par on any hole\, pick up your ball and record the score for that hole as three over. Move on to the next hole.\nHandicaps for both 9’s will be half your current daily GA handicap.\nOfficial rules of golf apply.\nAll prizes are added to members’ cards\, visitors will be given vouchers.
URL:https://www.leuragolfclub.com.au/event/twilight-9/2025-01-17/
CATEGORIES:Twilight 9 Comp
END:VEVENT
BEGIN:VEVENT
DTSTART;TZID=Australia/Sydney:20250116T100000
DTEND;TZID=Australia/Sydney:20250116T120000
DTSTAMP:20260420T170158
CREATED:20241201T012340Z
LAST-MODIFIED:20241201T012340Z
UID:10004562-1737021600-1737028800@www.leuragolfclub.com.au
SUMMARY:Junior Golf Clinic
DESCRIPTION:
URL:https://www.leuragolfclub.com.au/event/junior-golf-clinic-2/2025-01-16/
END:VEVENT
END:VCALENDAR