BEGIN:VCALENDAR
VERSION:2.0
PRODID:-//Leura Golf Club - ECPv6.13.2.1//NONSGML v1.0//EN
CALSCALE:GREGORIAN
METHOD:PUBLISH
X-WR-CALNAME:Leura Golf Club
X-ORIGINAL-URL:https://www.leuragolfclub.com.au
X-WR-CALDESC:Events for Leura Golf Club
REFRESH-INTERVAL;VALUE=DURATION:PT1H
X-Robots-Tag:noindex
X-PUBLISHED-TTL:PT1H
BEGIN:VTIMEZONE
TZID:Australia/Melbourne
BEGIN:STANDARD
TZOFFSETFROM:+1100
TZOFFSETTO:+1000
TZNAME:AEST
DTSTART:20240406T160000
END:STANDARD
BEGIN:DAYLIGHT
TZOFFSETFROM:+1000
TZOFFSETTO:+1100
TZNAME:AEDT
DTSTART:20241005T160000
END:DAYLIGHT
END:VTIMEZONE
BEGIN:VTIMEZONE
TZID:Australia/Sydney
BEGIN:STANDARD
TZOFFSETFROM:+1100
TZOFFSETTO:+1000
TZNAME:AEST
DTSTART:20240406T160000
END:STANDARD
BEGIN:DAYLIGHT
TZOFFSETFROM:+1000
TZOFFSETTO:+1100
TZNAME:AEDT
DTSTART:20241005T160000
END:DAYLIGHT
END:VTIMEZONE
BEGIN:VEVENT
DTSTART;VALUE=DATE:20241218
DTEND;VALUE=DATE:20241219
DTSTAMP:20260420T170138
CREATED:20240101T015310Z
LAST-MODIFIED:20240101T015310Z
UID:10004115-1734508800-1734541200@www.leuragolfclub.com.au
SUMMARY:2 Player Ambrose
DESCRIPTION:
URL:https://www.leuragolfclub.com.au/event/2-player-ambrose/2024-12-18/
CATEGORIES:Wednesday Medley Comp
END:VEVENT
BEGIN:VEVENT
DTSTART;VALUE=DATE:20241217
DTEND;VALUE=DATE:20241218
DTSTAMP:20260420T170138
CREATED:20231221T224017Z
LAST-MODIFIED:20231221T224017Z
UID:10003821-1734393600-1734479999@www.leuragolfclub.com.au
SUMMARY:9 Hole Comp
DESCRIPTION:Women’s 9 hole comp in the morning and social play at other times.
URL:https://www.leuragolfclub.com.au/event/9-hole-comp-2/2024-12-17/
CATEGORIES:Tuesday Comp
END:VEVENT
BEGIN:VEVENT
DTSTART;VALUE=DATE:20241214
DTEND;VALUE=DATE:20241215
DTSTAMP:20260420T170138
CREATED:20240703T064903Z
LAST-MODIFIED:20240703T064903Z
UID:10004186-1734134400-1734220799@www.leuragolfclub.com.au
SUMMARY:Medley Stableford Singles - white tees
DESCRIPTION:
URL:https://www.leuragolfclub.com.au/event/medley-stableford-singles-white-tees-11/
CATEGORIES:Saturday Medley Comp
END:VEVENT
BEGIN:VEVENT
DTSTART;VALUE=DATE:20241214
DTEND;VALUE=DATE:20241215
DTSTAMP:20260420T170138
CREATED:20240703T060451Z
LAST-MODIFIED:20240703T060451Z
UID:10004174-1734134400-1734220799@www.leuragolfclub.com.au
SUMMARY:Men’s Monthly Medal + Medley Stroke
DESCRIPTION:Visitors welcome. Visitors can win the competition but not the Medal.
URL:https://www.leuragolfclub.com.au/event/mens-monthly-medal-medley-stroke-8-2023-02-04-2-2/2024-12-14/
CATEGORIES:Saturday Medley Comp
END:VEVENT
BEGIN:VEVENT
DTSTART;VALUE=DATE:20241214
DTEND;VALUE=DATE:20241215
DTSTAMP:20260420T170138
CREATED:20240101T023743Z
LAST-MODIFIED:20240703T055726Z
UID:10004146-1734134400-1734220799@www.leuragolfclub.com.au
SUMMARY:Men's Medal of Medals
DESCRIPTION:
URL:https://www.leuragolfclub.com.au/event/mens-medal-of-medals/
CATEGORIES:LGC Major Events
END:VEVENT
BEGIN:VEVENT
DTSTART;VALUE=DATE:20241213
DTEND;VALUE=DATE:20241214
DTSTAMP:20260420T170138
CREATED:20241102T012231Z
LAST-MODIFIED:20241105T003330Z
UID:10004250-1734048000-1734134399@www.leuragolfclub.com.au
SUMMARY:Twilight 9
DESCRIPTION:Social Members and beginners are welcome and will be allocated a handicap of 36 for men and 45 for women. This provides an opportunity for non-golfers to learn and experience our beloved game and hopefully get hooked on it like the rest of we golf tragics. \nWe encourage players to stay on for a drink\, presentation of prizes and dinner in the Bistro after your game. \nConditions of Play \n\nTee off from 10:00am\, playing from white markers for men and red markers for women.\nFee is $10 per player.\nCompetition will be played over 9 holes alternating week about.\n\nFront 9 – 1st to 9th\nBack 9 – 1st then 11th to 18th.\n\n\nCompetition will be conducted using the Stroke scoring system.\nA mercy rule will apply – once a player has had three shots over par on any hole\, pick up your ball and record the score for that hole as three over. Move on to the next hole.\nHandicaps for both 9’s will be half your current daily GA handicap.\nOfficial rules of golf apply.\nAll prizes are added to members’ cards\, visitors will be given vouchers.
URL:https://www.leuragolfclub.com.au/event/twilight-9/2024-12-13/
CATEGORIES:Twilight 9 Comp
END:VEVENT
BEGIN:VEVENT
DTSTART;TZID=Australia/Sydney:20241212T100000
DTEND;TZID=Australia/Sydney:20241212T110000
DTSTAMP:20260420T170138
CREATED:20241002T005804Z
LAST-MODIFIED:20241002T010657Z
UID:10004248-1733997600-1734001200@www.leuragolfclub.com.au
SUMMARY:Women's Golf Beginner Clinic
DESCRIPTION:The program will involve clinics with 10 weekly lessons for up to 8 women at a time at a cost of $300 for the course. Each of the clinics will be held between 10am and 11am on Thursdays. The Club will provide participants with golf clubs. The program will start on Thursday October 10. \nThese clinics will cover\, among others: \n\nan introduction to golf course terminology and equipment;\ngolf etiquette and rules;\nthe scoring system;\ngrip and stance;\nputting;\nchipping and pitching;\nan overview of the full swing; and\,\nthe range of clubs for use in different situations.\n\nLGC’s golf professional\, Natasha Hemms\, will conduct the clinics which are designed for beginner golfers with little or no playing experience but some interest in taking up the game.
URL:https://www.leuragolfclub.com.au/event/womens-golf-beginner-clinic-2/2024-12-12/
CATEGORIES:Other
END:VEVENT
BEGIN:VEVENT
DTSTART;VALUE=DATE:20241212
DTEND;VALUE=DATE:20241213
DTSTAMP:20260420T170138
CREATED:20231231T235317Z
LAST-MODIFIED:20240102T001129Z
UID:10003990-1733961600-1734047999@www.leuragolfclub.com.au
SUMMARY:Trivia @ 7pm
DESCRIPTION:
URL:https://www.leuragolfclub.com.au/event/trivia-7pm-2/2024-12-12/
CATEGORIES:LGC Function
END:VEVENT
BEGIN:VEVENT
DTSTART;VALUE=DATE:20241211
DTEND;VALUE=DATE:20241212
DTSTAMP:20260420T170138
CREATED:20240101T015835Z
LAST-MODIFIED:20240101T015835Z
UID:10004124-1733904000-1733936400@www.leuragolfclub.com.au
SUMMARY:Medley Stableford Singles
DESCRIPTION:
URL:https://www.leuragolfclub.com.au/event/medley-stableford-singles-12/2024-12-11/
CATEGORIES:Wednesday Medley Comp
END:VEVENT
BEGIN:VEVENT
DTSTART;VALUE=DATE:20241210
DTEND;VALUE=DATE:20241211
DTSTAMP:20260420T170138
CREATED:20231221T224017Z
LAST-MODIFIED:20231221T224017Z
UID:10003820-1733788800-1733875199@www.leuragolfclub.com.au
SUMMARY:9 Hole Comp
DESCRIPTION:Women’s 9 hole comp in the morning and social play at other times.
URL:https://www.leuragolfclub.com.au/event/9-hole-comp-2/2024-12-10/
CATEGORIES:Tuesday Comp
END:VEVENT
BEGIN:VEVENT
DTSTART;VALUE=DATE:20241207
DTEND;VALUE=DATE:20241208
DTSTAMP:20260420T170138
CREATED:20240703T064719Z
LAST-MODIFIED:20240703T064736Z
UID:10004130-1733529600-1733615999@www.leuragolfclub.com.au
SUMMARY:Medley Stableford + 2BBB
DESCRIPTION:
URL:https://www.leuragolfclub.com.au/event/medley-stableford-2bbb-8/
CATEGORIES:Saturday Medley Comp
END:VEVENT
BEGIN:VEVENT
DTSTART;VALUE=DATE:20241206
DTEND;VALUE=DATE:20241207
DTSTAMP:20260420T170138
CREATED:20241102T012231Z
LAST-MODIFIED:20241105T003330Z
UID:10004249-1733443200-1733529599@www.leuragolfclub.com.au
SUMMARY:Twilight 9
DESCRIPTION:Social Members and beginners are welcome and will be allocated a handicap of 36 for men and 45 for women. This provides an opportunity for non-golfers to learn and experience our beloved game and hopefully get hooked on it like the rest of we golf tragics. \nWe encourage players to stay on for a drink\, presentation of prizes and dinner in the Bistro after your game. \nConditions of Play \n\nTee off from 10:00am\, playing from white markers for men and red markers for women.\nFee is $10 per player.\nCompetition will be played over 9 holes alternating week about.\n\nFront 9 – 1st to 9th\nBack 9 – 1st then 11th to 18th.\n\n\nCompetition will be conducted using the Stroke scoring system.\nA mercy rule will apply – once a player has had three shots over par on any hole\, pick up your ball and record the score for that hole as three over. Move on to the next hole.\nHandicaps for both 9’s will be half your current daily GA handicap.\nOfficial rules of golf apply.\nAll prizes are added to members’ cards\, visitors will be given vouchers.
URL:https://www.leuragolfclub.com.au/event/twilight-9/2024-12-06/
CATEGORIES:Twilight 9 Comp
END:VEVENT
BEGIN:VEVENT
DTSTART;TZID=Australia/Sydney:20241205T100000
DTEND;TZID=Australia/Sydney:20241205T110000
DTSTAMP:20260420T170138
CREATED:20241002T005804Z
LAST-MODIFIED:20241002T010657Z
UID:10004247-1733392800-1733396400@www.leuragolfclub.com.au
SUMMARY:Women's Golf Beginner Clinic
DESCRIPTION:The program will involve clinics with 10 weekly lessons for up to 8 women at a time at a cost of $300 for the course. Each of the clinics will be held between 10am and 11am on Thursdays. The Club will provide participants with golf clubs. The program will start on Thursday October 10. \nThese clinics will cover\, among others: \n\nan introduction to golf course terminology and equipment;\ngolf etiquette and rules;\nthe scoring system;\ngrip and stance;\nputting;\nchipping and pitching;\nan overview of the full swing; and\,\nthe range of clubs for use in different situations.\n\nLGC’s golf professional\, Natasha Hemms\, will conduct the clinics which are designed for beginner golfers with little or no playing experience but some interest in taking up the game.
URL:https://www.leuragolfclub.com.au/event/womens-golf-beginner-clinic-2/2024-12-05/
CATEGORIES:Other
END:VEVENT
BEGIN:VEVENT
DTSTART;VALUE=DATE:20241205
DTEND;VALUE=DATE:20241206
DTSTAMP:20260420T170138
CREATED:20231231T235317Z
LAST-MODIFIED:20240102T001129Z
UID:10003989-1733356800-1733443199@www.leuragolfclub.com.au
SUMMARY:Trivia @ 7pm
DESCRIPTION:
URL:https://www.leuragolfclub.com.au/event/trivia-7pm-2/2024-12-05/
CATEGORIES:LGC Function
END:VEVENT
BEGIN:VEVENT
DTSTART;VALUE=DATE:20241204
DTEND;VALUE=DATE:20241205
DTSTAMP:20260420T170138
CREATED:20240101T020524Z
LAST-MODIFIED:20240101T021128Z
UID:10004134-1733299200-1733331600@www.leuragolfclub.com.au
SUMMARY:Medley Stableford + 2BBB
DESCRIPTION:
URL:https://www.leuragolfclub.com.au/event/medley-stableford-2bbb-4/2024-12-04/
CATEGORIES:Wednesday Medley Comp
END:VEVENT
BEGIN:VEVENT
DTSTART;VALUE=DATE:20241203
DTEND;VALUE=DATE:20241204
DTSTAMP:20260420T170138
CREATED:20231221T224017Z
LAST-MODIFIED:20231221T224017Z
UID:10003819-1733184000-1733270399@www.leuragolfclub.com.au
SUMMARY:9 Hole Comp
DESCRIPTION:Women’s 9 hole comp in the morning and social play at other times.
URL:https://www.leuragolfclub.com.au/event/9-hole-comp-2/2024-12-03/
CATEGORIES:Tuesday Comp
END:VEVENT
BEGIN:VEVENT
DTSTART;TZID=Australia/Sydney:20241202T130000
DTEND;TZID=Australia/Sydney:20241202T150000
DTSTAMP:20260420T170138
CREATED:20240806T005339Z
LAST-MODIFIED:20240806T005631Z
UID:10004201-1733144400-1733151600@www.leuragolfclub.com.au
SUMMARY:Women's Golf Beginner Clinic
DESCRIPTION:The program will involve clinics with 12 weekly lessons for up to 8 women at a time at a cost of $300 for the course. Each of the clinics will be held between 1pm and 3pm on Mondays. The Club will provide participants with golf clubs. The program will start on Monday September 16. \nThese clinics will cover\, among others: \n\nan introduction to golf course terminology and equipment;\ngolf etiquette and rules;\nthe scoring system;\ngrip and stance;\nputting;\nchipping and pitching;\nan overview of the full swing; and\,\nthe range of clubs for use in different situations.\n\nLGC’s golf professional\, Natasha Hemms\, will conduct the clinics which are designed for beginner golfers with little or no playing experience but some interest in taking up the game.
URL:https://www.leuragolfclub.com.au/event/womens-beginner-clinic/2024-12-02/
CATEGORIES:Other
END:VEVENT
BEGIN:VEVENT
DTSTART;VALUE=DATE:20241130
DTEND;VALUE=DATE:20241201
DTSTAMP:20260420T170138
CREATED:20240101T020116Z
LAST-MODIFIED:20240101T020116Z
UID:10004129-1732953600-1732986000@www.leuragolfclub.com.au
SUMMARY:Medley Stableford + 2BBB
DESCRIPTION:
URL:https://www.leuragolfclub.com.au/event/medley-stableford-2bbb-3/2024-11-30/
CATEGORIES:Saturday Medley Comp
END:VEVENT
BEGIN:VEVENT
DTSTART;TZID=Australia/Sydney:20241128T100000
DTEND;TZID=Australia/Sydney:20241128T110000
DTSTAMP:20260420T170138
CREATED:20241002T005804Z
LAST-MODIFIED:20241002T010657Z
UID:10004246-1732788000-1732791600@www.leuragolfclub.com.au
SUMMARY:Women's Golf Beginner Clinic
DESCRIPTION:The program will involve clinics with 10 weekly lessons for up to 8 women at a time at a cost of $300 for the course. Each of the clinics will be held between 10am and 11am on Thursdays. The Club will provide participants with golf clubs. The program will start on Thursday October 10. \nThese clinics will cover\, among others: \n\nan introduction to golf course terminology and equipment;\ngolf etiquette and rules;\nthe scoring system;\ngrip and stance;\nputting;\nchipping and pitching;\nan overview of the full swing; and\,\nthe range of clubs for use in different situations.\n\nLGC’s golf professional\, Natasha Hemms\, will conduct the clinics which are designed for beginner golfers with little or no playing experience but some interest in taking up the game.
URL:https://www.leuragolfclub.com.au/event/womens-golf-beginner-clinic-2/2024-11-28/
CATEGORIES:Other
END:VEVENT
BEGIN:VEVENT
DTSTART;VALUE=DATE:20241128
DTEND;VALUE=DATE:20241129
DTSTAMP:20260420T170138
CREATED:20231231T235317Z
LAST-MODIFIED:20240102T001129Z
UID:10003988-1732752000-1732838399@www.leuragolfclub.com.au
SUMMARY:Trivia @ 7pm
DESCRIPTION:
URL:https://www.leuragolfclub.com.au/event/trivia-7pm-2/2024-11-28/
CATEGORIES:LGC Function
END:VEVENT
BEGIN:VEVENT
DTSTART;VALUE=DATE:20241127
DTEND;VALUE=DATE:20241128
DTSTAMP:20260420T170138
CREATED:20240101T015835Z
LAST-MODIFIED:20240101T015835Z
UID:10004123-1732694400-1732726800@www.leuragolfclub.com.au
SUMMARY:Medley Stableford Singles
DESCRIPTION:
URL:https://www.leuragolfclub.com.au/event/medley-stableford-singles-12/2024-11-27/
CATEGORIES:Wednesday Medley Comp
END:VEVENT
BEGIN:VEVENT
DTSTART;VALUE=DATE:20241126
DTEND;VALUE=DATE:20241127
DTSTAMP:20260420T170138
CREATED:20231221T224017Z
LAST-MODIFIED:20231221T224017Z
UID:10003818-1732579200-1732665599@www.leuragolfclub.com.au
SUMMARY:9 Hole Comp
DESCRIPTION:Women’s 9 hole comp in the morning and social play at other times.
URL:https://www.leuragolfclub.com.au/event/9-hole-comp-2/2024-11-26/
CATEGORIES:Tuesday Comp
END:VEVENT
BEGIN:VEVENT
DTSTART;TZID=Australia/Sydney:20241125T130000
DTEND;TZID=Australia/Sydney:20241125T150000
DTSTAMP:20260420T170138
CREATED:20240806T005339Z
LAST-MODIFIED:20240806T005631Z
UID:10004200-1732539600-1732546800@www.leuragolfclub.com.au
SUMMARY:Women's Golf Beginner Clinic
DESCRIPTION:The program will involve clinics with 12 weekly lessons for up to 8 women at a time at a cost of $300 for the course. Each of the clinics will be held between 1pm and 3pm on Mondays. The Club will provide participants with golf clubs. The program will start on Monday September 16. \nThese clinics will cover\, among others: \n\nan introduction to golf course terminology and equipment;\ngolf etiquette and rules;\nthe scoring system;\ngrip and stance;\nputting;\nchipping and pitching;\nan overview of the full swing; and\,\nthe range of clubs for use in different situations.\n\nLGC’s golf professional\, Natasha Hemms\, will conduct the clinics which are designed for beginner golfers with little or no playing experience but some interest in taking up the game.
URL:https://www.leuragolfclub.com.au/event/womens-beginner-clinic/2024-11-25/
CATEGORIES:Other
END:VEVENT
BEGIN:VEVENT
DTSTART;VALUE=DATE:20241123
DTEND;VALUE=DATE:20241124
DTSTAMP:20260420T170138
CREATED:20240101T023542Z
LAST-MODIFIED:20240101T023542Z
UID:10004145-1732320000-1732406399@www.leuragolfclub.com.au
SUMMARY:Medley Par + 2 BBB
DESCRIPTION:
URL:https://www.leuragolfclub.com.au/event/medley-par-2-bbb/
CATEGORIES:Saturday Medley Comp
END:VEVENT
BEGIN:VEVENT
DTSTART;TZID=Australia/Sydney:20241121T100000
DTEND;TZID=Australia/Sydney:20241121T110000
DTSTAMP:20260420T170138
CREATED:20241002T005804Z
LAST-MODIFIED:20241002T010657Z
UID:10004245-1732183200-1732186800@www.leuragolfclub.com.au
SUMMARY:Women's Golf Beginner Clinic
DESCRIPTION:The program will involve clinics with 10 weekly lessons for up to 8 women at a time at a cost of $300 for the course. Each of the clinics will be held between 10am and 11am on Thursdays. The Club will provide participants with golf clubs. The program will start on Thursday October 10. \nThese clinics will cover\, among others: \n\nan introduction to golf course terminology and equipment;\ngolf etiquette and rules;\nthe scoring system;\ngrip and stance;\nputting;\nchipping and pitching;\nan overview of the full swing; and\,\nthe range of clubs for use in different situations.\n\nLGC’s golf professional\, Natasha Hemms\, will conduct the clinics which are designed for beginner golfers with little or no playing experience but some interest in taking up the game.
URL:https://www.leuragolfclub.com.au/event/womens-golf-beginner-clinic-2/2024-11-21/
CATEGORIES:Other
END:VEVENT
BEGIN:VEVENT
DTSTART;VALUE=DATE:20241121
DTEND;VALUE=DATE:20241122
DTSTAMP:20260420T170138
CREATED:20231231T235317Z
LAST-MODIFIED:20240102T001129Z
UID:10003987-1732147200-1732233599@www.leuragolfclub.com.au
SUMMARY:Trivia @ 7pm
DESCRIPTION:
URL:https://www.leuragolfclub.com.au/event/trivia-7pm-2/2024-11-21/
CATEGORIES:LGC Function
END:VEVENT
BEGIN:VEVENT
DTSTART;VALUE=DATE:20241120
DTEND;VALUE=DATE:20241121
DTSTAMP:20260420T170138
CREATED:20240101T020524Z
LAST-MODIFIED:20240101T021128Z
UID:10004133-1732089600-1732122000@www.leuragolfclub.com.au
SUMMARY:Medley Stableford + 2BBB
DESCRIPTION:
URL:https://www.leuragolfclub.com.au/event/medley-stableford-2bbb-4/2024-11-20/
CATEGORIES:Wednesday Medley Comp
END:VEVENT
BEGIN:VEVENT
DTSTART;VALUE=DATE:20241119
DTEND;VALUE=DATE:20241120
DTSTAMP:20260420T170138
CREATED:20231221T224017Z
LAST-MODIFIED:20231221T224017Z
UID:10003817-1731974400-1732060799@www.leuragolfclub.com.au
SUMMARY:9 Hole Comp
DESCRIPTION:Women’s 9 hole comp in the morning and social play at other times.
URL:https://www.leuragolfclub.com.au/event/9-hole-comp-2/2024-11-19/
CATEGORIES:Tuesday Comp
END:VEVENT
BEGIN:VEVENT
DTSTART;TZID=Australia/Sydney:20241118T130000
DTEND;TZID=Australia/Sydney:20241118T150000
DTSTAMP:20260420T170138
CREATED:20240806T005339Z
LAST-MODIFIED:20240806T005631Z
UID:10004199-1731934800-1731942000@www.leuragolfclub.com.au
SUMMARY:Women's Golf Beginner Clinic
DESCRIPTION:The program will involve clinics with 12 weekly lessons for up to 8 women at a time at a cost of $300 for the course. Each of the clinics will be held between 1pm and 3pm on Mondays. The Club will provide participants with golf clubs. The program will start on Monday September 16. \nThese clinics will cover\, among others: \n\nan introduction to golf course terminology and equipment;\ngolf etiquette and rules;\nthe scoring system;\ngrip and stance;\nputting;\nchipping and pitching;\nan overview of the full swing; and\,\nthe range of clubs for use in different situations.\n\nLGC’s golf professional\, Natasha Hemms\, will conduct the clinics which are designed for beginner golfers with little or no playing experience but some interest in taking up the game.
URL:https://www.leuragolfclub.com.au/event/womens-beginner-clinic/2024-11-18/
CATEGORIES:Other
END:VEVENT
BEGIN:VEVENT
DTSTART;VALUE=DATE:20241116
DTEND;VALUE=DATE:20241117
DTSTAMP:20260420T170138
CREATED:20231221T225119Z
LAST-MODIFIED:20231221T225119Z
UID:10003872-1731715200-1731801599@www.leuragolfclub.com.au
SUMMARY:Leura Open
DESCRIPTION:
URL:https://www.leuragolfclub.com.au/event/leura-open-4/
CATEGORIES:LGC Major Events
END:VEVENT
END:VCALENDAR