BEGIN:VCALENDAR
VERSION:2.0
PRODID:-//Leura Golf Club - ECPv6.13.2.1//NONSGML v1.0//EN
CALSCALE:GREGORIAN
METHOD:PUBLISH
X-WR-CALNAME:Leura Golf Club
X-ORIGINAL-URL:https://www.leuragolfclub.com.au
X-WR-CALDESC:Events for Leura Golf Club
REFRESH-INTERVAL;VALUE=DURATION:PT1H
X-Robots-Tag:noindex
X-PUBLISHED-TTL:PT1H
BEGIN:VTIMEZONE
TZID:Australia/Sydney
BEGIN:STANDARD
TZOFFSETFROM:+1100
TZOFFSETTO:+1000
TZNAME:AEST
DTSTART:20240406T160000
END:STANDARD
BEGIN:DAYLIGHT
TZOFFSETFROM:+1000
TZOFFSETTO:+1100
TZNAME:AEDT
DTSTART:20241005T160000
END:DAYLIGHT
END:VTIMEZONE
BEGIN:VTIMEZONE
TZID:Australia/Melbourne
BEGIN:STANDARD
TZOFFSETFROM:+1100
TZOFFSETTO:+1000
TZNAME:AEST
DTSTART:20240406T160000
END:STANDARD
BEGIN:DAYLIGHT
TZOFFSETFROM:+1000
TZOFFSETTO:+1100
TZNAME:AEDT
DTSTART:20241005T160000
END:DAYLIGHT
END:VTIMEZONE
BEGIN:VEVENT
DTSTART;TZID=Australia/Sydney:20241028T130000
DTEND;TZID=Australia/Sydney:20241028T150000
DTSTAMP:20260420T184257
CREATED:20240806T005339Z
LAST-MODIFIED:20240806T005631Z
UID:10004196-1730120400-1730127600@www.leuragolfclub.com.au
SUMMARY:Women's Golf Beginner Clinic
DESCRIPTION:The program will involve clinics with 12 weekly lessons for up to 8 women at a time at a cost of $300 for the course. Each of the clinics will be held between 1pm and 3pm on Mondays. The Club will provide participants with golf clubs. The program will start on Monday September 16. \nThese clinics will cover\, among others: \n\nan introduction to golf course terminology and equipment;\ngolf etiquette and rules;\nthe scoring system;\ngrip and stance;\nputting;\nchipping and pitching;\nan overview of the full swing; and\,\nthe range of clubs for use in different situations.\n\nLGC’s golf professional\, Natasha Hemms\, will conduct the clinics which are designed for beginner golfers with little or no playing experience but some interest in taking up the game.
URL:https://www.leuragolfclub.com.au/event/womens-beginner-clinic/2024-10-28/
CATEGORIES:Other
END:VEVENT
BEGIN:VEVENT
DTSTART;TZID=Australia/Sydney:20241027T103000
DTEND;TZID=Australia/Sydney:20241027T113000
DTSTAMP:20260420T184257
CREATED:20240914T231906Z
LAST-MODIFIED:20240914T231952Z
UID:10004203-1730025000-1730028600@www.leuragolfclub.com.au
SUMMARY:AGM @ 10.30 am
DESCRIPTION:Please note that to be eligible to vote you must have been a Full Member for the 12 months prior to the date of the meeting.
URL:https://www.leuragolfclub.com.au/event/agm-10-30-am/
CATEGORIES:LGC Function
END:VEVENT
BEGIN:VEVENT
DTSTART;VALUE=DATE:20241026
DTEND;VALUE=DATE:20241027
DTSTAMP:20260420T184257
CREATED:20240101T020116Z
LAST-MODIFIED:20240101T020116Z
UID:10004128-1729929600-1729962000@www.leuragolfclub.com.au
SUMMARY:Medley Stableford + 2BBB
DESCRIPTION:
URL:https://www.leuragolfclub.com.au/event/medley-stableford-2bbb-3/2024-10-26/
CATEGORIES:Saturday Medley Comp
END:VEVENT
BEGIN:VEVENT
DTSTART;TZID=Australia/Sydney:20241024T100000
DTEND;TZID=Australia/Sydney:20241024T110000
DTSTAMP:20260420T184257
CREATED:20241002T005804Z
LAST-MODIFIED:20241002T010657Z
UID:10004241-1729764000-1729767600@www.leuragolfclub.com.au
SUMMARY:Women's Golf Beginner Clinic
DESCRIPTION:The program will involve clinics with 10 weekly lessons for up to 8 women at a time at a cost of $300 for the course. Each of the clinics will be held between 10am and 11am on Thursdays. The Club will provide participants with golf clubs. The program will start on Thursday October 10. \nThese clinics will cover\, among others: \n\nan introduction to golf course terminology and equipment;\ngolf etiquette and rules;\nthe scoring system;\ngrip and stance;\nputting;\nchipping and pitching;\nan overview of the full swing; and\,\nthe range of clubs for use in different situations.\n\nLGC’s golf professional\, Natasha Hemms\, will conduct the clinics which are designed for beginner golfers with little or no playing experience but some interest in taking up the game.
URL:https://www.leuragolfclub.com.au/event/womens-golf-beginner-clinic-2/2024-10-24/
CATEGORIES:Other
END:VEVENT
BEGIN:VEVENT
DTSTART;VALUE=DATE:20241024
DTEND;VALUE=DATE:20241025
DTSTAMP:20260420T184257
CREATED:20231231T235317Z
LAST-MODIFIED:20240102T001129Z
UID:10003983-1729728000-1729814399@www.leuragolfclub.com.au
SUMMARY:Trivia @ 7pm
DESCRIPTION:
URL:https://www.leuragolfclub.com.au/event/trivia-7pm-2/2024-10-24/
CATEGORIES:LGC Function
END:VEVENT
BEGIN:VEVENT
DTSTART;VALUE=DATE:20241023
DTEND;VALUE=DATE:20241024
DTSTAMP:20260420T184257
CREATED:20240101T015835Z
LAST-MODIFIED:20240101T015835Z
UID:10004121-1729670400-1729702800@www.leuragolfclub.com.au
SUMMARY:Medley Stableford Singles
DESCRIPTION:
URL:https://www.leuragolfclub.com.au/event/medley-stableford-singles-12/2024-10-23/
CATEGORIES:Wednesday Medley Comp
END:VEVENT
BEGIN:VEVENT
DTSTART;VALUE=DATE:20241022
DTEND;VALUE=DATE:20241023
DTSTAMP:20260420T184257
CREATED:20231221T224017Z
LAST-MODIFIED:20231221T224017Z
UID:10003813-1729555200-1729641599@www.leuragolfclub.com.au
SUMMARY:9 Hole Comp
DESCRIPTION:Women’s 9 hole comp in the morning and social play at other times.
URL:https://www.leuragolfclub.com.au/event/9-hole-comp-2/2024-10-22/
CATEGORIES:Tuesday Comp
END:VEVENT
BEGIN:VEVENT
DTSTART;TZID=Australia/Sydney:20241021T130000
DTEND;TZID=Australia/Sydney:20241021T150000
DTSTAMP:20260420T184257
CREATED:20240806T005339Z
LAST-MODIFIED:20240806T005631Z
UID:10004195-1729515600-1729522800@www.leuragolfclub.com.au
SUMMARY:Women's Golf Beginner Clinic
DESCRIPTION:The program will involve clinics with 12 weekly lessons for up to 8 women at a time at a cost of $300 for the course. Each of the clinics will be held between 1pm and 3pm on Mondays. The Club will provide participants with golf clubs. The program will start on Monday September 16. \nThese clinics will cover\, among others: \n\nan introduction to golf course terminology and equipment;\ngolf etiquette and rules;\nthe scoring system;\ngrip and stance;\nputting;\nchipping and pitching;\nan overview of the full swing; and\,\nthe range of clubs for use in different situations.\n\nLGC’s golf professional\, Natasha Hemms\, will conduct the clinics which are designed for beginner golfers with little or no playing experience but some interest in taking up the game.
URL:https://www.leuragolfclub.com.au/event/womens-beginner-clinic/2024-10-21/
CATEGORIES:Other
END:VEVENT
BEGIN:VEVENT
DTSTART;VALUE=DATE:20241019
DTEND;VALUE=DATE:20241020
DTSTAMP:20260420T184257
CREATED:20240101T023303Z
LAST-MODIFIED:20240101T023303Z
UID:10004143-1729296000-1729382399@www.leuragolfclub.com.au
SUMMARY:Medley Par
DESCRIPTION:
URL:https://www.leuragolfclub.com.au/event/medley-par-5/
CATEGORIES:Saturday Medley Comp
END:VEVENT
BEGIN:VEVENT
DTSTART;VALUE=DATE:20241018
DTEND;VALUE=DATE:20241019
DTSTAMP:20260420T184257
CREATED:20240803T071108Z
LAST-MODIFIED:20240924T063059Z
UID:10004189-1729209600-1729295999@www.leuragolfclub.com.au
SUMMARY:Emergency Services Cup
DESCRIPTION:3 Player Ambrose – 2 must have GA handicap\n7.30 Breakfast\n8.30 Shotgun Start\nBuffet Lunch\nSilent Auction \nBook via Proshop 4785 0035  proshop@leuragolfclub.com.au
URL:https://www.leuragolfclub.com.au/event/fairmont-essential-services-charity-golf-day/
CATEGORIES:LGC Major Events
END:VEVENT
BEGIN:VEVENT
DTSTART;TZID=Australia/Sydney:20241017T100000
DTEND;TZID=Australia/Sydney:20241017T110000
DTSTAMP:20260420T184257
CREATED:20241002T005804Z
LAST-MODIFIED:20241002T010657Z
UID:10004240-1729159200-1729162800@www.leuragolfclub.com.au
SUMMARY:Women's Golf Beginner Clinic
DESCRIPTION:The program will involve clinics with 10 weekly lessons for up to 8 women at a time at a cost of $300 for the course. Each of the clinics will be held between 10am and 11am on Thursdays. The Club will provide participants with golf clubs. The program will start on Thursday October 10. \nThese clinics will cover\, among others: \n\nan introduction to golf course terminology and equipment;\ngolf etiquette and rules;\nthe scoring system;\ngrip and stance;\nputting;\nchipping and pitching;\nan overview of the full swing; and\,\nthe range of clubs for use in different situations.\n\nLGC’s golf professional\, Natasha Hemms\, will conduct the clinics which are designed for beginner golfers with little or no playing experience but some interest in taking up the game.
URL:https://www.leuragolfclub.com.au/event/womens-golf-beginner-clinic-2/2024-10-17/
CATEGORIES:Other
END:VEVENT
BEGIN:VEVENT
DTSTART;VALUE=DATE:20241017
DTEND;VALUE=DATE:20241018
DTSTAMP:20260420T184257
CREATED:20231231T235317Z
LAST-MODIFIED:20240102T001129Z
UID:10003982-1729123200-1729209599@www.leuragolfclub.com.au
SUMMARY:Trivia @ 7pm
DESCRIPTION:
URL:https://www.leuragolfclub.com.au/event/trivia-7pm-2/2024-10-17/
CATEGORIES:LGC Function
END:VEVENT
BEGIN:VEVENT
DTSTART;VALUE=DATE:20241016
DTEND;VALUE=DATE:20241017
DTSTAMP:20260420T184257
CREATED:20240101T015310Z
LAST-MODIFIED:20240101T015310Z
UID:10004114-1729065600-1729098000@www.leuragolfclub.com.au
SUMMARY:2 Player Ambrose
DESCRIPTION:
URL:https://www.leuragolfclub.com.au/event/2-player-ambrose/2024-10-16/
CATEGORIES:Wednesday Medley Comp
END:VEVENT
BEGIN:VEVENT
DTSTART;VALUE=DATE:20241015
DTEND;VALUE=DATE:20241016
DTSTAMP:20260420T184257
CREATED:20231221T224017Z
LAST-MODIFIED:20231221T224017Z
UID:10003812-1728950400-1729036799@www.leuragolfclub.com.au
SUMMARY:9 Hole Comp
DESCRIPTION:Women’s 9 hole comp in the morning and social play at other times.
URL:https://www.leuragolfclub.com.au/event/9-hole-comp-2/2024-10-15/
CATEGORIES:Tuesday Comp
END:VEVENT
BEGIN:VEVENT
DTSTART;TZID=Australia/Sydney:20241014T130000
DTEND;TZID=Australia/Sydney:20241014T150000
DTSTAMP:20260420T184257
CREATED:20240806T005339Z
LAST-MODIFIED:20240806T005631Z
UID:10004194-1728910800-1728918000@www.leuragolfclub.com.au
SUMMARY:Women's Golf Beginner Clinic
DESCRIPTION:The program will involve clinics with 12 weekly lessons for up to 8 women at a time at a cost of $300 for the course. Each of the clinics will be held between 1pm and 3pm on Mondays. The Club will provide participants with golf clubs. The program will start on Monday September 16. \nThese clinics will cover\, among others: \n\nan introduction to golf course terminology and equipment;\ngolf etiquette and rules;\nthe scoring system;\ngrip and stance;\nputting;\nchipping and pitching;\nan overview of the full swing; and\,\nthe range of clubs for use in different situations.\n\nLGC’s golf professional\, Natasha Hemms\, will conduct the clinics which are designed for beginner golfers with little or no playing experience but some interest in taking up the game.
URL:https://www.leuragolfclub.com.au/event/womens-beginner-clinic/2024-10-14/
CATEGORIES:Other
END:VEVENT
BEGIN:VEVENT
DTSTART;VALUE=DATE:20241012
DTEND;VALUE=DATE:20241013
DTSTAMP:20260420T184257
CREATED:20240101T024609Z
LAST-MODIFIED:20240703T062818Z
UID:10004183-1728720000-1728752400@www.leuragolfclub.com.au
SUMMARY:Medley Stableford Singles - white tees
DESCRIPTION:
URL:https://www.leuragolfclub.com.au/event/medley-stableford-singles-white-tees-9/2024-10-12/
CATEGORIES:Saturday Medley Comp
END:VEVENT
BEGIN:VEVENT
DTSTART;VALUE=DATE:20241012
DTEND;VALUE=DATE:20241013
DTSTAMP:20260420T184257
CREATED:20240703T060451Z
LAST-MODIFIED:20240703T060451Z
UID:10004172-1728691200-1728777599@www.leuragolfclub.com.au
SUMMARY:Men’s Monthly Medal + Medley Stroke
DESCRIPTION:Visitors welcome. Visitors can win the competition but not the Medal.
URL:https://www.leuragolfclub.com.au/event/mens-monthly-medal-medley-stroke-8-2023-02-04-2-2/2024-10-12/
CATEGORIES:Saturday Medley Comp
END:VEVENT
BEGIN:VEVENT
DTSTART;VALUE=DATE:20241012
DTEND;VALUE=DATE:20241013
DTSTAMP:20260420T184257
CREATED:20240101T024426Z
LAST-MODIFIED:20240101T024426Z
UID:10004149-1728691200-1728777599@www.leuragolfclub.com.au
SUMMARY:Haig & Haig Shield Rd 2
DESCRIPTION:The Haig and Haig Shield is a men’s stroke event over 2 weeks with the winner being the person with the best aggregate nett score for the two rounds from across all grades. Visitors are welcome\, can win the day competition but are not eligible to win the Shield.
URL:https://www.leuragolfclub.com.au/event/haig-haig-shield-rd-2-7/
CATEGORIES:LGC Major Events
END:VEVENT
BEGIN:VEVENT
DTSTART;TZID=Australia/Sydney:20241010T100000
DTEND;TZID=Australia/Sydney:20241010T110000
DTSTAMP:20260420T184257
CREATED:20241002T005804Z
LAST-MODIFIED:20241002T010657Z
UID:10004231-1728554400-1728558000@www.leuragolfclub.com.au
SUMMARY:Women's Golf Beginner Clinic
DESCRIPTION:The program will involve clinics with 10 weekly lessons for up to 8 women at a time at a cost of $300 for the course. Each of the clinics will be held between 10am and 11am on Thursdays. The Club will provide participants with golf clubs. The program will start on Thursday October 10. \nThese clinics will cover\, among others: \n\nan introduction to golf course terminology and equipment;\ngolf etiquette and rules;\nthe scoring system;\ngrip and stance;\nputting;\nchipping and pitching;\nan overview of the full swing; and\,\nthe range of clubs for use in different situations.\n\nLGC’s golf professional\, Natasha Hemms\, will conduct the clinics which are designed for beginner golfers with little or no playing experience but some interest in taking up the game.
URL:https://www.leuragolfclub.com.au/event/womens-golf-beginner-clinic-2/2024-10-10/
CATEGORIES:Other
END:VEVENT
BEGIN:VEVENT
DTSTART;VALUE=DATE:20241010
DTEND;VALUE=DATE:20241011
DTSTAMP:20260420T184257
CREATED:20231231T235317Z
LAST-MODIFIED:20240102T001129Z
UID:10003981-1728518400-1728604799@www.leuragolfclub.com.au
SUMMARY:Trivia @ 7pm
DESCRIPTION:
URL:https://www.leuragolfclub.com.au/event/trivia-7pm-2/2024-10-10/
CATEGORIES:LGC Function
END:VEVENT
BEGIN:VEVENT
DTSTART;VALUE=DATE:20241009
DTEND;VALUE=DATE:20241010
DTSTAMP:20260420T184257
CREATED:20240101T020524Z
LAST-MODIFIED:20240101T021128Z
UID:10004132-1728432000-1728518399@www.leuragolfclub.com.au
SUMMARY:Medley Stableford + 2BBB
DESCRIPTION:
URL:https://www.leuragolfclub.com.au/event/medley-stableford-2bbb-4/2024-10-09/
CATEGORIES:Wednesday Medley Comp
END:VEVENT
BEGIN:VEVENT
DTSTART;TZID=Australia/Sydney:20241008T100000
DTEND;TZID=Australia/Sydney:20241008T120000
DTSTAMP:20260420T184257
CREATED:20240413T005232Z
LAST-MODIFIED:20240413T005955Z
UID:10004169-1728381600-1728388800@www.leuragolfclub.com.au
SUMMARY:Junior Clinic
DESCRIPTION:Our School Holiday Junior Clinics are tailored for children aged 5 to 16\, offering a dynamic and engaging environment to learn and improve. Under Natasha’s expert guidance\, participants will delve into the essentials of golf\, from the precision of putting and the art of chipping to the power and technique behind a full swing. It’s more than just practice; it’s about building confidence\, discipline\, and friendships\, all while enjoying the great outdoors. https://www.leuragolfclub.com.au/school-holiday-clinics/
URL:https://www.leuragolfclub.com.au/event/junior-clinic/2024-10-08/
CATEGORIES:LGC Function
END:VEVENT
BEGIN:VEVENT
DTSTART;VALUE=DATE:20241008
DTEND;VALUE=DATE:20241009
DTSTAMP:20260420T184257
CREATED:20231221T224017Z
LAST-MODIFIED:20231221T224017Z
UID:10003811-1728345600-1728431999@www.leuragolfclub.com.au
SUMMARY:9 Hole Comp
DESCRIPTION:Women’s 9 hole comp in the morning and social play at other times.
URL:https://www.leuragolfclub.com.au/event/9-hole-comp-2/2024-10-08/
CATEGORIES:Tuesday Comp
END:VEVENT
BEGIN:VEVENT
DTSTART;TZID=Australia/Sydney:20241007T130000
DTEND;TZID=Australia/Sydney:20241007T150000
DTSTAMP:20260420T184257
CREATED:20240806T005339Z
LAST-MODIFIED:20240806T005631Z
UID:10004193-1728306000-1728313200@www.leuragolfclub.com.au
SUMMARY:Women's Golf Beginner Clinic
DESCRIPTION:The program will involve clinics with 12 weekly lessons for up to 8 women at a time at a cost of $300 for the course. Each of the clinics will be held between 1pm and 3pm on Mondays. The Club will provide participants with golf clubs. The program will start on Monday September 16. \nThese clinics will cover\, among others: \n\nan introduction to golf course terminology and equipment;\ngolf etiquette and rules;\nthe scoring system;\ngrip and stance;\nputting;\nchipping and pitching;\nan overview of the full swing; and\,\nthe range of clubs for use in different situations.\n\nLGC’s golf professional\, Natasha Hemms\, will conduct the clinics which are designed for beginner golfers with little or no playing experience but some interest in taking up the game.
URL:https://www.leuragolfclub.com.au/event/womens-beginner-clinic/2024-10-07/
CATEGORIES:Other
END:VEVENT
BEGIN:VEVENT
DTSTART;VALUE=DATE:20241007
DTEND;VALUE=DATE:20241008
DTSTAMP:20260420T184257
CREATED:20231221T212243Z
LAST-MODIFIED:20231227T034952Z
UID:10003666-1728259200-1728345599@www.leuragolfclub.com.au
SUMMARY:Labour Day
DESCRIPTION:
URL:https://www.leuragolfclub.com.au/event/labour-day-2/2024-10-07/
CATEGORIES:Holidays
END:VEVENT
BEGIN:VEVENT
DTSTART;VALUE=DATE:20241005
DTEND;VALUE=DATE:20241006
DTSTAMP:20260420T184257
CREATED:20240914T231601Z
LAST-MODIFIED:20240914T231601Z
UID:10004202-1728086400-1728172799@www.leuragolfclub.com.au
SUMMARY:Director Nominations close 5pm
DESCRIPTION:Nominations are due by 5pm.
URL:https://www.leuragolfclub.com.au/event/director-nominations-close-5pm/
CATEGORIES:LGC Function
END:VEVENT
BEGIN:VEVENT
DTSTART;VALUE=DATE:20241005
DTEND;VALUE=DATE:20241006
DTSTAMP:20260420T184257
CREATED:20240101T024609Z
LAST-MODIFIED:20240703T062818Z
UID:10004182-1728086400-1728172799@www.leuragolfclub.com.au
SUMMARY:Medley Stableford Singles - white tees
DESCRIPTION:
URL:https://www.leuragolfclub.com.au/event/medley-stableford-singles-white-tees-9/2024-10-05/
CATEGORIES:Saturday Medley Comp
END:VEVENT
BEGIN:VEVENT
DTSTART;VALUE=DATE:20241005
DTEND;VALUE=DATE:20241006
DTSTAMP:20260420T184257
CREATED:20231221T230225Z
LAST-MODIFIED:20231221T230503Z
UID:10003878-1728086400-1728172799@www.leuragolfclub.com.au
SUMMARY:Haig & Haig Shield Rd 1
DESCRIPTION:The Haig and Haig Shield  is a men’s stroke event over 2 weeks with the winner being the person with the best aggregate nett score for the two rounds from across all grades. \nVisitors are welcome\, can win the day competition but are not eligible to win the Shield.
URL:https://www.leuragolfclub.com.au/event/haig-haig-shield-rd-1-7/
CATEGORIES:LGC Major Events
END:VEVENT
BEGIN:VEVENT
DTSTART;VALUE=DATE:20241004
DTEND;VALUE=DATE:20241005
DTSTAMP:20260420T184257
CREATED:20241102T011620Z
LAST-MODIFIED:20241102T011842Z
UID:10004073-1728000000-1728086399@www.leuragolfclub.com.au
SUMMARY:Friday Nine Medley
DESCRIPTION:Social Members and beginners are welcome and will be allocated a handicap of 36 for men and 45 for women. This provides an opportunity for non-golfers to learn and experience our beloved game and hopefully get hooked on it like the rest of we golf tragics. \nWe encourage players to stay on for a drink\, presentation of prizes and dinner in the Bistro after your game. \nConditions of Play\n\nTee off from 10:00am\, playing from white markers for men and red markers for women.\nFee is $10 per player.\nCompetition will be played over 9 holes alternating week about.\n\nFront 9 – 1st to 9th\nBack 9 – 1st then 11th to 18th.\n\n\nCompetition will be conducted using the Stroke scoring system.\nA mercy rule will apply – once a player has had three shots over par on any hole\, pick up your ball and record the score for that hole as three over. Move on to the next hole.\nHandicaps for both 9’s will be half your current daily GA handicap.\nOfficial rules of golf apply.\nAll prizes are added to members’ cards\, visitors will be given vouchers.
URL:https://www.leuragolfclub.com.au/event/friday-nine-medley-2/
CATEGORIES:Twilight 9 Comp
END:VEVENT
BEGIN:VEVENT
DTSTART;VALUE=DATE:20241003
DTEND;VALUE=DATE:20241004
DTSTAMP:20260420T184257
CREATED:20231231T235317Z
LAST-MODIFIED:20240102T001129Z
UID:10003980-1727913600-1727999999@www.leuragolfclub.com.au
SUMMARY:Trivia @ 7pm
DESCRIPTION:
URL:https://www.leuragolfclub.com.au/event/trivia-7pm-2/2024-10-03/
CATEGORIES:LGC Function
END:VEVENT
END:VCALENDAR