BEGIN:VCALENDAR
VERSION:2.0
PRODID:-//Leura Golf Club - ECPv6.13.2.1//NONSGML v1.0//EN
CALSCALE:GREGORIAN
METHOD:PUBLISH
X-WR-CALNAME:Leura Golf Club
X-ORIGINAL-URL:https://www.leuragolfclub.com.au
X-WR-CALDESC:Events for Leura Golf Club
REFRESH-INTERVAL;VALUE=DURATION:PT1H
X-Robots-Tag:noindex
X-PUBLISHED-TTL:PT1H
BEGIN:VTIMEZONE
TZID:Australia/Melbourne
BEGIN:STANDARD
TZOFFSETFROM:+1100
TZOFFSETTO:+1000
TZNAME:AEST
DTSTART:20240406T160000
END:STANDARD
BEGIN:DAYLIGHT
TZOFFSETFROM:+1000
TZOFFSETTO:+1100
TZNAME:AEDT
DTSTART:20241005T160000
END:DAYLIGHT
END:VTIMEZONE
BEGIN:VEVENT
DTSTART;VALUE=DATE:20240820
DTEND;VALUE=DATE:20240821
DTSTAMP:20260422T124304
CREATED:20231221T224017Z
LAST-MODIFIED:20231221T224017Z
UID:10003804-1724112000-1724198399@www.leuragolfclub.com.au
SUMMARY:9 Hole Comp
DESCRIPTION:Women’s 9 hole comp in the morning and social play at other times.
URL:https://www.leuragolfclub.com.au/event/9-hole-comp-2/2024-08-20/
CATEGORIES:Tuesday Comp
END:VEVENT
BEGIN:VEVENT
DTSTART;VALUE=DATE:20240821
DTEND;VALUE=DATE:20240822
DTSTAMP:20260422T124304
CREATED:20240101T015505Z
LAST-MODIFIED:20240101T015505Z
UID:10004116-1724198400-1724284799@www.leuragolfclub.com.au
SUMMARY:Medley Par
DESCRIPTION:
URL:https://www.leuragolfclub.com.au/event/medley-par-4/2024-08-21/
CATEGORIES:Wednesday Medley Comp
END:VEVENT
BEGIN:VEVENT
DTSTART;VALUE=DATE:20240822
DTEND;VALUE=DATE:20240823
DTSTAMP:20260422T124304
CREATED:20231231T235317Z
LAST-MODIFIED:20240102T001129Z
UID:10003974-1724284800-1724371199@www.leuragolfclub.com.au
SUMMARY:Trivia @ 7pm
DESCRIPTION:
URL:https://www.leuragolfclub.com.au/event/trivia-7pm-2/2024-08-22/
CATEGORIES:LGC Function
END:VEVENT
BEGIN:VEVENT
DTSTART;VALUE=DATE:20240823
DTEND;VALUE=DATE:20240824
DTSTAMP:20260422T124304
CREATED:20240101T001924Z
LAST-MODIFIED:20240101T001924Z
UID:10004067-1724371200-1724457599@www.leuragolfclub.com.au
SUMMARY:Friday Nine Medley
DESCRIPTION:Social Members and beginners are welcome and will be allocated a handicap of 36 for men and 45 for women. This provides an opportunity for non-golfers to learn and experience our beloved game and hopefully get hooked on it like the rest of we golf tragics. \nWe encourage players to stay on for a drink\, presentation of prizes and dinner in the Bistro after your game. \nConditions of Play\n\nTee off from 10:00am\, playing from white markers for men and red markers for women.\nFee is $10 per player.\nCompetition will be played over 9 holes alternating week about.\n\nFront 9 – 1st to 9th\nBack 9 – 1st then 11th to 18th.\n\n\nCompetition will be conducted using the Stroke scoring system.\nA mercy rule will apply – once a player has had three shots over par on any hole\, pick up your ball and record the score for that hole as three over. Move on to the next hole.\nHandicaps for both 9’s will be half your current daily GA handicap.\nOfficial rules of golf apply.\nAll prizes are added to members’ cards\, visitors will be given vouchers.
URL:https://www.leuragolfclub.com.au/event/friday-nine-medley/2024-08-23/
CATEGORIES:Twilight 9 Comp
END:VEVENT
BEGIN:VEVENT
DTSTART;VALUE=DATE:20240824
DTEND;VALUE=DATE:20240825
DTSTAMP:20260422T124304
CREATED:20240101T230016Z
LAST-MODIFIED:20240101T230016Z
UID:10004159-1724457600-1724543999@www.leuragolfclub.com.au
SUMMARY:Men's Club Championships
DESCRIPTION:
URL:https://www.leuragolfclub.com.au/event/mens-club-championships/2024-08-24/
CATEGORIES:LGC Major Events
END:VEVENT
BEGIN:VEVENT
DTSTART;VALUE=DATE:20240824
DTEND;VALUE=DATE:20240825
DTSTAMP:20260422T124304
CREATED:20240101T230430Z
LAST-MODIFIED:20240101T230515Z
UID:10004162-1724457600-1724543999@www.leuragolfclub.com.au
SUMMARY:Medley Stableford Singles - white tees
DESCRIPTION:
URL:https://www.leuragolfclub.com.au/event/medley-stableford-singles-white-tees-10/2024-08-24/
CATEGORIES:Saturday Medley Comp
END:VEVENT
END:VCALENDAR