BEGIN:VCALENDAR
VERSION:2.0
PRODID:-//Leura Golf Club - ECPv6.13.2.1//NONSGML v1.0//EN
CALSCALE:GREGORIAN
METHOD:PUBLISH
X-ORIGINAL-URL:https://www.leuragolfclub.com.au
X-WR-CALDESC:Events for Leura Golf Club
REFRESH-INTERVAL;VALUE=DURATION:PT1H
X-Robots-Tag:noindex
X-PUBLISHED-TTL:PT1H
BEGIN:VTIMEZONE
TZID:Australia/Sydney
BEGIN:STANDARD
TZOFFSETFROM:+1100
TZOFFSETTO:+1000
TZNAME:AEST
DTSTART:20250405T160000
END:STANDARD
BEGIN:DAYLIGHT
TZOFFSETFROM:+1000
TZOFFSETTO:+1100
TZNAME:AEDT
DTSTART:20251004T160000
END:DAYLIGHT
END:VTIMEZONE
BEGIN:VEVENT
DTSTART;VALUE=DATE:20250225
DTEND;VALUE=DATE:20250226
DTSTAMP:20260421T205530
CREATED:20241116T011018Z
LAST-MODIFIED:20241116T011401Z
UID:10004547-1740441600-1740527999@www.leuragolfclub.com.au
SUMMARY:Women's 9 Hole Par/Ambrose
DESCRIPTION:
URL:https://www.leuragolfclub.com.au/event/womens-9-hole-par-ambrose/2025-02-25/
CATEGORIES:Tuesday Comp
END:VEVENT
BEGIN:VEVENT
DTSTART;VALUE=DATE:20250226
DTEND;VALUE=DATE:20250227
DTSTAMP:20260421T205530
CREATED:20241115T031019Z
LAST-MODIFIED:20241115T031339Z
UID:10004465-1740528000-1740614399@www.leuragolfclub.com.au
SUMMARY:Stableford Singles + 2BBB
DESCRIPTION:
URL:https://www.leuragolfclub.com.au/event/stableford-singles-2bbb-11/2025-02-26/
CATEGORIES:Wednesday Medley Comp
END:VEVENT
BEGIN:VEVENT
DTSTART;VALUE=DATE:20250227
DTEND;VALUE=DATE:20250228
DTSTAMP:20260421T205530
CREATED:20250110T000319Z
LAST-MODIFIED:20250110T000422Z
UID:10004604-1740614400-1740700799@www.leuragolfclub.com.au
SUMMARY:Trivia @ 7pm
DESCRIPTION:When: Every Thursday\, questions begin at 7 pm\nEntry Fee: Only $2 per player\nPrizes: Get ready to win delightful prizes including wine\, club vouchers\, and delicious chocolates.\n\nDon’t miss out on the action! Our bistro opens at 5:30 pm\, perfect for grabbing a bite before the trivia starts. Create your own table with friends and family\, and make it a night to remember. Whether you’re a trivia buff or just looking for a lively evening out\, there’s something for everyone.
URL:https://www.leuragolfclub.com.au/event/trivia-7pm-3/2025-02-27/
CATEGORIES:LGC Function
END:VEVENT
BEGIN:VEVENT
DTSTART;VALUE=DATE:20250228
DTEND;VALUE=DATE:20250301
DTSTAMP:20260421T205530
CREATED:20241102T012231Z
LAST-MODIFIED:20241105T003330Z
UID:10004261-1740700800-1740787199@www.leuragolfclub.com.au
SUMMARY:Twilight 9
DESCRIPTION:Social Members and beginners are welcome and will be allocated a handicap of 36 for men and 45 for women. This provides an opportunity for non-golfers to learn and experience our beloved game and hopefully get hooked on it like the rest of we golf tragics. \nWe encourage players to stay on for a drink\, presentation of prizes and dinner in the Bistro after your game. \nConditions of Play \n\nTee off from 10:00am\, playing from white markers for men and red markers for women.\nFee is $10 per player.\nCompetition will be played over 9 holes alternating week about.\n\nFront 9 – 1st to 9th\nBack 9 – 1st then 11th to 18th.\n\n\nCompetition will be conducted using the Stroke scoring system.\nA mercy rule will apply – once a player has had three shots over par on any hole\, pick up your ball and record the score for that hole as three over. Move on to the next hole.\nHandicaps for both 9’s will be half your current daily GA handicap.\nOfficial rules of golf apply.\nAll prizes are added to members’ cards\, visitors will be given vouchers.
URL:https://www.leuragolfclub.com.au/event/twilight-9/2025-02-28/
CATEGORIES:Twilight 9 Comp
END:VEVENT
BEGIN:VEVENT
DTSTART;VALUE=DATE:20250301
DTEND;VALUE=DATE:20250302
DTSTAMP:20260421T205530
CREATED:20241112T044012Z
LAST-MODIFIED:20250108T003816Z
UID:10004580-1740787200-1740873599@www.leuragolfclub.com.au
SUMMARY:Men's Monthly Medal + Medley Stroke
DESCRIPTION:
URL:https://www.leuragolfclub.com.au/event/mens-monthly-medal-medley-stroke-10/2025-03-01/
CATEGORIES:Saturday Medley Comp
END:VEVENT
BEGIN:VEVENT
DTSTART;VALUE=DATE:20250301
DTEND;VALUE=DATE:20250302
DTSTAMP:20260421T205530
CREATED:20250108T003718Z
LAST-MODIFIED:20250108T003718Z
UID:10004570-1740787200-1740873599@www.leuragolfclub.com.au
SUMMARY:Stableford Singles - white tees
DESCRIPTION:
URL:https://www.leuragolfclub.com.au/event/stableford-singles-white-tees-4/2025-03-01/
CATEGORIES:Saturday Medley Comp
END:VEVENT
END:VCALENDAR