BEGIN:VCALENDAR
VERSION:2.0
PRODID:-//Leura Golf Club - ECPv6.13.2.1//NONSGML v1.0//EN
CALSCALE:GREGORIAN
METHOD:PUBLISH
X-ORIGINAL-URL:https://www.leuragolfclub.com.au
X-WR-CALDESC:Events for Leura Golf Club
REFRESH-INTERVAL;VALUE=DURATION:PT1H
X-Robots-Tag:noindex
X-PUBLISHED-TTL:PT1H
BEGIN:VTIMEZONE
TZID:Australia/Sydney
BEGIN:STANDARD
TZOFFSETFROM:+1100
TZOFFSETTO:+1000
TZNAME:AEST
DTSTART:20250405T160000
END:STANDARD
BEGIN:DAYLIGHT
TZOFFSETFROM:+1000
TZOFFSETTO:+1100
TZNAME:AEDT
DTSTART:20251004T160000
END:DAYLIGHT
END:VTIMEZONE
BEGIN:VTIMEZONE
TZID:Australia/Melbourne
BEGIN:STANDARD
TZOFFSETFROM:+1100
TZOFFSETTO:+1000
TZNAME:AEST
DTSTART:20250405T160000
END:STANDARD
BEGIN:DAYLIGHT
TZOFFSETFROM:+1000
TZOFFSETTO:+1100
TZNAME:AEDT
DTSTART:20251004T160000
END:DAYLIGHT
END:VTIMEZONE
BEGIN:VEVENT
DTSTART;VALUE=DATE:20250412
DTEND;VALUE=DATE:20250429
DTSTAMP:20260421T135704
CREATED:20241105T005005Z
LAST-MODIFIED:20241105T005116Z
UID:10004275-1744416000-1745884799@www.leuragolfclub.com.au
SUMMARY:School Holidays
DESCRIPTION:
URL:https://www.leuragolfclub.com.au/event/school-holidays-19/
CATEGORIES:Holidays
END:VEVENT
BEGIN:VEVENT
DTSTART;VALUE=DATE:20250421
DTEND;VALUE=DATE:20250422
DTSTAMP:20260421T135704
CREATED:20241105T003912Z
LAST-MODIFIED:20241105T003912Z
UID:10004270-1745193600-1745279999@www.leuragolfclub.com.au
SUMMARY:Easter Monday
DESCRIPTION:
URL:https://www.leuragolfclub.com.au/event/easter-monday-3/
CATEGORIES:Holidays
END:VEVENT
BEGIN:VEVENT
DTSTART;VALUE=DATE:20250422
DTEND;VALUE=DATE:20250423
DTSTAMP:20260421T135704
CREATED:20241116T011018Z
LAST-MODIFIED:20241116T011401Z
UID:10004549-1745280000-1745366399@www.leuragolfclub.com.au
SUMMARY:Women's 9 Hole Par/Ambrose
DESCRIPTION:
URL:https://www.leuragolfclub.com.au/event/womens-9-hole-par-ambrose/2025-04-22/
CATEGORIES:Tuesday Comp
END:VEVENT
BEGIN:VEVENT
DTSTART;TZID=Australia/Sydney:20250422T100000
DTEND;TZID=Australia/Sydney:20250422T120000
DTSTAMP:20260421T135704
CREATED:20250325T063704Z
LAST-MODIFIED:20250325T063844Z
UID:10004657-1745316000-1745323200@www.leuragolfclub.com.au
SUMMARY:Junior Golf Clinic
DESCRIPTION:
URL:https://www.leuragolfclub.com.au/event/junior-golf-clinic-3/2025-04-22/
CATEGORIES:Other
END:VEVENT
BEGIN:VEVENT
DTSTART;VALUE=DATE:20250423
DTEND;VALUE=DATE:20250424
DTSTAMP:20260421T135704
CREATED:20241115T031851Z
LAST-MODIFIED:20241115T031851Z
UID:10004474-1745366400-1745452799@www.leuragolfclub.com.au
SUMMARY:Autumn Medal - Stroke
DESCRIPTION:
URL:https://www.leuragolfclub.com.au/event/autumn-medal-stroke-2/
CATEGORIES:Wednesday Medley Comp
END:VEVENT
BEGIN:VEVENT
DTSTART;VALUE=DATE:20250424
DTEND;VALUE=DATE:20250425
DTSTAMP:20260421T135704
CREATED:20250110T000319Z
LAST-MODIFIED:20250110T000422Z
UID:10004612-1745452800-1745539199@www.leuragolfclub.com.au
SUMMARY:Trivia @ 7pm
DESCRIPTION:When: Every Thursday\, questions begin at 7 pm\nEntry Fee: Only $2 per player\nPrizes: Get ready to win delightful prizes including wine\, club vouchers\, and delicious chocolates.\n\nDon’t miss out on the action! Our bistro opens at 5:30 pm\, perfect for grabbing a bite before the trivia starts. Create your own table with friends and family\, and make it a night to remember. Whether you’re a trivia buff or just looking for a lively evening out\, there’s something for everyone.
URL:https://www.leuragolfclub.com.au/event/trivia-7pm-3/2025-04-24/
CATEGORIES:LGC Function
END:VEVENT
BEGIN:VEVENT
DTSTART;VALUE=DATE:20250425
DTEND;VALUE=DATE:20250426
DTSTAMP:20260421T135704
CREATED:20241105T004209Z
LAST-MODIFIED:20241105T004210Z
UID:10003630-1745539200-1745625599@www.leuragolfclub.com.au
SUMMARY:Anzac Day
DESCRIPTION:
URL:https://www.leuragolfclub.com.au/event/anzac-day-2-2/2025-04-25/
CATEGORIES:Holidays
END:VEVENT
BEGIN:VEVENT
DTSTART;VALUE=DATE:20250426
DTEND;VALUE=DATE:20250427
DTSTAMP:20260421T135704
CREATED:20241115T025420Z
LAST-MODIFIED:20241115T025932Z
UID:10004454-1745625600-1745711999@www.leuragolfclub.com.au
SUMMARY:Stableford Singles + 2BBB
DESCRIPTION:
URL:https://www.leuragolfclub.com.au/event/stableford-singles-2bbb-10/2025-04-26/
CATEGORIES:Saturday Medley Comp
END:VEVENT
END:VCALENDAR