BEGIN:VCALENDAR
VERSION:2.0
PRODID:-//Leura Golf Club - ECPv6.13.2.1//NONSGML v1.0//EN
CALSCALE:GREGORIAN
METHOD:PUBLISH
X-ORIGINAL-URL:https://www.leuragolfclub.com.au
X-WR-CALDESC:Events for Leura Golf Club
REFRESH-INTERVAL;VALUE=DURATION:PT1H
X-Robots-Tag:noindex
X-PUBLISHED-TTL:PT1H
BEGIN:VTIMEZONE
TZID:Australia/Sydney
BEGIN:STANDARD
TZOFFSETFROM:+1100
TZOFFSETTO:+1000
TZNAME:AEST
DTSTART:20250405T160000
END:STANDARD
BEGIN:DAYLIGHT
TZOFFSETFROM:+1000
TZOFFSETTO:+1100
TZNAME:AEDT
DTSTART:20251004T160000
END:DAYLIGHT
END:VTIMEZONE
BEGIN:VEVENT
DTSTART;VALUE=DATE:20250512
DTEND;VALUE=DATE:20250513
DTSTAMP:20260421T135658
CREATED:20241116T005643Z
LAST-MODIFIED:20250417T030246Z
UID:10004504-1747008000-1747094399@www.leuragolfclub.com.au
SUMMARY:Women's Pennants @ Blackheath
DESCRIPTION:v Lithgow
URL:https://www.leuragolfclub.com.au/event/womens-pennants-2/
CATEGORIES:BM District Event
END:VEVENT
BEGIN:VEVENT
DTSTART;VALUE=DATE:20250513
DTEND;VALUE=DATE:20250514
DTSTAMP:20260421T135658
CREATED:20241116T011639Z
LAST-MODIFIED:20250310T001752Z
UID:10004520-1747094400-1747180799@www.leuragolfclub.com.au
SUMMARY:Women's Open Day
DESCRIPTION:https://www.leuragolfclub.com.au/womens-golf-day/
URL:https://www.leuragolfclub.com.au/event/womens-open-day/
CATEGORIES:LGC Function
END:VEVENT
BEGIN:VEVENT
DTSTART;VALUE=DATE:20250514
DTEND;VALUE=DATE:20250515
DTSTAMP:20260421T135658
CREATED:20241114T042434Z
LAST-MODIFIED:20241114T042434Z
UID:10004382-1747180800-1747267199@www.leuragolfclub.com.au
SUMMARY:Stableford Singles + 2BBB
DESCRIPTION:
URL:https://www.leuragolfclub.com.au/event/stableford-singles-2bbb-7/2025-05-14/
CATEGORIES:Wednesday Medley Comp
END:VEVENT
BEGIN:VEVENT
DTSTART;VALUE=DATE:20250515
DTEND;VALUE=DATE:20250516
DTSTAMP:20260421T135658
CREATED:20250110T000319Z
LAST-MODIFIED:20250110T000422Z
UID:10004615-1747267200-1747353599@www.leuragolfclub.com.au
SUMMARY:Trivia @ 7pm
DESCRIPTION:When: Every Thursday\, questions begin at 7 pm\nEntry Fee: Only $2 per player\nPrizes: Get ready to win delightful prizes including wine\, club vouchers\, and delicious chocolates.\n\nDon’t miss out on the action! Our bistro opens at 5:30 pm\, perfect for grabbing a bite before the trivia starts. Create your own table with friends and family\, and make it a night to remember. Whether you’re a trivia buff or just looking for a lively evening out\, there’s something for everyone.
URL:https://www.leuragolfclub.com.au/event/trivia-7pm-3/2025-05-15/
CATEGORIES:LGC Function
END:VEVENT
BEGIN:VEVENT
DTSTART;VALUE=DATE:20250517
DTEND;VALUE=DATE:20250518
DTSTAMP:20260421T135658
CREATED:20241115T032525Z
LAST-MODIFIED:20250509T005125Z
UID:10004475-1747440000-1747526399@www.leuragolfclub.com.au
SUMMARY:Men's Foursomes C/ship - Rd 1
DESCRIPTION:MEN’S FOURSOMES CHAMPIONSHIPS 2025\nCONDITIONS OF PLAY – ENTRANCE FEE $20 PER PLAYER \n\nFoursomes: Two players play as partners and use one ball. The players hit off alternately from the tee and thereafter strike the ball alternately during the play of each hole. If either player incurs a penalty stroke it does not alter the rotation of play.\nThe competition will be played according to the ‘Rules of Golf’ and competitors must be members of Leura Golf Club and hold an AGU handicap. Members are reminded that this is a club championship event and members’ attention is directed to By-Law 7  – see below. For the purposes of these Conditions of Play “Club Championships” where used in the by-law means “Men’s Foursome Championships”.\nThe competition will consist of two rounds of 18 holes foursomes stroke play from the blue tees. Preferred lies in accordance with the Local Rules will apply.\nFor Round 2 the order of play will be reversed from that of Round 1.\nRound 2 tee times shall commence at 8.28 am\, the B graders to hit off first followed by the A graders. Pair groups shall be decided by the Match Committee and if there shall be an odd number of pairs an A grade pair may be grouped with a B grade pair.\nThe handicap of each pair will be one half of their combined daily handicaps applicable at the commencement of Round 1.\nThe competition will be played in two grades\, namely\n\nA grade – pair handicaps of 16 or less\nB grade – pair handicaps of more than 16\, 36 being the maximum handicap.\n\n\nThe championship winners in each grade will be the pair who returns the best aggregate scratch score over the two rounds. There will be net winners in each grade. There will be prizes for the Runners-up.\nIn the event of a tie winners will be determined:\n\nIn the case of the best aggregate scratch score by a sudden death play off. The tied pairs shall play one extra hole at a time with the pairs still tied moving on to the next hole until a winning pair has been decided. The play off holes shall be holes 1\, 11\, 12 and 18 repeated as necessary.\nIn all other cases by count backs as applied by Golf Link.\n\n\nAll disputes must be in writing and will be decided by the Match Committee. Decisions will be final.\nIf in the opinion of the Match committee in conjunction with the Greenkeeper the course should be closed due to inclement weather the round affected shall not be played and shall be re-scheduled.\nThere will be no NTP competition for those playing in the foursomes championships.\n\n By-Law 7 – Club Championship Eligibility: \nTo be eligible to play in any Club Championship event\, a member shall have completed at least two (2) monthly medal rounds or at least five (5) competition rounds at Leura Golf Club in the 12 months immediately preceding the Club Championships. (ie the Club Championship event concerned) \nMedley club competition: There will be a Singles Stableford competition from the white (men) and red (women) tees for those who elect not to play in the championships. There will not be a 2 ball competition. There will be at least one NTP. \nMATCH COMMITTEE – LEURA GOLF CLUB \nLOCAL RULES – MEN’S FOURSOMES CHAMPIONSHIPS – 2025\nREFERENCE – RULES OF GOLF – 2019 \nThe Local Rules apply to the Championships except as noted\, expanded and/or clarified below. \nIMMOVABLE OBSTRUCTIONS – Rule 16 \nIncludes the artificial surfaces and sides of roads and paths including gravel paths. \nIMMOVABLE OBSTRUCTIONS CLOSE TO PUTTING GREEN  \nSPRINKLER HEADS \nRelief may be taken under Rule 16.1b if a sprinkler head or other immovable obstruction is on the line of play and is within two club lengths of the putting green\, and within two club lengths of the ball provided that there will be no relief if the line of play is clearly unreasonable. \nDROP ZONE \nThere is a clearly defined drop zone alongside\, and for play to\, the 6th green (left hand side) for relief from the nearby designated hedge area. \nSLOW PLAY – Rule 5.6 \nSlow play penalties will be imposed. General penalty for breach of Local Rules – 2 strokes. \nFOR AND ON BEHALF OF MATCH COMMITTEE
URL:https://www.leuragolfclub.com.au/event/mens-foursomes-c-ship-rd-1/
CATEGORIES:LGC Major Events
END:VEVENT
BEGIN:VEVENT
DTSTART;VALUE=DATE:20250517
DTEND;VALUE=DATE:20250518
DTSTAMP:20260421T135658
CREATED:20241115T032827Z
LAST-MODIFIED:20241115T032827Z
UID:10004477-1747440000-1747526399@www.leuragolfclub.com.au
SUMMARY:Stableford Singles - white tees
DESCRIPTION:
URL:https://www.leuragolfclub.com.au/event/stableford-singles-white-tees-5/
CATEGORIES:Saturday Medley Comp
END:VEVENT
END:VCALENDAR